BEGIN:VCALENDAR
VERSION:2.0
PRODID:-//Tremonton City - ECPv6.13.2.1//NONSGML v1.0//EN
CALSCALE:GREGORIAN
METHOD:PUBLISH
X-WR-CALNAME:Tremonton City
X-ORIGINAL-URL:https://tremontoncity.gov
X-WR-CALDESC:Events for Tremonton City
REFRESH-INTERVAL;VALUE=DURATION:PT1H
X-Robots-Tag:noindex
X-PUBLISHED-TTL:PT1H
BEGIN:VTIMEZONE
TZID:America/Denver
BEGIN:DAYLIGHT
TZOFFSETFROM:-0700
TZOFFSETTO:-0600
TZNAME:MDT
DTSTART:20210314T090000
END:DAYLIGHT
BEGIN:STANDARD
TZOFFSETFROM:-0600
TZOFFSETTO:-0700
TZNAME:MST
DTSTART:20211107T080000
END:STANDARD
END:VTIMEZONE
BEGIN:VEVENT
DTSTART;TZID=America/Denver:20210922T090000
DTEND;TZID=America/Denver:20210922T090000
DTSTAMP:20260419T225937
CREATED:20210105T195818Z
LAST-MODIFIED:20210105T195818Z
UID:25907-1632301200-1632301200@tremontoncity.gov
SUMMARY:Development Review Committee
DESCRIPTION:The Development Review Committee meets every Wednesday at 9:00 a.m. unless there are no agenda items to discuss.  Click here to see the Development Review Committee Agenda.
URL:https://tremontoncity.gov/event/development-review-committee-139/
LOCATION:Development Review Committee\, 102 S Tremont Street\, Tremonton\, 84337
CATEGORIES:Development Review Committee
END:VEVENT
BEGIN:VEVENT
DTSTART;TZID=America/Denver:20210921T180000
DTEND;TZID=America/Denver:20210921T180000
DTSTAMP:20260419T225937
CREATED:20210105T163855Z
LAST-MODIFIED:20210105T163855Z
UID:25765-1632247200-1632247200@tremontoncity.gov
SUMMARY:City Council
DESCRIPTION:Tremonton City Council meets on the 1st and 3rd Tuesdays of each month. Click here to view the City Council agenda.
URL:https://tremontoncity.gov/event/city-council-100/
LOCATION:City Council\, 102 S Tremont St\, Tremonton\, 84337\, United States
CATEGORIES:City Council
END:VEVENT
BEGIN:VEVENT
DTSTART;TZID=America/Denver:20210915T090000
DTEND;TZID=America/Denver:20210915T090000
DTSTAMP:20260419T225937
CREATED:20210105T195722Z
LAST-MODIFIED:20210105T195722Z
UID:25905-1631696400-1631696400@tremontoncity.gov
SUMMARY:Development Review Committee
DESCRIPTION:The Development Review Committee meets every Wednesday at 9:00 a.m. unless there are no agenda items to discuss.  Click here to see the Development Review Committee Agenda.
URL:https://tremontoncity.gov/event/development-review-committee-138/
LOCATION:Development Review Committee\, 102 S Tremont Street\, Tremonton\, 84337
CATEGORIES:Development Review Committee
END:VEVENT
BEGIN:VEVENT
DTSTART;TZID=America/Denver:20210914T173000
DTEND;TZID=America/Denver:20210914T173000
DTSTAMP:20260419T225937
CREATED:20210105T173652Z
LAST-MODIFIED:20210105T173652Z
UID:25817-1631640600-1631640600@tremontoncity.gov
SUMMARY:Planning Commission
DESCRIPTION:The Planning Commission meets the 2nd\, 4th\, and 5th Tuesdays of each month.  Click here to see the Planning Commission Agenda.
URL:https://tremontoncity.gov/event/planning-commission-146/
LOCATION:Planning Commission\, 102 S Tremont Street\, Tremonton\, UT\, 84337\, United States
CATEGORIES:Planning Commission
END:VEVENT
BEGIN:VEVENT
DTSTART;TZID=America/Denver:20210908T090000
DTEND;TZID=America/Denver:20210908T090000
DTSTAMP:20260419T225937
CREATED:20210105T195544Z
LAST-MODIFIED:20210105T195544Z
UID:25903-1631091600-1631091600@tremontoncity.gov
SUMMARY:Development Review Committee
DESCRIPTION:The Development Review Committee meets every Wednesday at 9:00 a.m. unless there are no agenda items to discuss.  Click here to see the Development Review Committee Agenda.
URL:https://tremontoncity.gov/event/development-review-committee-137/
LOCATION:Development Review Committee\, 102 S Tremont Street\, Tremonton\, 84337
CATEGORIES:Development Review Committee
END:VEVENT
BEGIN:VEVENT
DTSTART;TZID=America/Denver:20210907T180000
DTEND;TZID=America/Denver:20210907T180000
DTSTAMP:20260419T225937
CREATED:20210105T163821Z
LAST-MODIFIED:20210105T163821Z
UID:25763-1631037600-1631037600@tremontoncity.gov
SUMMARY:City Council
DESCRIPTION:Tremonton City Council meets on the 1st and 3rd Tuesdays of each month. Click here to view the City Council agenda.
URL:https://tremontoncity.gov/event/city-council-99/
LOCATION:City Council\, 102 S Tremont St\, Tremonton\, 84337\, United States
CATEGORIES:City Council
END:VEVENT
BEGIN:VEVENT
DTSTART;TZID=America/Denver:20210901T090000
DTEND;TZID=America/Denver:20210901T090000
DTSTAMP:20260419T225937
CREATED:20210105T195500Z
LAST-MODIFIED:20210105T195500Z
UID:25901-1630486800-1630486800@tremontoncity.gov
SUMMARY:Development Review Committee
DESCRIPTION:The Development Review Committee meets every Wednesday at 9:00 a.m. unless there are no agenda items to discuss.  Click here to see the Development Review Committee Agenda.
URL:https://tremontoncity.gov/event/development-review-committee-136/
LOCATION:Development Review Committee\, 102 S Tremont Street\, Tremonton\, 84337
CATEGORIES:Development Review Committee
END:VEVENT
BEGIN:VEVENT
DTSTART;TZID=America/Denver:20210831T173000
DTEND;TZID=America/Denver:20210831T173000
DTSTAMP:20260419T225937
CREATED:20210105T173602Z
LAST-MODIFIED:20210105T173602Z
UID:25815-1630431000-1630431000@tremontoncity.gov
SUMMARY:Planning Commission
DESCRIPTION:The Planning Commission meets the 2nd\, 4th\, and 5th Tuesdays of each month.  Click here to see the Planning Commission Agenda.
URL:https://tremontoncity.gov/event/planning-commission-145/
LOCATION:Planning Commission\, 102 S Tremont Street\, Tremonton\, UT\, 84337\, United States
CATEGORIES:Planning Commission
END:VEVENT
BEGIN:VEVENT
DTSTART;TZID=America/Denver:20210825T090000
DTEND;TZID=America/Denver:20210825T090000
DTSTAMP:20260419T225937
CREATED:20210105T190323Z
LAST-MODIFIED:20210105T190323Z
UID:25898-1629882000-1629882000@tremontoncity.gov
SUMMARY:Development Review Committee
DESCRIPTION:The Development Review Committee meets every Wednesday at 9:00 a.m. unless there are no agenda items to discuss.  Click here to see the Development Review Committee Agenda.
URL:https://tremontoncity.gov/event/development-review-committee-135/
LOCATION:Development Review Committee\, 102 S Tremont Street\, Tremonton\, 84337
CATEGORIES:Development Review Committee
END:VEVENT
BEGIN:VEVENT
DTSTART;TZID=America/Denver:20210824T173000
DTEND;TZID=America/Denver:20210824T173000
DTSTAMP:20260419T225937
CREATED:20210105T173509Z
LAST-MODIFIED:20210105T173509Z
UID:25813-1629826200-1629826200@tremontoncity.gov
SUMMARY:Planning Commission
DESCRIPTION:The Planning Commission meets the 2nd\, 4th\, and 5th Tuesdays of each month.  Click here to see the Planning Commission Agenda.
URL:https://tremontoncity.gov/event/planning-commission-144/
LOCATION:Planning Commission\, 102 S Tremont Street\, Tremonton\, UT\, 84337\, United States
CATEGORIES:Planning Commission
END:VEVENT
BEGIN:VEVENT
DTSTART;TZID=America/Denver:20210818T090000
DTEND;TZID=America/Denver:20210818T090000
DTSTAMP:20260419T225937
CREATED:20210105T182621Z
LAST-MODIFIED:20210105T182621Z
UID:25896-1629277200-1629277200@tremontoncity.gov
SUMMARY:Development Review Committee
DESCRIPTION:The Development Review Committee meets every Wednesday at 9:00 a.m. unless there are no agenda items to discuss.  Click here to see the Development Review Committee Agenda.
URL:https://tremontoncity.gov/event/development-review-committee-134/
LOCATION:Development Review Committee\, 102 S Tremont Street\, Tremonton\, 84337
CATEGORIES:Development Review Committee
END:VEVENT
BEGIN:VEVENT
DTSTART;TZID=America/Denver:20210817T180000
DTEND;TZID=America/Denver:20210817T180000
DTSTAMP:20260419T225937
CREATED:20210105T163733Z
LAST-MODIFIED:20210105T163733Z
UID:25761-1629223200-1629223200@tremontoncity.gov
SUMMARY:City Council
DESCRIPTION:Tremonton City Council meets on the 1st and 3rd Tuesdays of each month. Click here to view the City Council agenda.
URL:https://tremontoncity.gov/event/city-council-98/
LOCATION:City Council\, 102 S Tremont St\, Tremonton\, 84337\, United States
CATEGORIES:City Council
END:VEVENT
BEGIN:VEVENT
DTSTART;TZID=America/Denver:20210811T090000
DTEND;TZID=America/Denver:20210811T090000
DTSTAMP:20260419T225937
CREATED:20210105T182544Z
LAST-MODIFIED:20210105T182544Z
UID:25894-1628672400-1628672400@tremontoncity.gov
SUMMARY:Development Review Committee
DESCRIPTION:The Development Review Committee meets every Wednesday at 9:00 a.m. unless there are no agenda items to discuss.  Click here to see the Development Review Committee Agenda.
URL:https://tremontoncity.gov/event/development-review-committee-133/
LOCATION:Development Review Committee\, 102 S Tremont Street\, Tremonton\, 84337
CATEGORIES:Development Review Committee
END:VEVENT
BEGIN:VEVENT
DTSTART;TZID=America/Denver:20210810T173000
DTEND;TZID=America/Denver:20210810T173000
DTSTAMP:20260419T225937
CREATED:20210105T173425Z
LAST-MODIFIED:20210105T173425Z
UID:25811-1628616600-1628616600@tremontoncity.gov
SUMMARY:Planning Commission
DESCRIPTION:The Planning Commission meets the 2nd\, 4th\, and 5th Tuesdays of each month.  Click here to see the Planning Commission Agenda.
URL:https://tremontoncity.gov/event/planning-commission-143/
LOCATION:Planning Commission\, 102 S Tremont Street\, Tremonton\, UT\, 84337\, United States
CATEGORIES:Planning Commission
END:VEVENT
BEGIN:VEVENT
DTSTART;TZID=America/Denver:20210804T090000
DTEND;TZID=America/Denver:20210804T090000
DTSTAMP:20260419T225937
CREATED:20210105T182501Z
LAST-MODIFIED:20210105T182501Z
UID:25892-1628067600-1628067600@tremontoncity.gov
SUMMARY:Development Review Committee
DESCRIPTION:The Development Review Committee meets every Wednesday at 9:00 a.m. unless there are no agenda items to discuss.  Click here to see the Development Review Committee Agenda.
URL:https://tremontoncity.gov/event/development-review-committee-132/
LOCATION:Development Review Committee\, 102 S Tremont Street\, Tremonton\, 84337
CATEGORIES:Development Review Committee
END:VEVENT
BEGIN:VEVENT
DTSTART;TZID=America/Denver:20210803T180000
DTEND;TZID=America/Denver:20210803T180000
DTSTAMP:20260419T225937
CREATED:20210722T213101Z
LAST-MODIFIED:20210722T213137Z
UID:27067-1628013600-1628013600@tremontoncity.gov
SUMMARY:Public Hearing - Proposed Tax Increase
DESCRIPTION:NOTICE OF PROPOSED TAX INCREASE\nTremonton City \nThe Tremonton City is proposing to increase its property tax revenue. \n– The Tremonton City tax on a $280\,000 residence would increase from $350.97 to $392.39\, which is $41.42 per year. \n– The Tremonton City tax on a $280\,000 business could increase from $638.12 to $713.44\, which is $75 year. \n– If the proposed budget is approved\, Tremonton City would increase its property tax budgeted revenue by 11.81% above last year’s property tax budgeted revenue excluding eligible new growth. \nAll concerned citizens are invited to a public hearing on the tax increase. \nDate/Time: Location: \nPUBLIC HEARING\n8/3/2021 6:00 PM\nTremonton City Offices City Council Chambers 102 S Tremont Street\nTremonton \nTo obtain more information regarding the tax increase\, citizens may contact Tremonton City at 435-257-9504. \n 
URL:https://tremontoncity.gov/event/public-hearing-proposed-tax-increase/
END:VEVENT
BEGIN:VEVENT
DTSTART;TZID=America/Denver:20210803T180000
DTEND;TZID=America/Denver:20210803T180000
DTSTAMP:20260419T225937
CREATED:20210105T163652Z
LAST-MODIFIED:20210105T163652Z
UID:25759-1628013600-1628013600@tremontoncity.gov
SUMMARY:City Council
DESCRIPTION:Tremonton City Council meets on the 1st and 3rd Tuesdays of each month. Click here to view the City Council agenda.
URL:https://tremontoncity.gov/event/city-council-97/
LOCATION:City Council\, 102 S Tremont St\, Tremonton\, 84337\, United States
CATEGORIES:City Council
END:VEVENT
BEGIN:VEVENT
DTSTART;TZID=America/Denver:20210728T090000
DTEND;TZID=America/Denver:20210728T090000
DTSTAMP:20260419T225937
CREATED:20210105T182417Z
LAST-MODIFIED:20210105T182417Z
UID:25890-1627462800-1627462800@tremontoncity.gov
SUMMARY:Development Review Committee
DESCRIPTION:The Development Review Committee meets every Wednesday at 9:00 a.m. unless there are no agenda items to discuss.  Click here to see the Development Review Committee Agenda.
URL:https://tremontoncity.gov/event/development-review-committee-131/
LOCATION:Development Review Committee\, 102 S Tremont Street\, Tremonton\, 84337
CATEGORIES:Development Review Committee
END:VEVENT
BEGIN:VEVENT
DTSTART;TZID=America/Denver:20210727T173000
DTEND;TZID=America/Denver:20210727T173000
DTSTAMP:20260419T225937
CREATED:20210105T173341Z
LAST-MODIFIED:20210105T173341Z
UID:25809-1627407000-1627407000@tremontoncity.gov
SUMMARY:Planning Commission
DESCRIPTION:The Planning Commission meets the 2nd\, 4th\, and 5th Tuesdays of each month.  Click here to see the Planning Commission Agenda.
URL:https://tremontoncity.gov/event/planning-commission-142/
LOCATION:Planning Commission\, 102 S Tremont Street\, Tremonton\, UT\, 84337\, United States
CATEGORIES:Planning Commission
END:VEVENT
BEGIN:VEVENT
DTSTART;TZID=America/Denver:20210721T090000
DTEND;TZID=America/Denver:20210721T090000
DTSTAMP:20260419T225937
CREATED:20210105T182340Z
LAST-MODIFIED:20210105T182340Z
UID:25888-1626858000-1626858000@tremontoncity.gov
SUMMARY:Development Review Committee
DESCRIPTION:The Development Review Committee meets every Wednesday at 9:00 a.m. unless there are no agenda items to discuss.  Click here to see the Development Review Committee Agenda.
URL:https://tremontoncity.gov/event/development-review-committee-130/
LOCATION:Development Review Committee\, 102 S Tremont Street\, Tremonton\, 84337
CATEGORIES:Development Review Committee
END:VEVENT
BEGIN:VEVENT
DTSTART;TZID=America/Denver:20210720T180000
DTEND;TZID=America/Denver:20210720T180000
DTSTAMP:20260419T225937
CREATED:20210105T163609Z
LAST-MODIFIED:20210105T163609Z
UID:25757-1626804000-1626804000@tremontoncity.gov
SUMMARY:City Council
DESCRIPTION:Tremonton City Council meets on the 1st and 3rd Tuesdays of each month. Click here to view the City Council agenda.
URL:https://tremontoncity.gov/event/city-council-96/
LOCATION:City Council\, 102 S Tremont St\, Tremonton\, 84337\, United States
CATEGORIES:City Council
END:VEVENT
BEGIN:VEVENT
DTSTART;TZID=America/Denver:20210714T090000
DTEND;TZID=America/Denver:20210714T090000
DTSTAMP:20260419T225937
CREATED:20210105T182235Z
LAST-MODIFIED:20210105T182235Z
UID:25886-1626253200-1626253200@tremontoncity.gov
SUMMARY:Development Review Committee
DESCRIPTION:The Development Review Committee meets every Wednesday at 9:00 a.m. unless there are no agenda items to discuss.  Click here to see the Development Review Committee Agenda.
URL:https://tremontoncity.gov/event/development-review-committee-129/
LOCATION:Development Review Committee\, 102 S Tremont Street\, Tremonton\, 84337
CATEGORIES:Development Review Committee
END:VEVENT
BEGIN:VEVENT
DTSTART;TZID=America/Denver:20210713T173000
DTEND;TZID=America/Denver:20210713T173000
DTSTAMP:20260419T225937
CREATED:20210105T173250Z
LAST-MODIFIED:20210105T173250Z
UID:25807-1626197400-1626197400@tremontoncity.gov
SUMMARY:Planning Commission
DESCRIPTION:The Planning Commission meets the 2nd\, 4th\, and 5th Tuesdays of each month.  Click here to see the Planning Commission Agenda.
URL:https://tremontoncity.gov/event/planning-commission-141/
LOCATION:Planning Commission\, 102 S Tremont Street\, Tremonton\, UT\, 84337\, United States
CATEGORIES:Planning Commission
END:VEVENT
BEGIN:VEVENT
DTSTART;TZID=America/Denver:20210707T090000
DTEND;TZID=America/Denver:20210707T090000
DTSTAMP:20260419T225937
CREATED:20210105T182146Z
LAST-MODIFIED:20210105T182146Z
UID:25884-1625648400-1625648400@tremontoncity.gov
SUMMARY:Development Review Committee
DESCRIPTION:The Development Review Committee meets every Wednesday at 9:00 a.m. unless there are no agenda items to discuss.  Click here to see the Development Review Committee Agenda.
URL:https://tremontoncity.gov/event/development-review-committee-128/
LOCATION:Development Review Committee\, 102 S Tremont Street\, Tremonton\, 84337
CATEGORIES:Development Review Committee
END:VEVENT
BEGIN:VEVENT
DTSTART;TZID=America/Denver:20210706T180000
DTEND;TZID=America/Denver:20210706T180000
DTSTAMP:20260419T225937
CREATED:20210105T163528Z
LAST-MODIFIED:20210105T163528Z
UID:25755-1625594400-1625594400@tremontoncity.gov
SUMMARY:City Council
DESCRIPTION:Tremonton City Council meets on the 1st and 3rd Tuesdays of each month. Click here to view the City Council agenda.
URL:https://tremontoncity.gov/event/city-council-95/
LOCATION:City Council\, 102 S Tremont St\, Tremonton\, 84337\, United States
CATEGORIES:City Council
END:VEVENT
BEGIN:VEVENT
DTSTART;TZID=America/Denver:20210630T090000
DTEND;TZID=America/Denver:20210630T090000
DTSTAMP:20260419T225937
CREATED:20210105T182055Z
LAST-MODIFIED:20210105T182055Z
UID:25882-1625043600-1625043600@tremontoncity.gov
SUMMARY:Development Review Committee
DESCRIPTION:The Development Review Committee meets every Wednesday at 9:00 a.m. unless there are no agenda items to discuss.  Click here to see the Development Review Committee Agenda.
URL:https://tremontoncity.gov/event/development-review-committee-127/
LOCATION:Development Review Committee\, 102 S Tremont Street\, Tremonton\, 84337
CATEGORIES:Development Review Committee
END:VEVENT
BEGIN:VEVENT
DTSTART;TZID=America/Denver:20210629T173000
DTEND;TZID=America/Denver:20210629T173000
DTSTAMP:20260419T225937
CREATED:20210105T173132Z
LAST-MODIFIED:20210105T173132Z
UID:25805-1624987800-1624987800@tremontoncity.gov
SUMMARY:Planning  Commission
DESCRIPTION:The Planning Commission meets the 2nd\, 4th\, and 5th Tuesdays of each month.  Click here to see the Planning Commission Agenda.
URL:https://tremontoncity.gov/event/planning-commission-140/
LOCATION:Planning Commission\, 102 S Tremont Street\, Tremonton\, UT\, 84337\, United States
CATEGORIES:Planning Commission
END:VEVENT
BEGIN:VEVENT
DTSTART;TZID=America/Denver:20210623T090000
DTEND;TZID=America/Denver:20210623T090000
DTSTAMP:20260419T225937
CREATED:20210105T182007Z
LAST-MODIFIED:20210105T182007Z
UID:25880-1624438800-1624438800@tremontoncity.gov
SUMMARY:Development Review Committee
DESCRIPTION:The Development Review Committee meets every Wednesday at 9:00 a.m. unless there are no agenda items to discuss.  Click here to see the Development Review Committee Agenda.
URL:https://tremontoncity.gov/event/development-review-committee-126/
LOCATION:Development Review Committee\, 102 S Tremont Street\, Tremonton\, 84337
CATEGORIES:Development Review Committee
END:VEVENT
BEGIN:VEVENT
DTSTART;TZID=America/Denver:20210622T173000
DTEND;TZID=America/Denver:20210622T173000
DTSTAMP:20260419T225937
CREATED:20210105T172808Z
LAST-MODIFIED:20210105T172808Z
UID:25803-1624383000-1624383000@tremontoncity.gov
SUMMARY:Planning Commission
DESCRIPTION:The Planning Commission meets the 2nd\, 4th\, and 5th Tuesdays of each month.  Click here to see the Planning Commission Agenda.
URL:https://tremontoncity.gov/event/planning-commission-139/
LOCATION:Planning Commission\, 102 S Tremont Street\, Tremonton\, UT\, 84337\, United States
CATEGORIES:Planning Commission
END:VEVENT
BEGIN:VEVENT
DTSTART;TZID=America/Denver:20210616T090000
DTEND;TZID=America/Denver:20210616T090000
DTSTAMP:20260419T225937
CREATED:20210105T181925Z
LAST-MODIFIED:20210105T181925Z
UID:25878-1623834000-1623834000@tremontoncity.gov
SUMMARY:Development Review Committee
DESCRIPTION:The Development Review Committee meets every Wednesday at 9:00 a.m. unless there are no agenda items to discuss.  Click here to see the Development Review Committee Agenda.
URL:https://tremontoncity.gov/event/development-review-committee-125/
LOCATION:Development Review Committee\, 102 S Tremont Street\, Tremonton\, 84337
CATEGORIES:Development Review Committee
END:VEVENT
END:VCALENDAR