BEGIN:VCALENDAR
VERSION:2.0
PRODID:-//Tremonton City - ECPv6.13.2.1//NONSGML v1.0//EN
CALSCALE:GREGORIAN
METHOD:PUBLISH
X-WR-CALNAME:Tremonton City
X-ORIGINAL-URL:https://tremontoncity.gov
X-WR-CALDESC:Events for Tremonton City
REFRESH-INTERVAL;VALUE=DURATION:PT1H
X-Robots-Tag:noindex
X-PUBLISHED-TTL:PT1H
BEGIN:VTIMEZONE
TZID:America/Denver
BEGIN:DAYLIGHT
TZOFFSETFROM:-0700
TZOFFSETTO:-0600
TZNAME:MDT
DTSTART:20200308T090000
END:DAYLIGHT
BEGIN:STANDARD
TZOFFSETFROM:-0600
TZOFFSETTO:-0700
TZNAME:MST
DTSTART:20201101T080000
END:STANDARD
BEGIN:DAYLIGHT
TZOFFSETFROM:-0700
TZOFFSETTO:-0600
TZNAME:MDT
DTSTART:20210314T090000
END:DAYLIGHT
BEGIN:STANDARD
TZOFFSETFROM:-0600
TZOFFSETTO:-0700
TZNAME:MST
DTSTART:20211107T080000
END:STANDARD
END:VTIMEZONE
BEGIN:VEVENT
DTSTART;TZID=America/Denver:20210120T090000
DTEND;TZID=America/Denver:20210120T093000
DTSTAMP:20260420T004520
CREATED:20200108T233508Z
LAST-MODIFIED:20200108T233508Z
UID:23688-1611133200-1611135000@tremontoncity.gov
SUMMARY:Development Review Committee
DESCRIPTION:The Development Review Committee meets every Wednesday at 9:00 a.m. unless there are no agenda items to discuss.  Click here to see the Development Review Committee Agenda.
URL:https://tremontoncity.gov/event/development-review-committee-103/
LOCATION:Development Review Committee\, 102 S Tremont Street\, Tremonton\, 84337
CATEGORIES:Development Review Committee
END:VEVENT
BEGIN:VEVENT
DTSTART;TZID=America/Denver:20210119T180000
DTEND;TZID=America/Denver:20210119T180000
DTSTAMP:20260420T004520
CREATED:20200109T171902Z
LAST-MODIFIED:20200109T171902Z
UID:23792-1611079200-1611079200@tremontoncity.gov
SUMMARY:City Council
DESCRIPTION:Tremonton City Council meets on the 1st and 3rd Tuesdays of each month. Click here to view the City Council agenda.
URL:https://tremontoncity.gov/event/city-council-84/
LOCATION:City Council\, 102 S Tremont St\, Tremonton\, 84337\, United States
CATEGORIES:City Council
END:VEVENT
BEGIN:VEVENT
DTSTART;TZID=America/Denver:20210113T090000
DTEND;TZID=America/Denver:20210113T093000
DTSTAMP:20260420T004520
CREATED:20200108T233428Z
LAST-MODIFIED:20200108T233428Z
UID:23686-1610528400-1610530200@tremontoncity.gov
SUMMARY:Development Review Committee
DESCRIPTION:The Development Review Committee meets every Wednesday at 9:00 a.m. unless there are no agenda items to discuss.  Click here to see the Development Review Committee Agenda.
URL:https://tremontoncity.gov/event/development-review-committee-102/
LOCATION:Development Review Committee\, 102 S Tremont Street\, Tremonton\, 84337
CATEGORIES:Development Review Committee
END:VEVENT
BEGIN:VEVENT
DTSTART;TZID=America/Denver:20210112T173000
DTEND;TZID=America/Denver:20210112T173000
DTSTAMP:20260420T004520
CREATED:20200109T164708Z
LAST-MODIFIED:20200109T164708Z
UID:23748-1610472600-1610472600@tremontoncity.gov
SUMMARY:Planning Commission
DESCRIPTION:The Planning Commission meets the 2nd\, 4th\, and 5th Tuesdays of each month.  Click here to see the Planning Commission Agenda.
URL:https://tremontoncity.gov/event/planning-commission-128/
LOCATION:Planning Commission\, 102 S Tremont Street\, Tremonton\, UT\, 84337\, United States
CATEGORIES:Planning Commission
END:VEVENT
BEGIN:VEVENT
DTSTART;TZID=America/Denver:20210106T090000
DTEND;TZID=America/Denver:20210106T093000
DTSTAMP:20260420T004520
CREATED:20200108T233339Z
LAST-MODIFIED:20200108T233339Z
UID:23684-1609923600-1609925400@tremontoncity.gov
SUMMARY:Development Review Committee
DESCRIPTION:The Development Review Committee meets every Wednesday at 9:00 a.m. unless there are no agenda items to discuss.  Click here to see the Development Review Committee Agenda.
URL:https://tremontoncity.gov/event/development-review-committee-101/
LOCATION:Development Review Committee\, 102 S Tremont Street\, Tremonton\, 84337
CATEGORIES:Development Review Committee
END:VEVENT
BEGIN:VEVENT
DTSTART;TZID=America/Denver:20210105T180000
DTEND;TZID=America/Denver:20210105T180000
DTSTAMP:20260420T004520
CREATED:20200109T171813Z
LAST-MODIFIED:20200109T171813Z
UID:23790-1609869600-1609869600@tremontoncity.gov
SUMMARY:City Council
DESCRIPTION:Tremonton City Council meets on the 1st and 3rd Tuesdays of each month. Click here to view the City Council agenda.
URL:https://tremontoncity.gov/event/city-council-83/
LOCATION:City Council\, 102 S Tremont St\, Tremonton\, 84337\, United States
CATEGORIES:City Council
END:VEVENT
BEGIN:VEVENT
DTSTART;TZID=America/Denver:20201222T173000
DTEND;TZID=America/Denver:20201222T173000
DTSTAMP:20260420T004520
CREATED:20200109T164623Z
LAST-MODIFIED:20200109T164623Z
UID:23746-1608658200-1608658200@tremontoncity.gov
SUMMARY:Planning Commission
DESCRIPTION:The Planning Commission meets the 2nd\, 4th\, and 5th Tuesdays of each month.  Click here to see the Planning Commission Agenda.
URL:https://tremontoncity.gov/event/planning-commission-127/
LOCATION:Planning Commission\, 102 S Tremont Street\, Tremonton\, UT\, 84337\, United States
CATEGORIES:Planning Commission
END:VEVENT
BEGIN:VEVENT
DTSTART;TZID=America/Denver:20201216T090000
DTEND;TZID=America/Denver:20201216T093000
DTSTAMP:20260420T004520
CREATED:20200108T233256Z
LAST-MODIFIED:20200108T233256Z
UID:23682-1608109200-1608111000@tremontoncity.gov
SUMMARY:Development Review Committee
DESCRIPTION:The Development Review Committee meets every Wednesday at 9:00 a.m. unless there are no agenda items to discuss.  Click here to see the Development Review Committee Agenda.
URL:https://tremontoncity.gov/event/development-review-committee-100/
LOCATION:Development Review Committee\, 102 S Tremont Street\, Tremonton\, 84337
CATEGORIES:Development Review Committee
END:VEVENT
BEGIN:VEVENT
DTSTART;TZID=America/Denver:20201209T090000
DTEND;TZID=America/Denver:20201209T093000
DTSTAMP:20260420T004520
CREATED:20200108T233212Z
LAST-MODIFIED:20200108T233212Z
UID:23680-1607504400-1607506200@tremontoncity.gov
SUMMARY:Development Review Committee
DESCRIPTION:The Development Review Committee meets every Wednesday at 9:00 a.m. unless there are no agenda items to discuss.  Click here to see the Development Review Committee Agenda.
URL:https://tremontoncity.gov/event/development-review-committee-99/
LOCATION:Development Review Committee\, 102 S Tremont Street\, Tremonton\, 84337
CATEGORIES:Development Review Committee
END:VEVENT
BEGIN:VEVENT
DTSTART;TZID=America/Denver:20201208T173000
DTEND;TZID=America/Denver:20201208T173000
DTSTAMP:20260420T004520
CREATED:20200109T164541Z
LAST-MODIFIED:20200109T164541Z
UID:23744-1607448600-1607448600@tremontoncity.gov
SUMMARY:Planning Commission
DESCRIPTION:The Planning Commission meets the 2nd\, 4th\, and 5th Tuesdays of each month.  Click here to see the Planning Commission Agenda.
URL:https://tremontoncity.gov/event/planning-commission-126/
LOCATION:Planning Commission\, 102 S Tremont Street\, Tremonton\, UT\, 84337\, United States
CATEGORIES:Planning Commission
END:VEVENT
BEGIN:VEVENT
DTSTART;TZID=America/Denver:20201202T090000
DTEND;TZID=America/Denver:20201202T093000
DTSTAMP:20260420T004520
CREATED:20200108T233120Z
LAST-MODIFIED:20200108T233120Z
UID:23678-1606899600-1606901400@tremontoncity.gov
SUMMARY:Development Review Committee
DESCRIPTION:The Development Review Committee meets every Wednesday at 9:00 a.m. unless there are no agenda items to discuss.  Click here to see the Development Review Committee Agenda.
URL:https://tremontoncity.gov/event/development-review-committee-98/
LOCATION:Development Review Committee\, 102 S Tremont Street\, Tremonton\, 84337
CATEGORIES:Development Review Committee
END:VEVENT
BEGIN:VEVENT
DTSTART;TZID=America/Denver:20201201T180000
DTEND;TZID=America/Denver:20201201T180000
DTSTAMP:20260420T004520
CREATED:20200109T171731Z
LAST-MODIFIED:20200109T171731Z
UID:23788-1606845600-1606845600@tremontoncity.gov
SUMMARY:City Council
DESCRIPTION:Tremonton City Council meets on the 1st and 3rd Tuesdays of each month. Click here to view the City Council agenda.
URL:https://tremontoncity.gov/event/city-council-82/
LOCATION:City Council\, 102 S Tremont St\, Tremonton\, 84337\, United States
CATEGORIES:City Council
END:VEVENT
BEGIN:VEVENT
DTSTART;TZID=America/Denver:20201125T090000
DTEND;TZID=America/Denver:20201125T093000
DTSTAMP:20260420T004520
CREATED:20200108T232943Z
LAST-MODIFIED:20200108T232943Z
UID:23676-1606294800-1606296600@tremontoncity.gov
SUMMARY:Development Review Committee
DESCRIPTION:The Development Review Committee meets every Wednesday at 9:00 a.m. unless there are no agenda items to discuss.  Click here to see the Development Review Committee Agenda.
URL:https://tremontoncity.gov/event/development-review-committee-97/
LOCATION:Development Review Committee\, 102 S Tremont Street\, Tremonton\, 84337
CATEGORIES:Development Review Committee
END:VEVENT
BEGIN:VEVENT
DTSTART;TZID=America/Denver:20201124T080000
DTEND;TZID=America/Denver:20201124T170000
DTSTAMP:20260420T004520
CREATED:20200109T164457Z
LAST-MODIFIED:20200109T164457Z
UID:23742-1606204800-1606237200@tremontoncity.gov
SUMMARY:Planning Commission
DESCRIPTION:The Planning Commission meets the 2nd\, 4th\, and 5th Tuesdays of each month.  Click here to see the Planning Commission Agenda.
URL:https://tremontoncity.gov/event/planning-commission-125/
LOCATION:Planning Commission\, 102 S Tremont Street\, Tremonton\, UT\, 84337\, United States
CATEGORIES:Planning Commission
END:VEVENT
BEGIN:VEVENT
DTSTART;TZID=America/Denver:20201118T090000
DTEND;TZID=America/Denver:20201118T093000
DTSTAMP:20260420T004520
CREATED:20200108T232855Z
LAST-MODIFIED:20200108T232855Z
UID:23674-1605690000-1605691800@tremontoncity.gov
SUMMARY:Development Review Committee
DESCRIPTION:The Development Review Committee meets every Wednesday at 9:00 a.m. unless there are no agenda items to discuss.  Click here to see the Development Review Committee Agenda.
URL:https://tremontoncity.gov/event/development-review-committee-96/
LOCATION:Development Review Committee\, 102 S Tremont Street\, Tremonton\, 84337
CATEGORIES:Development Review Committee
END:VEVENT
BEGIN:VEVENT
DTSTART;TZID=America/Denver:20201117T180000
DTEND;TZID=America/Denver:20201117T180000
DTSTAMP:20260420T004520
CREATED:20200109T171651Z
LAST-MODIFIED:20200109T171651Z
UID:23786-1605636000-1605636000@tremontoncity.gov
SUMMARY:City Council
DESCRIPTION:Tremonton City Council meets on the 1st and 3rd Tuesdays of each month. Click here to view the City Council agenda.
URL:https://tremontoncity.gov/event/city-council-81/
LOCATION:City Council\, 102 S Tremont St\, Tremonton\, 84337\, United States
CATEGORIES:City Council
END:VEVENT
BEGIN:VEVENT
DTSTART;TZID=America/Denver:20201110T080000
DTEND;TZID=America/Denver:20201110T170000
DTSTAMP:20260420T004520
CREATED:20200109T164406Z
LAST-MODIFIED:20200109T164406Z
UID:23740-1604995200-1605027600@tremontoncity.gov
SUMMARY:Planning Commission
DESCRIPTION:The Planning Commission meets the 2nd\, 4th\, and 5th Tuesdays of each month.  Click here to see the Planning Commission Agenda.
URL:https://tremontoncity.gov/event/planning-commission-124/
LOCATION:Planning Commission\, 102 S Tremont Street\, Tremonton\, UT\, 84337\, United States
CATEGORIES:Planning Commission
END:VEVENT
BEGIN:VEVENT
DTSTART;TZID=America/Denver:20201104T090000
DTEND;TZID=America/Denver:20201104T093000
DTSTAMP:20260420T004520
CREATED:20200108T232810Z
LAST-MODIFIED:20200108T232810Z
UID:23672-1604480400-1604482200@tremontoncity.gov
SUMMARY:Development Review Committee
DESCRIPTION:The Development Review Committee meets every Wednesday at 9:00 a.m. unless there are no agenda items to discuss.  Click here to see the Development Review Committee Agenda.
URL:https://tremontoncity.gov/event/development-review-committee-95/
LOCATION:Development Review Committee\, 102 S Tremont Street\, Tremonton\, 84337
CATEGORIES:Development Review Committee
END:VEVENT
BEGIN:VEVENT
DTSTART;TZID=America/Denver:20201028T090000
DTEND;TZID=America/Denver:20201028T093000
DTSTAMP:20260420T004520
CREATED:20200108T232730Z
LAST-MODIFIED:20200108T232730Z
UID:23670-1603875600-1603877400@tremontoncity.gov
SUMMARY:Development Review Committee
DESCRIPTION:The Development Review Committee meets every Wednesday at 9:00 a.m. unless there are no agenda items to discuss.  Click here to see the Development Review Committee Agenda.
URL:https://tremontoncity.gov/event/development-review-committee-94/
LOCATION:Development Review Committee\, 102 S Tremont Street\, Tremonton\, 84337
CATEGORIES:Development Review Committee
END:VEVENT
BEGIN:VEVENT
DTSTART;TZID=America/Denver:20201027T173000
DTEND;TZID=America/Denver:20201027T173000
DTSTAMP:20260420T004520
CREATED:20200109T164329Z
LAST-MODIFIED:20200109T164329Z
UID:23738-1603819800-1603819800@tremontoncity.gov
SUMMARY:Planning Commission
DESCRIPTION:The Planning Commission meets the 2nd\, 4th\, and 5th Tuesdays of each month.  Click here to see the Planning Commission Agenda.
URL:https://tremontoncity.gov/event/planning-commission-123/
LOCATION:Planning Commission\, 102 S Tremont Street\, Tremonton\, UT\, 84337\, United States
CATEGORIES:Planning Commission
END:VEVENT
BEGIN:VEVENT
DTSTART;TZID=America/Denver:20201021T190000
DTEND;TZID=America/Denver:20201021T193000
DTSTAMP:20260420T004520
CREATED:20200108T234718Z
LAST-MODIFIED:20200108T234718Z
UID:23698-1603306800-1603308600@tremontoncity.gov
SUMMARY:Library Board
DESCRIPTION:The Library Board meets quarterly. Please click here to see the schedule.
URL:https://tremontoncity.gov/event/library-board-4/
LOCATION:Library Board Meeting\, 210 N Tremont St\, Tremonton\, UT\, 84337\, United States
END:VEVENT
BEGIN:VEVENT
DTSTART;TZID=America/Denver:20201021T090000
DTEND;TZID=America/Denver:20201021T093000
DTSTAMP:20260420T004520
CREATED:20200108T232651Z
LAST-MODIFIED:20200108T232651Z
UID:23668-1603270800-1603272600@tremontoncity.gov
SUMMARY:Development Review Committee
DESCRIPTION:The Development Review Committee meets every Wednesday at 9:00 a.m. unless there are no agenda items to discuss.  Click here to see the Development Review Committee Agenda.
URL:https://tremontoncity.gov/event/development-review-committee-93/
LOCATION:Development Review Committee\, 102 S Tremont Street\, Tremonton\, 84337
CATEGORIES:Development Review Committee
END:VEVENT
BEGIN:VEVENT
DTSTART;TZID=America/Denver:20201020T180000
DTEND;TZID=America/Denver:20201020T180000
DTSTAMP:20260420T004520
CREATED:20200109T171609Z
LAST-MODIFIED:20200109T171609Z
UID:23784-1603216800-1603216800@tremontoncity.gov
SUMMARY:City Council
DESCRIPTION:Tremonton City Council meets on the 1st and 3rd Tuesdays of each month. Click here to view the City Council agenda.
URL:https://tremontoncity.gov/event/city-council-80/
LOCATION:City Council\, 102 S Tremont St\, Tremonton\, 84337\, United States
CATEGORIES:City Council
END:VEVENT
BEGIN:VEVENT
DTSTART;TZID=America/Denver:20201014T090000
DTEND;TZID=America/Denver:20201014T093000
DTSTAMP:20260420T004520
CREATED:20200108T232610Z
LAST-MODIFIED:20200108T232610Z
UID:23666-1602666000-1602667800@tremontoncity.gov
SUMMARY:Development Review Committee
DESCRIPTION:The Development Review Committee meets every Wednesday at 9:00 a.m. unless there are no agenda items to discuss.  Click here to see the Development Review Committee Agenda.
URL:https://tremontoncity.gov/event/development-review-committee-92/
LOCATION:Development Review Committee\, 102 S Tremont Street\, Tremonton\, 84337
CATEGORIES:Development Review Committee
END:VEVENT
BEGIN:VEVENT
DTSTART;TZID=America/Denver:20201013T173000
DTEND;TZID=America/Denver:20201013T173000
DTSTAMP:20260420T004520
CREATED:20200109T164250Z
LAST-MODIFIED:20200109T164250Z
UID:23736-1602610200-1602610200@tremontoncity.gov
SUMMARY:Planning Commission
DESCRIPTION:The Planning Commission meets the 2nd\, 4th\, and 5th Tuesdays of each month.  Click here to see the Planning Commission Agenda.
URL:https://tremontoncity.gov/event/planning-commission-122/
LOCATION:Planning Commission\, 102 S Tremont Street\, Tremonton\, UT\, 84337\, United States
CATEGORIES:Planning Commission
END:VEVENT
BEGIN:VEVENT
DTSTART;TZID=America/Denver:20201007T090000
DTEND;TZID=America/Denver:20201007T093000
DTSTAMP:20260420T004520
CREATED:20200108T232530Z
LAST-MODIFIED:20200108T232530Z
UID:23664-1602061200-1602063000@tremontoncity.gov
SUMMARY:Development Review Committee
DESCRIPTION:The Development Review Committee meets every Wednesday at 9:00 a.m. unless there are no agenda items to discuss.  Click here to see the Development Review Committee Agenda.
URL:https://tremontoncity.gov/event/development-review-committee-91/
LOCATION:Development Review Committee\, 102 S Tremont Street\, Tremonton\, 84337
CATEGORIES:Development Review Committee
END:VEVENT
BEGIN:VEVENT
DTSTART;TZID=America/Denver:20201006T180000
DTEND;TZID=America/Denver:20201006T180000
DTSTAMP:20260420T004520
CREATED:20200109T171534Z
LAST-MODIFIED:20200109T171534Z
UID:23782-1602007200-1602007200@tremontoncity.gov
SUMMARY:City Council
DESCRIPTION:Tremonton City Council meets on the 1st and 3rd Tuesdays of each month. Click here to view the City Council agenda.
URL:https://tremontoncity.gov/event/city-council-79/
LOCATION:City Council\, 102 S Tremont St\, Tremonton\, 84337\, United States
CATEGORIES:City Council
END:VEVENT
BEGIN:VEVENT
DTSTART;TZID=America/Denver:20200930T090000
DTEND;TZID=America/Denver:20200930T093000
DTSTAMP:20260420T004520
CREATED:20200108T232449Z
LAST-MODIFIED:20200108T232449Z
UID:23662-1601456400-1601458200@tremontoncity.gov
SUMMARY:Development Review Committee
DESCRIPTION:The Development Review Committee meets every Wednesday at 9:00 a.m. unless there are no agenda items to discuss.  Click here to see the Development Review Committee Agenda.
URL:https://tremontoncity.gov/event/development-review-committee-90/
LOCATION:Development Review Committee\, 102 S Tremont Street\, Tremonton\, 84337
CATEGORIES:Development Review Committee
END:VEVENT
BEGIN:VEVENT
DTSTART;TZID=America/Denver:20200929T173000
DTEND;TZID=America/Denver:20200929T173000
DTSTAMP:20260420T004520
CREATED:20200109T164209Z
LAST-MODIFIED:20200109T164209Z
UID:23734-1601400600-1601400600@tremontoncity.gov
SUMMARY:Planning Commission
DESCRIPTION:The Planning Commission meets the 2nd\, 4th\, and 5th Tuesdays of each month.  Click here to see the Planning Commission Agenda.
URL:https://tremontoncity.gov/event/planning-commission-121/
LOCATION:Planning Commission\, 102 S Tremont Street\, Tremonton\, UT\, 84337\, United States
CATEGORIES:Planning Commission
END:VEVENT
BEGIN:VEVENT
DTSTART;TZID=America/Denver:20200923T090000
DTEND;TZID=America/Denver:20200923T093000
DTSTAMP:20260420T004520
CREATED:20200108T232404Z
LAST-MODIFIED:20200108T232404Z
UID:23660-1600851600-1600853400@tremontoncity.gov
SUMMARY:Development Review Committee
DESCRIPTION:The Development Review Committee meets every Wednesday at 9:00 a.m. unless there are no agenda items to discuss.  Click here to see the Development Review Committee Agenda.
URL:https://tremontoncity.gov/event/development-review-committee-89/
LOCATION:Development Review Committee\, 102 S Tremont Street\, Tremonton\, 84337
CATEGORIES:Development Review Committee
END:VEVENT
END:VCALENDAR