BEGIN:VCALENDAR
VERSION:2.0
PRODID:-//Tremonton City - ECPv6.13.2.1//NONSGML v1.0//EN
CALSCALE:GREGORIAN
METHOD:PUBLISH
X-WR-CALNAME:Tremonton City
X-ORIGINAL-URL:https://tremontoncity.gov
X-WR-CALDESC:Events for Tremonton City
REFRESH-INTERVAL;VALUE=DURATION:PT1H
X-Robots-Tag:noindex
X-PUBLISHED-TTL:PT1H
BEGIN:VTIMEZONE
TZID:America/Denver
BEGIN:DAYLIGHT
TZOFFSETFROM:-0700
TZOFFSETTO:-0600
TZNAME:MDT
DTSTART:20200308T090000
END:DAYLIGHT
BEGIN:STANDARD
TZOFFSETFROM:-0600
TZOFFSETTO:-0700
TZNAME:MST
DTSTART:20201101T080000
END:STANDARD
END:VTIMEZONE
BEGIN:VEVENT
DTSTART;TZID=America/Denver:20201020T180000
DTEND;TZID=America/Denver:20201020T180000
DTSTAMP:20260421T050225
CREATED:20200109T171609Z
LAST-MODIFIED:20200109T171609Z
UID:23784-1603216800-1603216800@tremontoncity.gov
SUMMARY:City Council
DESCRIPTION:Tremonton City Council meets on the 1st and 3rd Tuesdays of each month. Click here to view the City Council agenda.
URL:https://tremontoncity.gov/event/city-council-80/
LOCATION:City Council\, 102 S Tremont St\, Tremonton\, 84337\, United States
CATEGORIES:City Council
END:VEVENT
BEGIN:VEVENT
DTSTART;TZID=America/Denver:20201014T090000
DTEND;TZID=America/Denver:20201014T093000
DTSTAMP:20260421T050225
CREATED:20200108T232610Z
LAST-MODIFIED:20200108T232610Z
UID:23666-1602666000-1602667800@tremontoncity.gov
SUMMARY:Development Review Committee
DESCRIPTION:The Development Review Committee meets every Wednesday at 9:00 a.m. unless there are no agenda items to discuss.  Click here to see the Development Review Committee Agenda.
URL:https://tremontoncity.gov/event/development-review-committee-92/
LOCATION:Development Review Committee\, 102 S Tremont Street\, Tremonton\, 84337
CATEGORIES:Development Review Committee
END:VEVENT
BEGIN:VEVENT
DTSTART;TZID=America/Denver:20201013T173000
DTEND;TZID=America/Denver:20201013T173000
DTSTAMP:20260421T050225
CREATED:20200109T164250Z
LAST-MODIFIED:20200109T164250Z
UID:23736-1602610200-1602610200@tremontoncity.gov
SUMMARY:Planning Commission
DESCRIPTION:The Planning Commission meets the 2nd\, 4th\, and 5th Tuesdays of each month.  Click here to see the Planning Commission Agenda.
URL:https://tremontoncity.gov/event/planning-commission-122/
LOCATION:Planning Commission\, 102 S Tremont Street\, Tremonton\, UT\, 84337\, United States
CATEGORIES:Planning Commission
END:VEVENT
BEGIN:VEVENT
DTSTART;TZID=America/Denver:20201007T090000
DTEND;TZID=America/Denver:20201007T093000
DTSTAMP:20260421T050225
CREATED:20200108T232530Z
LAST-MODIFIED:20200108T232530Z
UID:23664-1602061200-1602063000@tremontoncity.gov
SUMMARY:Development Review Committee
DESCRIPTION:The Development Review Committee meets every Wednesday at 9:00 a.m. unless there are no agenda items to discuss.  Click here to see the Development Review Committee Agenda.
URL:https://tremontoncity.gov/event/development-review-committee-91/
LOCATION:Development Review Committee\, 102 S Tremont Street\, Tremonton\, 84337
CATEGORIES:Development Review Committee
END:VEVENT
BEGIN:VEVENT
DTSTART;TZID=America/Denver:20201006T180000
DTEND;TZID=America/Denver:20201006T180000
DTSTAMP:20260421T050225
CREATED:20200109T171534Z
LAST-MODIFIED:20200109T171534Z
UID:23782-1602007200-1602007200@tremontoncity.gov
SUMMARY:City Council
DESCRIPTION:Tremonton City Council meets on the 1st and 3rd Tuesdays of each month. Click here to view the City Council agenda.
URL:https://tremontoncity.gov/event/city-council-79/
LOCATION:City Council\, 102 S Tremont St\, Tremonton\, 84337\, United States
CATEGORIES:City Council
END:VEVENT
BEGIN:VEVENT
DTSTART;TZID=America/Denver:20200930T090000
DTEND;TZID=America/Denver:20200930T093000
DTSTAMP:20260421T050225
CREATED:20200108T232449Z
LAST-MODIFIED:20200108T232449Z
UID:23662-1601456400-1601458200@tremontoncity.gov
SUMMARY:Development Review Committee
DESCRIPTION:The Development Review Committee meets every Wednesday at 9:00 a.m. unless there are no agenda items to discuss.  Click here to see the Development Review Committee Agenda.
URL:https://tremontoncity.gov/event/development-review-committee-90/
LOCATION:Development Review Committee\, 102 S Tremont Street\, Tremonton\, 84337
CATEGORIES:Development Review Committee
END:VEVENT
BEGIN:VEVENT
DTSTART;TZID=America/Denver:20200929T173000
DTEND;TZID=America/Denver:20200929T173000
DTSTAMP:20260421T050225
CREATED:20200109T164209Z
LAST-MODIFIED:20200109T164209Z
UID:23734-1601400600-1601400600@tremontoncity.gov
SUMMARY:Planning Commission
DESCRIPTION:The Planning Commission meets the 2nd\, 4th\, and 5th Tuesdays of each month.  Click here to see the Planning Commission Agenda.
URL:https://tremontoncity.gov/event/planning-commission-121/
LOCATION:Planning Commission\, 102 S Tremont Street\, Tremonton\, UT\, 84337\, United States
CATEGORIES:Planning Commission
END:VEVENT
BEGIN:VEVENT
DTSTART;TZID=America/Denver:20200923T090000
DTEND;TZID=America/Denver:20200923T093000
DTSTAMP:20260421T050225
CREATED:20200108T232404Z
LAST-MODIFIED:20200108T232404Z
UID:23660-1600851600-1600853400@tremontoncity.gov
SUMMARY:Development Review Committee
DESCRIPTION:The Development Review Committee meets every Wednesday at 9:00 a.m. unless there are no agenda items to discuss.  Click here to see the Development Review Committee Agenda.
URL:https://tremontoncity.gov/event/development-review-committee-89/
LOCATION:Development Review Committee\, 102 S Tremont Street\, Tremonton\, 84337
CATEGORIES:Development Review Committee
END:VEVENT
BEGIN:VEVENT
DTSTART;TZID=America/Denver:20200922T173000
DTEND;TZID=America/Denver:20200922T173000
DTSTAMP:20260421T050225
CREATED:20200109T164128Z
LAST-MODIFIED:20200109T164128Z
UID:23732-1600795800-1600795800@tremontoncity.gov
SUMMARY:Planning Commission
DESCRIPTION:The Planning Commission meets the 2nd\, 4th\, and 5th Tuesdays of each month.  Click here to see the Planning Commission Agenda.
URL:https://tremontoncity.gov/event/planning-commission-120/
LOCATION:Planning Commission\, 102 S Tremont Street\, Tremonton\, UT\, 84337\, United States
CATEGORIES:Planning Commission
END:VEVENT
BEGIN:VEVENT
DTSTART;TZID=America/Denver:20200916T090000
DTEND;TZID=America/Denver:20200916T093000
DTSTAMP:20260421T050225
CREATED:20200108T232327Z
LAST-MODIFIED:20200108T232327Z
UID:23658-1600246800-1600248600@tremontoncity.gov
SUMMARY:Development Review Committee
DESCRIPTION:The Development Review Committee meets every Wednesday at 9:00 a.m. unless there are no agenda items to discuss.  Click here to see the Development Review Committee Agenda.
URL:https://tremontoncity.gov/event/development-review-committee-88/
LOCATION:Development Review Committee\, 102 S Tremont Street\, Tremonton\, 84337
CATEGORIES:Development Review Committee
END:VEVENT
BEGIN:VEVENT
DTSTART;TZID=America/Denver:20200909T090000
DTEND;TZID=America/Denver:20200909T093000
DTSTAMP:20260421T050225
CREATED:20200108T232201Z
LAST-MODIFIED:20200108T232227Z
UID:23656-1599642000-1599643800@tremontoncity.gov
SUMMARY:Development Review Committee
DESCRIPTION:The Development Review Committee meets every Wednesday at 9:00 a.m. unless there are no agenda items to discuss.  Click here to see the Development Review Committee Agenda.
URL:https://tremontoncity.gov/event/development-review-committee-87/
LOCATION:Development Review Committee\, 102 S Tremont Street\, Tremonton\, 84337
CATEGORIES:Development Review Committee
END:VEVENT
BEGIN:VEVENT
DTSTART;TZID=America/Denver:20200908T173000
DTEND;TZID=America/Denver:20200908T180000
DTSTAMP:20260421T050225
CREATED:20200108T222951Z
LAST-MODIFIED:20200109T163634Z
UID:23589-1599586200-1599588000@tremontoncity.gov
SUMMARY:Planning Commission
DESCRIPTION:The Planning Commission meets the 2nd\, 4th\, and 5th Tuesdays of each month.  Click here to see the Planning Commission Agenda.
URL:https://tremontoncity.gov/event/development-review-committee-55/
LOCATION:Planning Commission\, 102 S Tremont Street\, Tremonton\, UT\, 84337\, United States
CATEGORIES:Planning Commission
END:VEVENT
BEGIN:VEVENT
DTSTART;TZID=America/Denver:20200902T090000
DTEND;TZID=America/Denver:20200902T093000
DTSTAMP:20260421T050225
CREATED:20200108T231959Z
LAST-MODIFIED:20200108T231959Z
UID:23654-1599037200-1599039000@tremontoncity.gov
SUMMARY:Development Review Committee
DESCRIPTION:The Development Review Committee meets every Wednesday at 9:00 a.m. unless there are no agenda items to discuss.  Click here to see the Development Review Committee Agenda.
URL:https://tremontoncity.gov/event/development-review-committee-86/
LOCATION:Development Review Committee\, 102 S Tremont Street\, Tremonton\, 84337
CATEGORIES:Development Review Committee
END:VEVENT
BEGIN:VEVENT
DTSTART;TZID=America/Denver:20200901T180000
DTEND;TZID=America/Denver:20200901T180000
DTSTAMP:20260421T050225
CREATED:20200109T171438Z
LAST-MODIFIED:20200109T171438Z
UID:23780-1598983200-1598983200@tremontoncity.gov
SUMMARY:City Council
DESCRIPTION:Tremonton City Council meets on the 1st and 3rd Tuesdays of each month. Click here to view the City Council agenda.
URL:https://tremontoncity.gov/event/city-council-78/
LOCATION:City Council\, 102 S Tremont St\, Tremonton\, 84337\, United States
CATEGORIES:City Council
END:VEVENT
BEGIN:VEVENT
DTSTART;TZID=America/Denver:20200826T090000
DTEND;TZID=America/Denver:20200826T093000
DTSTAMP:20260421T050225
CREATED:20200108T231914Z
LAST-MODIFIED:20200108T231914Z
UID:23652-1598432400-1598434200@tremontoncity.gov
SUMMARY:Development Review Committee
DESCRIPTION:The Development Review Committee meets every Wednesday at 9:00 a.m. unless there are no agenda items to discuss.  Click here to see the Development Review Committee Agenda.
URL:https://tremontoncity.gov/event/development-review-committee-85/
LOCATION:Development Review Committee\, 102 S Tremont Street\, Tremonton\, 84337
CATEGORIES:Development Review Committee
END:VEVENT
BEGIN:VEVENT
DTSTART;TZID=America/Denver:20200825T173000
DTEND;TZID=America/Denver:20200825T180000
DTSTAMP:20260421T050225
CREATED:20200108T222841Z
LAST-MODIFIED:20200109T163253Z
UID:23587-1598376600-1598378400@tremontoncity.gov
SUMMARY:Planning Commission
DESCRIPTION:The Planning Commission meets the 2nd\, 4th\, and 5th Tuesdays of each month.  Click here to see the Planning Commission Agenda.
URL:https://tremontoncity.gov/event/development-review-committee-54/
LOCATION:Planning Commission\, 102 S Tremont Street\, Tremonton\, UT\, 84337\, United States
CATEGORIES:Planning Commission
END:VEVENT
BEGIN:VEVENT
DTSTART;TZID=America/Denver:20200819T090000
DTEND;TZID=America/Denver:20200819T093000
DTSTAMP:20260421T050225
CREATED:20200108T231827Z
LAST-MODIFIED:20200108T231827Z
UID:23650-1597827600-1597829400@tremontoncity.gov
SUMMARY:Development Review Committee
DESCRIPTION:The Development Review Committee meets every Wednesday at 9:00 a.m. unless there are no agenda items to discuss.  Click here to see the Development Review Committee Agenda.
URL:https://tremontoncity.gov/event/development-review-committee-84/
LOCATION:Development Review Committee\, 102 S Tremont Street\, Tremonton\, 84337
CATEGORIES:Development Review Committee
END:VEVENT
BEGIN:VEVENT
DTSTART;TZID=America/Denver:20200818T180000
DTEND;TZID=America/Denver:20200818T180000
DTSTAMP:20260421T050225
CREATED:20200109T171404Z
LAST-MODIFIED:20200109T171404Z
UID:23778-1597773600-1597773600@tremontoncity.gov
SUMMARY:City Council
DESCRIPTION:Tremonton City Council meets on the 1st and 3rd Tuesdays of each month. Click here to view the City Council agenda.
URL:https://tremontoncity.gov/event/city-council-77/
LOCATION:City Council\, 102 S Tremont St\, Tremonton\, 84337\, United States
CATEGORIES:City Council
END:VEVENT
BEGIN:VEVENT
DTSTART;TZID=America/Denver:20200812T090000
DTEND;TZID=America/Denver:20200812T093000
DTSTAMP:20260421T050225
CREATED:20200108T231744Z
LAST-MODIFIED:20200108T231744Z
UID:23648-1597222800-1597224600@tremontoncity.gov
SUMMARY:Development Review Committee
DESCRIPTION:The Development Review Committee meets every Wednesday at 9:00 a.m. unless there are no agenda items to discuss.  Click here to see the Development Review Committee Agenda.
URL:https://tremontoncity.gov/event/development-review-committee-83/
LOCATION:Development Review Committee\, 102 S Tremont Street\, Tremonton\, 84337
CATEGORIES:Development Review Committee
END:VEVENT
BEGIN:VEVENT
DTSTART;TZID=America/Denver:20200811T173000
DTEND;TZID=America/Denver:20200811T173000
DTSTAMP:20260421T050225
CREATED:20200108T222141Z
LAST-MODIFIED:20200109T163147Z
UID:23585-1597167000-1597167000@tremontoncity.gov
SUMMARY:Planning Commission
DESCRIPTION:The Planning Commission meets the 2nd\, 4th\, and 5th Tuesdays of each month.  Click here to see the Planning Commission Agenda.
URL:https://tremontoncity.gov/event/development-review-committee-53/
LOCATION:Planning Commission\, 102 S Tremont Street\, Tremonton\, UT\, 84337\, United States
CATEGORIES:Planning Commission
END:VEVENT
BEGIN:VEVENT
DTSTART;TZID=America/Denver:20200805T090000
DTEND;TZID=America/Denver:20200805T093000
DTSTAMP:20260421T050225
CREATED:20200108T231703Z
LAST-MODIFIED:20200108T231703Z
UID:23646-1596618000-1596619800@tremontoncity.gov
SUMMARY:Development Review Committee
DESCRIPTION:The Development Review Committee meets every Wednesday at 9:00 a.m. unless there are no agenda items to discuss.  Click here to see the Development Review Committee Agenda.
URL:https://tremontoncity.gov/event/development-review-committee-82/
LOCATION:Development Review Committee\, 102 S Tremont Street\, Tremonton\, 84337
CATEGORIES:Development Review Committee
END:VEVENT
BEGIN:VEVENT
DTSTART;TZID=America/Denver:20200804T180000
DTEND;TZID=America/Denver:20200804T180000
DTSTAMP:20260421T050225
CREATED:20200109T171331Z
LAST-MODIFIED:20200109T171331Z
UID:23776-1596564000-1596564000@tremontoncity.gov
SUMMARY:City Council
DESCRIPTION:Tremonton City Council meets on the 1st and 3rd Tuesdays of each month. Click here to view the City Council agenda.
URL:https://tremontoncity.gov/event/city-council-76/
LOCATION:City Council\, 102 S Tremont St\, Tremonton\, 84337\, United States
CATEGORIES:City Council
END:VEVENT
BEGIN:VEVENT
DTSTART;TZID=America/Denver:20200729T090000
DTEND;TZID=America/Denver:20200729T093000
DTSTAMP:20260421T050225
CREATED:20200108T231620Z
LAST-MODIFIED:20200108T231620Z
UID:23643-1596013200-1596015000@tremontoncity.gov
SUMMARY:Development Review Committee
DESCRIPTION:The Development Review Committee meets every Wednesday at 9:00 a.m. unless there are no agenda items to discuss.  Click here to see the Development Review Committee Agenda.
URL:https://tremontoncity.gov/event/development-review-committee-81/
LOCATION:Development Review Committee\, 102 S Tremont Street\, Tremonton\, 84337
CATEGORIES:Development Review Committee
END:VEVENT
BEGIN:VEVENT
DTSTART;TZID=America/Denver:20200728T173000
DTEND;TZID=America/Denver:20200728T173000
DTSTAMP:20260421T050225
CREATED:20200108T235239Z
LAST-MODIFIED:20200109T163022Z
UID:23702-1595957400-1595957400@tremontoncity.gov
SUMMARY:Planning Commission
DESCRIPTION:The Planning Commission meets the 2nd\, 4th\, and 5th Tuesdays of each month.  Click here to see the Planning Commission Agenda.
URL:https://tremontoncity.gov/event/planning-commission-79/
LOCATION:Planning Commission\, 102 S Tremont Street\, Tremonton\, UT\, 84337\, United States
CATEGORIES:Planning Commission
END:VEVENT
BEGIN:VEVENT
DTSTART;TZID=America/Denver:20200722T090000
DTEND;TZID=America/Denver:20200722T093000
DTSTAMP:20260421T050225
CREATED:20200108T231527Z
LAST-MODIFIED:20200108T231527Z
UID:23641-1595408400-1595410200@tremontoncity.gov
SUMMARY:Development Review Committee
DESCRIPTION:The Development Review Committee meets every Wednesday at 9:00 a.m. unless there are no agenda items to discuss.  Click here to see the Development Review Committee Agenda.
URL:https://tremontoncity.gov/event/development-review-committee-80/
LOCATION:Development Review Committee\, 102 S Tremont Street\, Tremonton\, 84337
CATEGORIES:Development Review Committee
END:VEVENT
BEGIN:VEVENT
DTSTART;TZID=America/Denver:20200721T180000
DTEND;TZID=America/Denver:20200721T180000
DTSTAMP:20260421T050225
CREATED:20200109T171258Z
LAST-MODIFIED:20200109T171258Z
UID:23774-1595354400-1595354400@tremontoncity.gov
SUMMARY:City Council
DESCRIPTION:Tremonton City Council meets on the 1st and 3rd Tuesdays of each month. Click here to view the City Council agenda.
URL:https://tremontoncity.gov/event/city-council-75/
LOCATION:City Council\, 102 S Tremont St\, Tremonton\, 84337\, United States
CATEGORIES:City Council
END:VEVENT
BEGIN:VEVENT
DTSTART;TZID=America/Denver:20200715T190000
DTEND;TZID=America/Denver:20200715T193000
DTSTAMP:20260421T050225
CREATED:20200108T234629Z
LAST-MODIFIED:20200108T234629Z
UID:23696-1594839600-1594841400@tremontoncity.gov
SUMMARY:Library Board
DESCRIPTION:The Library Board meets quarterly. Please click here to see the schedule.
URL:https://tremontoncity.gov/event/library-board-3/
LOCATION:Library Board Meeting\, 210 N Tremont St\, Tremonton\, UT\, 84337\, United States
END:VEVENT
BEGIN:VEVENT
DTSTART;TZID=America/Denver:20200715T090000
DTEND;TZID=America/Denver:20200715T093000
DTSTAMP:20260421T050225
CREATED:20200108T231443Z
LAST-MODIFIED:20200108T231443Z
UID:23638-1594803600-1594805400@tremontoncity.gov
SUMMARY:Development Review Committee
DESCRIPTION:The Development Review Committee meets every Wednesday at 9:00 a.m. unless there are no agenda items to discuss.  Click here to see the Development Review Committee Agenda.
URL:https://tremontoncity.gov/event/development-review-committee-79/
LOCATION:Development Review Committee\, 102 S Tremont Street\, Tremonton\, 84337
CATEGORIES:Development Review Committee
END:VEVENT
BEGIN:VEVENT
DTSTART;TZID=America/Denver:20200714T173000
DTEND;TZID=America/Denver:20200714T180000
DTSTAMP:20260421T050225
CREATED:20181224T185407Z
LAST-MODIFIED:20200109T162858Z
UID:21507-1594747800-1594749600@tremontoncity.gov
SUMMARY:Planning Commission
DESCRIPTION:The Planning Commission meets the 2nd\, 4th\, and 5th Tuesdays of each month.  Click here to see the Planning Commission Agenda.
URL:https://tremontoncity.gov/event/planning-commission-108/
LOCATION:Planning Commission\, 102 S Tremont Street\, Tremonton\, UT\, 84337\, United States
CATEGORIES:Planning Commission
END:VEVENT
BEGIN:VEVENT
DTSTART;TZID=America/Denver:20200708T090000
DTEND;TZID=America/Denver:20200708T093000
DTSTAMP:20260421T050225
CREATED:20200108T231354Z
LAST-MODIFIED:20200108T231354Z
UID:23635-1594198800-1594200600@tremontoncity.gov
SUMMARY:Development Review Committee
DESCRIPTION:The Development Review Committee meets every Wednesday at 9:00 a.m. unless there are no agenda items to discuss.  Click here to see the Development Review Committee Agenda.
URL:https://tremontoncity.gov/event/development-review-committee-78/
LOCATION:Development Review Committee\, 102 S Tremont Street\, Tremonton\, 84337
CATEGORIES:Development Review Committee
END:VEVENT
END:VCALENDAR