BEGIN:VCALENDAR
VERSION:2.0
PRODID:-//Tremonton City - ECPv6.13.2.1//NONSGML v1.0//EN
CALSCALE:GREGORIAN
METHOD:PUBLISH
X-WR-CALNAME:Tremonton City
X-ORIGINAL-URL:https://tremontoncity.gov
X-WR-CALDESC:Events for Tremonton City
REFRESH-INTERVAL;VALUE=DURATION:PT1H
X-Robots-Tag:noindex
X-PUBLISHED-TTL:PT1H
BEGIN:VTIMEZONE
TZID:America/Denver
BEGIN:DAYLIGHT
TZOFFSETFROM:-0700
TZOFFSETTO:-0600
TZNAME:MDT
DTSTART:20190310T090000
END:DAYLIGHT
BEGIN:STANDARD
TZOFFSETFROM:-0600
TZOFFSETTO:-0700
TZNAME:MST
DTSTART:20191103T080000
END:STANDARD
BEGIN:DAYLIGHT
TZOFFSETFROM:-0700
TZOFFSETTO:-0600
TZNAME:MDT
DTSTART:20200308T090000
END:DAYLIGHT
BEGIN:STANDARD
TZOFFSETFROM:-0600
TZOFFSETTO:-0700
TZNAME:MST
DTSTART:20201101T080000
END:STANDARD
END:VTIMEZONE
BEGIN:VEVENT
DTSTART;TZID=America/Denver:20200121T180000
DTEND;TZID=America/Denver:20200121T200000
DTSTAMP:20260421T191632
CREATED:20181224T183102Z
LAST-MODIFIED:20181224T183102Z
UID:21450-1579629600-1579636800@tremontoncity.gov
SUMMARY:City Council
DESCRIPTION:Tremonton City Council meets on the 1st and 3rd Tuesdays of each month. Click here to view the City Council agenda.
URL:https://tremontoncity.gov/event/city-council-64/
LOCATION:City Council\, 102 S Tremont St\, Tremonton\, 84337\, United States
CATEGORIES:City Council
END:VEVENT
BEGIN:VEVENT
DTSTART;TZID=America/Denver:20200115T190000
DTEND;TZID=America/Denver:20200115T193000
DTSTAMP:20260421T191632
CREATED:20200108T234334Z
LAST-MODIFIED:20200108T234334Z
UID:23692-1579114800-1579116600@tremontoncity.gov
SUMMARY:Library Board
DESCRIPTION:The Library Board meets quarterly. Please click here to see the schedule.
URL:https://tremontoncity.gov/event/library-board/
LOCATION:Library Board Meeting\, 210 N Tremont St\, Tremonton\, UT\, 84337\, United States
END:VEVENT
BEGIN:VEVENT
DTSTART;TZID=America/Denver:20200115T090000
DTEND;TZID=America/Denver:20200115T093000
DTSTAMP:20260421T191632
CREATED:20181224T175134Z
LAST-MODIFIED:20181224T175134Z
UID:21401-1579078800-1579080600@tremontoncity.gov
SUMMARY:Development Review Committee
DESCRIPTION:The Development Review Committee meets every Wednesday at 9:00 a.m. unless there are no agenda items to discuss.  Click here to see the Development Review Committee Agenda.
URL:https://tremontoncity.gov/event/development-review-committee-50/
LOCATION:Development Review Committee\, 102 S Tremont Street\, Tremonton\, 84337
CATEGORIES:Development Review Committee
END:VEVENT
BEGIN:VEVENT
DTSTART;TZID=America/Denver:20200114T173000
DTEND;TZID=America/Denver:20200114T173000
DTSTAMP:20260421T191632
CREATED:20200108T235109Z
LAST-MODIFIED:20200108T235109Z
UID:23700-1579023000-1579023000@tremontoncity.gov
SUMMARY:Planning Commission
DESCRIPTION:The Planning Commission meets the 2nd\, 4th\, and 5th Tuesdays of each month.  Click here to see the Planning Commission Agenda.
URL:https://tremontoncity.gov/event/planning-commission-77/
LOCATION:Planning Commission\, 102 S Tremont Street\, Tremonton\, UT\, 84337\, United States
CATEGORIES:Planning Commission
END:VEVENT
BEGIN:VEVENT
DTSTART;TZID=America/Denver:20200108T090000
DTEND;TZID=America/Denver:20200108T093000
DTSTAMP:20260421T191632
CREATED:20181224T175003Z
LAST-MODIFIED:20181224T175003Z
UID:21399-1578474000-1578475800@tremontoncity.gov
SUMMARY:Development Review Committee
DESCRIPTION:The Development Review Committee meets every Wednesday at 9:00 a.m. unless there are no agenda items to discuss.  Click here to see the Development Review Committee Agenda.
URL:https://tremontoncity.gov/event/development-review-committee-49/
LOCATION:Development Review Committee\, 102 S Tremont Street\, Tremonton\, 84337
CATEGORIES:Development Review Committee
END:VEVENT
BEGIN:VEVENT
DTSTART;TZID=America/Denver:20200107T180000
DTEND;TZID=America/Denver:20200107T200000
DTSTAMP:20260421T191632
CREATED:20181224T182915Z
LAST-MODIFIED:20181224T182915Z
UID:21448-1578420000-1578427200@tremontoncity.gov
SUMMARY:City Council
DESCRIPTION:Tremonton City Council meets on the 1st and 3rd Tuesdays of each month. Click here to view the City Council agenda.
URL:https://tremontoncity.gov/event/city-council-63/
LOCATION:City Council\, 102 S Tremont St\, Tremonton\, 84337\, United States
CATEGORIES:City Council
END:VEVENT
BEGIN:VEVENT
DTSTART;VALUE=DATE:20200101
DTEND;VALUE=DATE:20200102
DTSTAMP:20260421T191632
CREATED:20181226T193902Z
LAST-MODIFIED:20181226T193902Z
UID:21539-1577836800-1577923199@tremontoncity.gov
SUMMARY:Closed for New Year's Day
DESCRIPTION:
URL:https://tremontoncity.gov/event/closed-for-new-years-day-2/
END:VEVENT
BEGIN:VEVENT
DTSTART;TZID=America/Denver:20191224T120000
DTEND;TZID=America/Denver:20191225T170000
DTSTAMP:20260421T191632
CREATED:20181226T193820Z
LAST-MODIFIED:20181226T193820Z
UID:21537-1577188800-1577293200@tremontoncity.gov
SUMMARY:Closed for Christmas Eve and Day
DESCRIPTION:
URL:https://tremontoncity.gov/event/closed-for-christmas-eve-and-day/
END:VEVENT
BEGIN:VEVENT
DTSTART;TZID=America/Denver:20191218T090000
DTEND;TZID=America/Denver:20191218T090000
DTSTAMP:20260421T191632
CREATED:20181224T174908Z
LAST-MODIFIED:20181224T174908Z
UID:21397-1576659600-1576659600@tremontoncity.gov
SUMMARY:Development Review Committee
DESCRIPTION:The Development Review Committee meets every Wednesday at 9:00 a.m. unless there are no agenda items to discuss.  Click here to see the Development Review Committee Agenda.
URL:https://tremontoncity.gov/event/development-review-committee-48/
LOCATION:Development Review Committee\, 102 S Tremont Street\, Tremonton\, 84337
CATEGORIES:Development Review Committee
END:VEVENT
BEGIN:VEVENT
DTSTART;TZID=America/Denver:20191211T090000
DTEND;TZID=America/Denver:20191211T093000
DTSTAMP:20260421T191632
CREATED:20181224T174749Z
LAST-MODIFIED:20181224T174749Z
UID:21395-1576054800-1576056600@tremontoncity.gov
SUMMARY:Development Review Committee
DESCRIPTION:The Development Review Committee meets every Wednesday at 9:00 a.m. unless there are no agenda items to discuss.  Click here to see the Development Review Committee Agenda.
URL:https://tremontoncity.gov/event/development-review-committee-47/
LOCATION:Development Review Committee\, 102 S Tremont Street\, Tremonton\, 84337
CATEGORIES:Development Review Committee
END:VEVENT
BEGIN:VEVENT
DTSTART;TZID=America/Denver:20191210T173000
DTEND;TZID=America/Denver:20191210T180000
DTSTAMP:20260421T191632
CREATED:20181224T185329Z
LAST-MODIFIED:20181224T185329Z
UID:21505-1575999000-1576000800@tremontoncity.gov
SUMMARY:Planning Commission
DESCRIPTION:The Planning Commission meets the 2nd\, 4th\, and 5th Tuesdays of each month.  Click here to see the Planning Commission Agenda.
URL:https://tremontoncity.gov/event/planning-commission-107/
LOCATION:Planning Commission\, 102 S Tremont Street\, Tremonton\, UT\, 84337\, United States
CATEGORIES:Planning Commission
END:VEVENT
BEGIN:VEVENT
DTSTART;TZID=America/Denver:20191204T090000
DTEND;TZID=America/Denver:20191204T093000
DTSTAMP:20260421T191632
CREATED:20181224T174655Z
LAST-MODIFIED:20181224T174655Z
UID:21393-1575450000-1575451800@tremontoncity.gov
SUMMARY:Development Review Committee
DESCRIPTION:The Development Review Committee meets every Wednesday at 9:00 a.m. unless there are no agenda items to discuss.  Click here to see the Development Review Committee Agenda.
URL:https://tremontoncity.gov/event/development-review-committee-46/
LOCATION:Development Review Committee\, 102 S Tremont Street\, Tremonton\, 84337
CATEGORIES:Development Review Committee
END:VEVENT
BEGIN:VEVENT
DTSTART;TZID=America/Denver:20191203T180000
DTEND;TZID=America/Denver:20191203T200000
DTSTAMP:20260421T191632
CREATED:20181224T182527Z
LAST-MODIFIED:20181224T182527Z
UID:21446-1575396000-1575403200@tremontoncity.gov
SUMMARY:City Council
DESCRIPTION:Tremonton City Council meets on the 1st and 3rd Tuesdays of each month. Click here to view the City Council agenda.
URL:https://tremontoncity.gov/event/city-council-62/
LOCATION:City Council\, 102 S Tremont St\, Tremonton\, 84337\, United States
CATEGORIES:City Council
END:VEVENT
BEGIN:VEVENT
DTSTART;VALUE=DATE:20191128
DTEND;VALUE=DATE:20191130
DTSTAMP:20260421T191632
CREATED:20181226T193655Z
LAST-MODIFIED:20181226T193655Z
UID:21535-1574899200-1575071999@tremontoncity.gov
SUMMARY:Closed for Thanksgiving
DESCRIPTION:
URL:https://tremontoncity.gov/event/closed-for-thanksgiving/
END:VEVENT
BEGIN:VEVENT
DTSTART;TZID=America/Denver:20191127T090000
DTEND;TZID=America/Denver:20191127T093000
DTSTAMP:20260421T191632
CREATED:20181224T174547Z
LAST-MODIFIED:20181224T174547Z
UID:21391-1574845200-1574847000@tremontoncity.gov
SUMMARY:Development Review Committee
DESCRIPTION:The Development Review Committee meets every Wednesday at 9:00 a.m. unless there are no agenda items to discuss.  Click here to see the Development Review Committee Agenda.
URL:https://tremontoncity.gov/event/development-review-committee-45/
LOCATION:Development Review Committee\, 102 S Tremont Street\, Tremonton\, 84337
CATEGORIES:Development Review Committee
END:VEVENT
BEGIN:VEVENT
DTSTART;TZID=America/Denver:20191126T173000
DTEND;TZID=America/Denver:20191126T173000
DTSTAMP:20260421T191632
CREATED:20181224T185250Z
LAST-MODIFIED:20181224T185250Z
UID:21503-1574789400-1574789400@tremontoncity.gov
SUMMARY:Planning Commission
DESCRIPTION:The Planning Commission meets the 2nd\, 4th\, and 5th Tuesdays of each month.  Click here to see the Planning Commission Agenda.
URL:https://tremontoncity.gov/event/planning-commission-106/
LOCATION:Planning Commission\, 102 S Tremont Street\, Tremonton\, UT\, 84337\, United States
CATEGORIES:Planning Commission
END:VEVENT
BEGIN:VEVENT
DTSTART;TZID=America/Denver:20191120T090000
DTEND;TZID=America/Denver:20191120T093000
DTSTAMP:20260421T191632
CREATED:20181224T174428Z
LAST-MODIFIED:20181224T174428Z
UID:21389-1574240400-1574242200@tremontoncity.gov
SUMMARY:Development Review Committee
DESCRIPTION:The Development Review Committee meets every Wednesday at 9:00 a.m. unless there are no agenda items to discuss.  Click here to see the Development Review Committee Agenda.
URL:https://tremontoncity.gov/event/development-review-committee-44/
LOCATION:Development Review Committee\, 102 S Tremont Street\, Tremonton\, 84337
CATEGORIES:Development Review Committee
END:VEVENT
BEGIN:VEVENT
DTSTART;TZID=America/Denver:20191119T180000
DTEND;TZID=America/Denver:20191119T200000
DTSTAMP:20260421T191632
CREATED:20181224T182109Z
LAST-MODIFIED:20181224T182109Z
UID:21444-1574186400-1574193600@tremontoncity.gov
SUMMARY:City Council
DESCRIPTION:Tremonton City Council meets on the 1st and 3rd Tuesdays of each month. Click here to view the City Council agenda.
URL:https://tremontoncity.gov/event/city-council-61/
LOCATION:City Council\, 102 S Tremont St\, Tremonton\, 84337\, United States
CATEGORIES:City Council
END:VEVENT
BEGIN:VEVENT
DTSTART;TZID=America/Denver:20191113T090000
DTEND;TZID=America/Denver:20191113T093000
DTSTAMP:20260421T191632
CREATED:20181224T174341Z
LAST-MODIFIED:20181224T174341Z
UID:21387-1573635600-1573637400@tremontoncity.gov
SUMMARY:Development Review Committee
DESCRIPTION:The Development Review Committee meets every Wednesday at 9:00 a.m. unless there are no agenda items to discuss.  Click here to see the Development Review Committee Agenda.
URL:https://tremontoncity.gov/event/development-review-committee-43/
LOCATION:Development Review Committee\, 102 S Tremont Street\, Tremonton\, 84337
CATEGORIES:Development Review Committee
END:VEVENT
BEGIN:VEVENT
DTSTART;TZID=America/Denver:20191112T173000
DTEND;TZID=America/Denver:20191112T180000
DTSTAMP:20260421T191632
CREATED:20181224T185214Z
LAST-MODIFIED:20181224T185214Z
UID:21501-1573579800-1573581600@tremontoncity.gov
SUMMARY:Planning Commission
DESCRIPTION:The Planning Commission meets the 2nd\, 4th\, and 5th Tuesdays of each month.  Click here to see the Planning Commission Agenda.
URL:https://tremontoncity.gov/event/planning-commission-105/
LOCATION:Planning Commission\, 102 S Tremont Street\, Tremonton\, UT\, 84337\, United States
CATEGORIES:Planning Commission
END:VEVENT
BEGIN:VEVENT
DTSTART;VALUE=DATE:20191111
DTEND;VALUE=DATE:20191112
DTSTAMP:20260421T191632
CREATED:20181226T193555Z
LAST-MODIFIED:20181226T193555Z
UID:21533-1573430400-1573516799@tremontoncity.gov
SUMMARY:Closed for Veterans Day
DESCRIPTION:
URL:https://tremontoncity.gov/event/closed-for-veterans-day/
END:VEVENT
BEGIN:VEVENT
DTSTART;TZID=America/Denver:20191106T090000
DTEND;TZID=America/Denver:20191106T093000
DTSTAMP:20260421T191632
CREATED:20181224T174255Z
LAST-MODIFIED:20181224T174255Z
UID:21385-1573030800-1573032600@tremontoncity.gov
SUMMARY:Development Review Committee
DESCRIPTION:The Development Review Committee meets every Wednesday at 9:00 a.m. unless there are no agenda items to discuss.  Click here to see the Development Review Committee Agenda.
URL:https://tremontoncity.gov/event/development-review-committee-42/
LOCATION:Development Review Committee\, 102 S Tremont Street\, Tremonton\, 84337
CATEGORIES:Development Review Committee
END:VEVENT
BEGIN:VEVENT
DTSTART;TZID=America/Denver:20191105T180000
DTEND;TZID=America/Denver:20191105T200000
DTSTAMP:20260421T191632
CREATED:20181224T181953Z
LAST-MODIFIED:20181224T181953Z
UID:21442-1572976800-1572984000@tremontoncity.gov
SUMMARY:City Council
DESCRIPTION:Tremonton City Council meets on the 1st and 3rd Tuesdays of each month. Click here to view the City Council agenda.
URL:https://tremontoncity.gov/event/city-council-60/
LOCATION:City Council\, 102 S Tremont St\, Tremonton\, 84337\, United States
CATEGORIES:City Council
END:VEVENT
BEGIN:VEVENT
DTSTART;TZID=America/Denver:20191030T090000
DTEND;TZID=America/Denver:20191030T093000
DTSTAMP:20260421T191632
CREATED:20181224T174206Z
LAST-MODIFIED:20181224T174206Z
UID:21383-1572426000-1572427800@tremontoncity.gov
SUMMARY:Development Review Committee
DESCRIPTION:The Development Review Committee meets every Wednesday at 9:00 a.m. unless there are no agenda items to discuss.  Click here to see the Development Review Committee Agenda.
URL:https://tremontoncity.gov/event/development-review-committee-41/
LOCATION:Development Review Committee\, 102 S Tremont Street\, Tremonton\, 84337
CATEGORIES:Development Review Committee
END:VEVENT
BEGIN:VEVENT
DTSTART;TZID=America/Denver:20191029T173000
DTEND;TZID=America/Denver:20191029T180000
DTSTAMP:20260421T191632
CREATED:20181224T185135Z
LAST-MODIFIED:20181224T185135Z
UID:21499-1572370200-1572372000@tremontoncity.gov
SUMMARY:Planning Commission
DESCRIPTION:The Planning Commission meets the 2nd\, 4th\, and 5th Tuesdays of each month.  Click here to see the Planning Commission Agenda.
URL:https://tremontoncity.gov/event/planning-commission-104/
LOCATION:Planning Commission\, 102 S Tremont Street\, Tremonton\, UT\, 84337\, United States
CATEGORIES:Planning Commission
END:VEVENT
BEGIN:VEVENT
DTSTART;TZID=America/Denver:20191023T090000
DTEND;TZID=America/Denver:20191023T093000
DTSTAMP:20260421T191632
CREATED:20181224T174118Z
LAST-MODIFIED:20181224T174118Z
UID:21381-1571821200-1571823000@tremontoncity.gov
SUMMARY:Development Review Committee
DESCRIPTION:The Development Review Committee meets every Wednesday at 9:00 a.m. unless there are no agenda items to discuss.  Click here to see the Development Review Committee Agenda.
URL:https://tremontoncity.gov/event/development-review-committee-40/
LOCATION:Development Review Committee\, 102 S Tremont Street\, Tremonton\, 84337
CATEGORIES:Development Review Committee
END:VEVENT
BEGIN:VEVENT
DTSTART;TZID=America/Denver:20191022T173000
DTEND;TZID=America/Denver:20191022T180000
DTSTAMP:20260421T191632
CREATED:20181224T185059Z
LAST-MODIFIED:20181224T185059Z
UID:21497-1571765400-1571767200@tremontoncity.gov
SUMMARY:Planning Commission
DESCRIPTION:The Planning Commission meets the 2nd\, 4th\, and 5th Tuesdays of each month.  Click here to see the Planning Commission Agenda.
URL:https://tremontoncity.gov/event/planning-commission-103/
LOCATION:Planning Commission\, 102 S Tremont Street\, Tremonton\, UT\, 84337\, United States
CATEGORIES:Planning Commission
END:VEVENT
BEGIN:VEVENT
DTSTART;TZID=America/Denver:20191016T090000
DTEND;TZID=America/Denver:20191016T093000
DTSTAMP:20260421T191632
CREATED:20181224T174016Z
LAST-MODIFIED:20181224T174016Z
UID:21379-1571216400-1571218200@tremontoncity.gov
SUMMARY:Development Review Committee
DESCRIPTION:The Development Review Committee meets every Wednesday at 9:00 a.m. unless there are no agenda items to discuss.  Click here to see the Development Review Committee Agenda.
URL:https://tremontoncity.gov/event/development-review-committee-39/
LOCATION:Development Review Committee\, 102 S Tremont Street\, Tremonton\, 84337
CATEGORIES:Development Review Committee
END:VEVENT
BEGIN:VEVENT
DTSTART;TZID=America/Denver:20191015T180000
DTEND;TZID=America/Denver:20191015T200000
DTSTAMP:20260421T191632
CREATED:20181224T181712Z
LAST-MODIFIED:20181224T181712Z
UID:21439-1571162400-1571169600@tremontoncity.gov
SUMMARY:City Council
DESCRIPTION:Tremonton City Council meets on the 1st and 3rd Tuesdays of each month. Click here to view the City Council agenda.
URL:https://tremontoncity.gov/event/city-council-59/
LOCATION:City Council\, 102 S Tremont St\, Tremonton\, 84337\, United States
CATEGORIES:City Council
END:VEVENT
BEGIN:VEVENT
DTSTART;VALUE=DATE:20191014
DTEND;VALUE=DATE:20191015
DTSTAMP:20260421T191632
CREATED:20181226T193450Z
LAST-MODIFIED:20181226T193450Z
UID:21531-1571011200-1571097599@tremontoncity.gov
SUMMARY:Closed for Columbus Day
DESCRIPTION:
URL:https://tremontoncity.gov/event/closed-for-columbus-day/
END:VEVENT
END:VCALENDAR