BEGIN:VCALENDAR
VERSION:2.0
PRODID:-//Tremonton City - ECPv6.13.2.1//NONSGML v1.0//EN
CALSCALE:GREGORIAN
METHOD:PUBLISH
X-WR-CALNAME:Tremonton City
X-ORIGINAL-URL:https://tremontoncity.gov
X-WR-CALDESC:Events for Tremonton City
REFRESH-INTERVAL;VALUE=DURATION:PT1H
X-Robots-Tag:noindex
X-PUBLISHED-TTL:PT1H
BEGIN:VTIMEZONE
TZID:America/Denver
BEGIN:DAYLIGHT
TZOFFSETFROM:-0700
TZOFFSETTO:-0600
TZNAME:MDT
DTSTART:20190310T090000
END:DAYLIGHT
BEGIN:STANDARD
TZOFFSETFROM:-0600
TZOFFSETTO:-0700
TZNAME:MST
DTSTART:20191103T080000
END:STANDARD
END:VTIMEZONE
BEGIN:VEVENT
DTSTART;TZID=America/Denver:20191119T180000
DTEND;TZID=America/Denver:20191119T200000
DTSTAMP:20260423T054429
CREATED:20181224T182109Z
LAST-MODIFIED:20181224T182109Z
UID:21444-1574186400-1574193600@tremontoncity.gov
SUMMARY:City Council
DESCRIPTION:Tremonton City Council meets on the 1st and 3rd Tuesdays of each month. Click here to view the City Council agenda.
URL:https://tremontoncity.gov/event/city-council-61/
LOCATION:City Council\, 102 S Tremont St\, Tremonton\, 84337\, United States
CATEGORIES:City Council
END:VEVENT
BEGIN:VEVENT
DTSTART;TZID=America/Denver:20191113T090000
DTEND;TZID=America/Denver:20191113T093000
DTSTAMP:20260423T054429
CREATED:20181224T174341Z
LAST-MODIFIED:20181224T174341Z
UID:21387-1573635600-1573637400@tremontoncity.gov
SUMMARY:Development Review Committee
DESCRIPTION:The Development Review Committee meets every Wednesday at 9:00 a.m. unless there are no agenda items to discuss.  Click here to see the Development Review Committee Agenda.
URL:https://tremontoncity.gov/event/development-review-committee-43/
LOCATION:Development Review Committee\, 102 S Tremont Street\, Tremonton\, 84337
CATEGORIES:Development Review Committee
END:VEVENT
BEGIN:VEVENT
DTSTART;TZID=America/Denver:20191112T173000
DTEND;TZID=America/Denver:20191112T180000
DTSTAMP:20260423T054429
CREATED:20181224T185214Z
LAST-MODIFIED:20181224T185214Z
UID:21501-1573579800-1573581600@tremontoncity.gov
SUMMARY:Planning Commission
DESCRIPTION:The Planning Commission meets the 2nd\, 4th\, and 5th Tuesdays of each month.  Click here to see the Planning Commission Agenda.
URL:https://tremontoncity.gov/event/planning-commission-105/
LOCATION:Planning Commission\, 102 S Tremont Street\, Tremonton\, UT\, 84337\, United States
CATEGORIES:Planning Commission
END:VEVENT
BEGIN:VEVENT
DTSTART;VALUE=DATE:20191111
DTEND;VALUE=DATE:20191112
DTSTAMP:20260423T054429
CREATED:20181226T193555Z
LAST-MODIFIED:20181226T193555Z
UID:21533-1573430400-1573516799@tremontoncity.gov
SUMMARY:Closed for Veterans Day
DESCRIPTION:
URL:https://tremontoncity.gov/event/closed-for-veterans-day/
LOCATION:UT
END:VEVENT
BEGIN:VEVENT
DTSTART;TZID=America/Denver:20191106T090000
DTEND;TZID=America/Denver:20191106T093000
DTSTAMP:20260423T054429
CREATED:20181224T174255Z
LAST-MODIFIED:20181224T174255Z
UID:21385-1573030800-1573032600@tremontoncity.gov
SUMMARY:Development Review Committee
DESCRIPTION:The Development Review Committee meets every Wednesday at 9:00 a.m. unless there are no agenda items to discuss.  Click here to see the Development Review Committee Agenda.
URL:https://tremontoncity.gov/event/development-review-committee-42/
LOCATION:Development Review Committee\, 102 S Tremont Street\, Tremonton\, 84337
CATEGORIES:Development Review Committee
END:VEVENT
BEGIN:VEVENT
DTSTART;TZID=America/Denver:20191105T180000
DTEND;TZID=America/Denver:20191105T200000
DTSTAMP:20260423T054429
CREATED:20181224T181953Z
LAST-MODIFIED:20181224T181953Z
UID:21442-1572976800-1572984000@tremontoncity.gov
SUMMARY:City Council
DESCRIPTION:Tremonton City Council meets on the 1st and 3rd Tuesdays of each month. Click here to view the City Council agenda.
URL:https://tremontoncity.gov/event/city-council-60/
LOCATION:City Council\, 102 S Tremont St\, Tremonton\, 84337\, United States
CATEGORIES:City Council
END:VEVENT
BEGIN:VEVENT
DTSTART;TZID=America/Denver:20191030T090000
DTEND;TZID=America/Denver:20191030T093000
DTSTAMP:20260423T054429
CREATED:20181224T174206Z
LAST-MODIFIED:20181224T174206Z
UID:21383-1572426000-1572427800@tremontoncity.gov
SUMMARY:Development Review Committee
DESCRIPTION:The Development Review Committee meets every Wednesday at 9:00 a.m. unless there are no agenda items to discuss.  Click here to see the Development Review Committee Agenda.
URL:https://tremontoncity.gov/event/development-review-committee-41/
LOCATION:Development Review Committee\, 102 S Tremont Street\, Tremonton\, 84337
CATEGORIES:Development Review Committee
END:VEVENT
BEGIN:VEVENT
DTSTART;TZID=America/Denver:20191029T173000
DTEND;TZID=America/Denver:20191029T180000
DTSTAMP:20260423T054429
CREATED:20181224T185135Z
LAST-MODIFIED:20181224T185135Z
UID:21499-1572370200-1572372000@tremontoncity.gov
SUMMARY:Planning Commission
DESCRIPTION:The Planning Commission meets the 2nd\, 4th\, and 5th Tuesdays of each month.  Click here to see the Planning Commission Agenda.
URL:https://tremontoncity.gov/event/planning-commission-104/
LOCATION:Planning Commission\, 102 S Tremont Street\, Tremonton\, UT\, 84337\, United States
CATEGORIES:Planning Commission
END:VEVENT
BEGIN:VEVENT
DTSTART;TZID=America/Denver:20191023T090000
DTEND;TZID=America/Denver:20191023T093000
DTSTAMP:20260423T054429
CREATED:20181224T174118Z
LAST-MODIFIED:20181224T174118Z
UID:21381-1571821200-1571823000@tremontoncity.gov
SUMMARY:Development Review Committee
DESCRIPTION:The Development Review Committee meets every Wednesday at 9:00 a.m. unless there are no agenda items to discuss.  Click here to see the Development Review Committee Agenda.
URL:https://tremontoncity.gov/event/development-review-committee-40/
LOCATION:Development Review Committee\, 102 S Tremont Street\, Tremonton\, 84337
CATEGORIES:Development Review Committee
END:VEVENT
BEGIN:VEVENT
DTSTART;TZID=America/Denver:20191022T173000
DTEND;TZID=America/Denver:20191022T180000
DTSTAMP:20260423T054429
CREATED:20181224T185059Z
LAST-MODIFIED:20181224T185059Z
UID:21497-1571765400-1571767200@tremontoncity.gov
SUMMARY:Planning Commission
DESCRIPTION:The Planning Commission meets the 2nd\, 4th\, and 5th Tuesdays of each month.  Click here to see the Planning Commission Agenda.
URL:https://tremontoncity.gov/event/planning-commission-103/
LOCATION:Planning Commission\, 102 S Tremont Street\, Tremonton\, UT\, 84337\, United States
CATEGORIES:Planning Commission
END:VEVENT
BEGIN:VEVENT
DTSTART;TZID=America/Denver:20191016T090000
DTEND;TZID=America/Denver:20191016T093000
DTSTAMP:20260423T054429
CREATED:20181224T174016Z
LAST-MODIFIED:20181224T174016Z
UID:21379-1571216400-1571218200@tremontoncity.gov
SUMMARY:Development Review Committee
DESCRIPTION:The Development Review Committee meets every Wednesday at 9:00 a.m. unless there are no agenda items to discuss.  Click here to see the Development Review Committee Agenda.
URL:https://tremontoncity.gov/event/development-review-committee-39/
LOCATION:Development Review Committee\, 102 S Tremont Street\, Tremonton\, 84337
CATEGORIES:Development Review Committee
END:VEVENT
BEGIN:VEVENT
DTSTART;TZID=America/Denver:20191015T180000
DTEND;TZID=America/Denver:20191015T200000
DTSTAMP:20260423T054429
CREATED:20181224T181712Z
LAST-MODIFIED:20181224T181712Z
UID:21439-1571162400-1571169600@tremontoncity.gov
SUMMARY:City Council
DESCRIPTION:Tremonton City Council meets on the 1st and 3rd Tuesdays of each month. Click here to view the City Council agenda.
URL:https://tremontoncity.gov/event/city-council-59/
LOCATION:City Council\, 102 S Tremont St\, Tremonton\, 84337\, United States
CATEGORIES:City Council
END:VEVENT
BEGIN:VEVENT
DTSTART;VALUE=DATE:20191014
DTEND;VALUE=DATE:20191015
DTSTAMP:20260423T054429
CREATED:20181226T193450Z
LAST-MODIFIED:20181226T193450Z
UID:21531-1571011200-1571097599@tremontoncity.gov
SUMMARY:Closed for Columbus Day
DESCRIPTION:
URL:https://tremontoncity.gov/event/closed-for-columbus-day/
LOCATION:UT
END:VEVENT
BEGIN:VEVENT
DTSTART;TZID=America/Denver:20191009T080000
DTEND;TZID=America/Denver:20191009T170000
DTSTAMP:20260423T054429
CREATED:20181224T173928Z
LAST-MODIFIED:20181224T173928Z
UID:21377-1570608000-1570640400@tremontoncity.gov
SUMMARY:Development Review Committee
DESCRIPTION:The Development Review Committee meets every Wednesday at 9:00 a.m. unless there are no agenda items to discuss.  Click here to see the Development Review Committee Agenda.
URL:https://tremontoncity.gov/event/development-review-committee-38/
LOCATION:Development Review Committee\, 102 S Tremont Street\, Tremonton\, 84337
CATEGORIES:Development Review Committee
END:VEVENT
BEGIN:VEVENT
DTSTART;TZID=America/Denver:20191008T173000
DTEND;TZID=America/Denver:20191008T180000
DTSTAMP:20260423T054429
CREATED:20181224T185023Z
LAST-MODIFIED:20181224T185023Z
UID:21495-1570555800-1570557600@tremontoncity.gov
SUMMARY:Planning Commission
DESCRIPTION:The Planning Commission meets the 2nd\, 4th\, and 5th Tuesdays of each month.  Click here to see the Planning Commission Agenda.
URL:https://tremontoncity.gov/event/planning-commission-102/
LOCATION:Planning Commission\, 102 S Tremont Street\, Tremonton\, UT\, 84337\, United States
CATEGORIES:Planning Commission
END:VEVENT
BEGIN:VEVENT
DTSTART;TZID=America/Denver:20191002T090000
DTEND;TZID=America/Denver:20191002T093000
DTSTAMP:20260423T054429
CREATED:20181224T173844Z
LAST-MODIFIED:20181224T173844Z
UID:21375-1570006800-1570008600@tremontoncity.gov
SUMMARY:Development Review Committee
DESCRIPTION:The Development Review Committee meets every Wednesday at 9:00 a.m. unless there are no agenda items to discuss.  Click here to see the Development Review Committee Agenda.
URL:https://tremontoncity.gov/event/development-review-committee-37/
LOCATION:Development Review Committee\, 102 S Tremont Street\, Tremonton\, 84337
CATEGORIES:Development Review Committee
END:VEVENT
BEGIN:VEVENT
DTSTART;TZID=America/Denver:20191001T180000
DTEND;TZID=America/Denver:20191001T200000
DTSTAMP:20260423T054429
CREATED:20181224T181549Z
LAST-MODIFIED:20181224T181549Z
UID:21437-1569952800-1569960000@tremontoncity.gov
SUMMARY:City Council
DESCRIPTION:Tremonton City Council meets on the 1st and 3rd Tuesdays of each month. Click here to view the City Council agenda.
URL:https://tremontoncity.gov/event/city-council-58/
LOCATION:City Council\, 102 S Tremont St\, Tremonton\, 84337\, United States
CATEGORIES:City Council
END:VEVENT
BEGIN:VEVENT
DTSTART;TZID=America/Denver:20190925T090000
DTEND;TZID=America/Denver:20190925T093000
DTSTAMP:20260423T054429
CREATED:20181224T173749Z
LAST-MODIFIED:20181224T173749Z
UID:21373-1569402000-1569403800@tremontoncity.gov
SUMMARY:Development Review Committee
DESCRIPTION:The Development Review Committee meets every Wednesday at 9:00 a.m. unless there are no agenda items to discuss.  Click here to see the Development Review Committee Agenda.
URL:https://tremontoncity.gov/event/development-review-committee-36/
LOCATION:Development Review Committee\, 102 S Tremont Street\, Tremonton\, 84337
CATEGORIES:Development Review Committee
END:VEVENT
BEGIN:VEVENT
DTSTART;TZID=America/Denver:20190924T173000
DTEND;TZID=America/Denver:20190924T180000
DTSTAMP:20260423T054429
CREATED:20181224T184942Z
LAST-MODIFIED:20181224T184942Z
UID:21493-1569346200-1569348000@tremontoncity.gov
SUMMARY:Planning Commission
DESCRIPTION:The Planning Commission meets the 2nd\, 4th\, and 5th Tuesdays of each month.  Click here to see the Planning Commission Agenda.
URL:https://tremontoncity.gov/event/planning-commission-101/
LOCATION:Planning Commission\, 102 S Tremont Street\, Tremonton\, UT\, 84337\, United States
CATEGORIES:Planning Commission
END:VEVENT
BEGIN:VEVENT
DTSTART;TZID=America/Denver:20190918T090000
DTEND;TZID=America/Denver:20190918T093000
DTSTAMP:20260423T054429
CREATED:20181224T173658Z
LAST-MODIFIED:20181224T173658Z
UID:21371-1568797200-1568799000@tremontoncity.gov
SUMMARY:Development Review Committee
DESCRIPTION:The Development Review Committee meets every Wednesday at 9:00 a.m. unless there are no agenda items to discuss.  Click here to see the Development Review Committee Agenda.
URL:https://tremontoncity.gov/event/development-review-committee-35/
LOCATION:Development Review Committee\, 102 S Tremont Street\, Tremonton\, 84337
CATEGORIES:Development Review Committee
END:VEVENT
BEGIN:VEVENT
DTSTART;TZID=America/Denver:20190911T090000
DTEND;TZID=America/Denver:20190911T093000
DTSTAMP:20260423T054429
CREATED:20181224T173610Z
LAST-MODIFIED:20181224T173610Z
UID:21369-1568192400-1568194200@tremontoncity.gov
SUMMARY:Development Review Committee
DESCRIPTION:The Development Review Committee meets every Wednesday at 9:00 a.m. unless there are no agenda items to discuss.  Click here to see the Development Review Committee Agenda.
URL:https://tremontoncity.gov/event/development-review-committee-34/
LOCATION:Development Review Committee\, 102 S Tremont Street\, Tremonton\, 84337
CATEGORIES:Development Review Committee
END:VEVENT
BEGIN:VEVENT
DTSTART;TZID=America/Denver:20190910T173000
DTEND;TZID=America/Denver:20190910T180000
DTSTAMP:20260423T054429
CREATED:20181224T184905Z
LAST-MODIFIED:20181224T184905Z
UID:21491-1568136600-1568138400@tremontoncity.gov
SUMMARY:Planning Commission
DESCRIPTION:The Planning Commission meets the 2nd\, 4th\, and 5th Tuesdays of each month.  Click here to see the Planning Commission Agenda.
URL:https://tremontoncity.gov/event/planning-commission-100/
LOCATION:Planning Commission\, 102 S Tremont Street\, Tremonton\, UT\, 84337\, United States
CATEGORIES:Planning Commission
END:VEVENT
BEGIN:VEVENT
DTSTART;TZID=America/Denver:20190910T173000
DTEND;TZID=America/Denver:20190910T173000
DTSTAMP:20260423T054429
CREATED:20190814T173249Z
LAST-MODIFIED:20190814T173310Z
UID:22966-1568136600-1568136600@tremontoncity.gov
SUMMARY:Public Hearing - Rezoning
DESCRIPTION:Notice of Public Hearing – Rezoning Randy S. Archibald property
URL:https://tremontoncity.gov/event/public-hearing-rezoning/
LOCATION:Planning Commission\, 102 S Tremont Street\, Tremonton\, UT\, 84337\, United States
CATEGORIES:Planning Commission
END:VEVENT
BEGIN:VEVENT
DTSTART;TZID=America/Denver:20190904T090000
DTEND;TZID=America/Denver:20190904T093000
DTSTAMP:20260423T054429
CREATED:20181224T173508Z
LAST-MODIFIED:20181224T173508Z
UID:21367-1567587600-1567589400@tremontoncity.gov
SUMMARY:Development Review Committee
DESCRIPTION:The Development Review Committee meets every Wednesday at 9:00 a.m. unless there are no agenda items to discuss.  Click here to see the Development Review Committee Agenda.
URL:https://tremontoncity.gov/event/development-review-committee-33/
LOCATION:Development Review Committee\, 102 S Tremont Street\, Tremonton\, 84337
CATEGORIES:Development Review Committee
END:VEVENT
BEGIN:VEVENT
DTSTART;TZID=America/Denver:20190903T190000
DTEND;TZID=America/Denver:20190903T190000
DTSTAMP:20260423T054429
CREATED:20190815T210129Z
LAST-MODIFIED:20190815T210242Z
UID:22977-1567537200-1567537200@tremontoncity.gov
SUMMARY:Public Notice: Annexation
DESCRIPTION:Public Notice: Annexation
URL:https://tremontoncity.gov/event/public-notice-annexation/
LOCATION:City Council\, 102 S Tremont St\, Tremonton\, 84337\, United States
CATEGORIES:Public Hearing
END:VEVENT
BEGIN:VEVENT
DTSTART;TZID=America/Denver:20190903T180000
DTEND;TZID=America/Denver:20190903T200000
DTSTAMP:20260423T054429
CREATED:20181224T181403Z
LAST-MODIFIED:20181224T181403Z
UID:21435-1567533600-1567540800@tremontoncity.gov
SUMMARY:City Council
DESCRIPTION:Tremonton City Council meets on the 1st and 3rd Tuesdays of each month. Click here to view the City Council agenda.
URL:https://tremontoncity.gov/event/city-council-57/
LOCATION:City Council\, 102 S Tremont St\, Tremonton\, 84337\, United States
CATEGORIES:City Council
END:VEVENT
BEGIN:VEVENT
DTSTART;VALUE=DATE:20190902
DTEND;VALUE=DATE:20190903
DTSTAMP:20260423T054429
CREATED:20181226T193412Z
LAST-MODIFIED:20181226T193412Z
UID:21529-1567382400-1567468799@tremontoncity.gov
SUMMARY:Closed for Labor Day
DESCRIPTION:
URL:https://tremontoncity.gov/event/closed-for-labor-day/
LOCATION:UT
END:VEVENT
BEGIN:VEVENT
DTSTART;TZID=America/Denver:20190828T090000
DTEND;TZID=America/Denver:20190828T093000
DTSTAMP:20260423T054429
CREATED:20181224T173415Z
LAST-MODIFIED:20181224T173415Z
UID:21365-1566982800-1566984600@tremontoncity.gov
SUMMARY:Development Review Committee
DESCRIPTION:The Development Review Committee meets every Wednesday at 9:00 a.m. unless there are no agenda items to discuss.  Click here to see the Development Review Committee Agenda.
URL:https://tremontoncity.gov/event/development-review-committee-32/
LOCATION:Development Review Committee\, 102 S Tremont Street\, Tremonton\, 84337
CATEGORIES:Development Review Committee
END:VEVENT
BEGIN:VEVENT
DTSTART;TZID=America/Denver:20190827T173000
DTEND;TZID=America/Denver:20190827T180000
DTSTAMP:20260423T054429
CREATED:20181224T184826Z
LAST-MODIFIED:20181224T184826Z
UID:21489-1566927000-1566928800@tremontoncity.gov
SUMMARY:Planning Commission
DESCRIPTION:The Planning Commission meets the 2nd\, 4th\, and 5th Tuesdays of each month.  Click here to see the Planning Commission Agenda.
URL:https://tremontoncity.gov/event/planning-commission-99/
LOCATION:Planning Commission\, 102 S Tremont Street\, Tremonton\, UT\, 84337\, United States
CATEGORIES:Planning Commission
END:VEVENT
BEGIN:VEVENT
DTSTART;TZID=America/Denver:20190827T173000
DTEND;TZID=America/Denver:20190827T173000
DTSTAMP:20260423T054429
CREATED:20190801T192746Z
LAST-MODIFIED:20190801T192759Z
UID:22903-1566927000-1566927000@tremontoncity.gov
SUMMARY:Public Hearing
DESCRIPTION:Notice of Public Hearing \nThe Tremonton City Planning Commission will hold a Public Hearing on August 27\, 2019 102 South Tremont Street\, 5:30 p.m.\, or thereafter at which time public comment will be heard and consideration given to a proposed rezoning of property located at 1450 West 1000 North\, property ID 06-060-0016\, from Manufacturing Distribution-Business Park (MD-B) to Manufacturing-General Industrial District (MG). Comments may be submitted prior to the public hearing at Tremonton City hall\, 102 South Tremont Street\, Tremonton\, Utah during normal business hours. \nPublished in The Leader – August 14\, 2019 \nPO# 14071 \nProof of Publication requested. \nThank You \nSteve Bench\nTremonton City\n435-257-9510\nsbench@tremontoncity.com
URL:https://tremontoncity.gov/event/public-hearing-14/
LOCATION:Planning Commission\, 102 S Tremont Street\, Tremonton\, UT\, 84337\, United States
CATEGORIES:Planning Commission
END:VEVENT
END:VCALENDAR