BEGIN:VCALENDAR
VERSION:2.0
PRODID:-//Tremonton City - ECPv6.13.2.1//NONSGML v1.0//EN
CALSCALE:GREGORIAN
METHOD:PUBLISH
X-WR-CALNAME:Tremonton City
X-ORIGINAL-URL:https://tremontoncity.gov
X-WR-CALDESC:Events for Tremonton City
REFRESH-INTERVAL;VALUE=DURATION:PT1H
X-Robots-Tag:noindex
X-PUBLISHED-TTL:PT1H
BEGIN:VTIMEZONE
TZID:America/Denver
BEGIN:DAYLIGHT
TZOFFSETFROM:-0700
TZOFFSETTO:-0600
TZNAME:MDT
DTSTART:20190310T090000
END:DAYLIGHT
BEGIN:STANDARD
TZOFFSETFROM:-0600
TZOFFSETTO:-0700
TZNAME:MST
DTSTART:20191103T080000
END:STANDARD
END:VTIMEZONE
BEGIN:VEVENT
DTSTART;TZID=America/Denver:20190619T090000
DTEND;TZID=America/Denver:20190619T093000
DTSTAMP:20260422T231853
CREATED:20181224T172629Z
LAST-MODIFIED:20181224T172629Z
UID:21346-1560934800-1560936600@tremontoncity.gov
SUMMARY:Development Review Committee
DESCRIPTION:The Development Review Committee meets every Wednesday at 9:00 a.m. unless there are no agenda items to discuss.  Click here to see the Development Review Committee Agenda.
URL:https://tremontoncity.gov/event/development-review-committee-23/
LOCATION:Development Review Committee\, 102 S Tremont Street\, Tremonton\, 84337
CATEGORIES:Development Review Committee
END:VEVENT
BEGIN:VEVENT
DTSTART;TZID=America/Denver:20190618T180000
DTEND;TZID=America/Denver:20190618T200000
DTSTAMP:20260422T231853
CREATED:20181224T180637Z
LAST-MODIFIED:20181224T180637Z
UID:21425-1560880800-1560888000@tremontoncity.gov
SUMMARY:City Council
DESCRIPTION:Tremonton City Council meets on the 1st and 3rd Tuesdays of each month. Click here to view the City Council agenda.
URL:https://tremontoncity.gov/event/city-council-52/
LOCATION:City Council\, 102 S Tremont St\, Tremonton\, 84337\, United States
CATEGORIES:City Council
END:VEVENT
BEGIN:VEVENT
DTSTART;TZID=America/Denver:20190612T090000
DTEND;TZID=America/Denver:20190612T093000
DTSTAMP:20260422T231853
CREATED:20181224T172532Z
LAST-MODIFIED:20181224T172532Z
UID:21344-1560330000-1560331800@tremontoncity.gov
SUMMARY:Development Review Committee
DESCRIPTION:The Development Review Committee meets every Wednesday at 9:00 a.m. unless there are no agenda items to discuss.  Click here to see the Development Review Committee Agenda.
URL:https://tremontoncity.gov/event/development-review-committee-22/
LOCATION:Development Review Committee\, 102 S Tremont Street\, Tremonton\, 84337
CATEGORIES:Development Review Committee
END:VEVENT
BEGIN:VEVENT
DTSTART;TZID=America/Denver:20190611T173000
DTEND;TZID=America/Denver:20190611T180000
DTSTAMP:20260422T231853
CREATED:20181224T184423Z
LAST-MODIFIED:20181224T184423Z
UID:21477-1560274200-1560276000@tremontoncity.gov
SUMMARY:Planning Commission
DESCRIPTION:The Planning Commission meets the 2nd\, 4th\, and 5th Tuesdays of each month.  Click here to see the Planning Commission Agenda.
URL:https://tremontoncity.gov/event/planning-commission-93/
LOCATION:Planning Commission\, 102 S Tremont Street\, Tremonton\, UT\, 84337\, United States
CATEGORIES:Planning Commission
END:VEVENT
BEGIN:VEVENT
DTSTART;TZID=America/Denver:20190605T090000
DTEND;TZID=America/Denver:20190605T093000
DTSTAMP:20260422T231853
CREATED:20181224T172153Z
LAST-MODIFIED:20181224T172153Z
UID:21342-1559725200-1559727000@tremontoncity.gov
SUMMARY:Development Review Committee
DESCRIPTION:The Development Review Committee meets every Wednesday at 9:00 a.m. unless there are no agenda items to discuss.  Click here to see the Development Review Committee Agenda.
URL:https://tremontoncity.gov/event/development-review-committee-21/
LOCATION:Development Review Committee\, 102 S Tremont Street\, Tremonton\, 84337
CATEGORIES:Development Review Committee
END:VEVENT
BEGIN:VEVENT
DTSTART;TZID=America/Denver:20190604T180000
DTEND;TZID=America/Denver:20190604T200000
DTSTAMP:20260422T231853
CREATED:20181224T180555Z
LAST-MODIFIED:20181224T180555Z
UID:21423-1559671200-1559678400@tremontoncity.gov
SUMMARY:City Council
DESCRIPTION:Tremonton City Council meets on the 1st and 3rd Tuesdays of each month. Click here to view the City Council agenda.
URL:https://tremontoncity.gov/event/city-council-51/
LOCATION:City Council\, 102 S Tremont St\, Tremonton\, 84337\, United States
CATEGORIES:City Council
END:VEVENT
BEGIN:VEVENT
DTSTART;TZID=America/Denver:20190529T090000
DTEND;TZID=America/Denver:20190529T093000
DTSTAMP:20260422T231853
CREATED:20181224T172040Z
LAST-MODIFIED:20181224T172040Z
UID:21340-1559120400-1559122200@tremontoncity.gov
SUMMARY:Development Review Committee
DESCRIPTION:The Development Review Committee meets every Wednesday at 9:00 a.m. unless there are no agenda items to discuss.  Click here to see the Development Review Committee Agenda.
URL:https://tremontoncity.gov/event/development-review-committee-20/
LOCATION:Development Review Committee\, 102 S Tremont Street\, Tremonton\, 84337
CATEGORIES:Development Review Committee
END:VEVENT
BEGIN:VEVENT
DTSTART;TZID=America/Denver:20190528T173000
DTEND;TZID=America/Denver:20190528T180000
DTSTAMP:20260422T231853
CREATED:20181224T184345Z
LAST-MODIFIED:20181224T184345Z
UID:21475-1559064600-1559066400@tremontoncity.gov
SUMMARY:Planning Commission
DESCRIPTION:The Planning Commission meets the 2nd\, 4th\, and 5th Tuesdays of each month.  Click here to see the Planning Commission Agenda.
URL:https://tremontoncity.gov/event/planning-commission-92/
LOCATION:Planning Commission\, 102 S Tremont Street\, Tremonton\, UT\, 84337\, United States
CATEGORIES:Planning Commission
END:VEVENT
BEGIN:VEVENT
DTSTART;TZID=America/Denver:20190528T173000
DTEND;TZID=America/Denver:20190528T173000
DTSTAMP:20260422T231853
CREATED:20190426T172654Z
LAST-MODIFIED:20190426T172742Z
UID:22243-1559064600-1559064600@tremontoncity.gov
SUMMARY:Public Hearing
DESCRIPTION:Notice of Public Hearing \nThe Tremonton City Planning Commission will hold a Public Hearing on May 28\, 2019\, at 102 South Tremont Street at 5:30 p.m. or thereafter\, at which time public comment will be heard and consideration given to the following proposed amendments\, Title I Zoning Ordinance amendments\, Chapter 1.03 Definitions Automobile/Implement Sales Area; Chapter 1.08 Automobile/Implement Sales/Service as a permitted use and language corrections; Chapter 1.17 Off-Street Parking Regulations exempting Automobile/Implement sales area parking lots from landscape islands; Chapter 1.18 Landscaping\, Buffering\, and Fencing Regulations amending buffer widths between adjacent land uses and language corrections; Chapter 1.19 Supplementary Regulations relocating Towing and Impound Yards from Chapter 1.08. Title II Subdivision Ordinance amending language of Notary Acknowledgments\, lots with double street frontage\, and fencing from canals and railroad. Comments may be submitted prior to the public hearing at Tremonton City Hall\, 102 South Tremont Street\, Tremonton\, Utah during normal business hours.
URL:https://tremontoncity.gov/event/public-hearing-13/
LOCATION:Planning Commission\, 102 S Tremont Street\, Tremonton\, UT\, 84337\, United States
END:VEVENT
BEGIN:VEVENT
DTSTART;VALUE=DATE:20190527
DTEND;VALUE=DATE:20190528
DTSTAMP:20260422T231853
CREATED:20181226T193226Z
LAST-MODIFIED:20181226T193226Z
UID:21523-1558915200-1559001599@tremontoncity.gov
SUMMARY:Closed for Memorial Day
DESCRIPTION:
URL:https://tremontoncity.gov/event/closed-for-memorial-day/
END:VEVENT
BEGIN:VEVENT
DTSTART;TZID=America/Denver:20190522T090000
DTEND;TZID=America/Denver:20190522T093000
DTSTAMP:20260422T231853
CREATED:20181224T171934Z
LAST-MODIFIED:20181224T171934Z
UID:21338-1558515600-1558517400@tremontoncity.gov
SUMMARY:Development Review Committee
DESCRIPTION:The Development Review Committee meets every Wednesday at 9:00 a.m. unless there are no agenda items to discuss.  Click here to see the Development Review Committee Agenda.
URL:https://tremontoncity.gov/event/development-review-committee-19/
LOCATION:Development Review Committee\, 102 S Tremont Street\, Tremonton\, 84337
CATEGORIES:Development Review Committee
END:VEVENT
BEGIN:VEVENT
DTSTART;TZID=America/Denver:20190521T180000
DTEND;TZID=America/Denver:20190521T200000
DTSTAMP:20260422T231853
CREATED:20181224T180510Z
LAST-MODIFIED:20181224T180510Z
UID:21421-1558461600-1558468800@tremontoncity.gov
SUMMARY:City Council
DESCRIPTION:Tremonton City Council meets on the 1st and 3rd Tuesdays of each month. Click here to view the City Council agenda.
URL:https://tremontoncity.gov/event/city-council-50/
LOCATION:City Council\, 102 S Tremont St\, Tremonton\, 84337\, United States
CATEGORIES:City Council
END:VEVENT
BEGIN:VEVENT
DTSTART;TZID=America/Denver:20190515T090000
DTEND;TZID=America/Denver:20190515T093000
DTSTAMP:20260422T231853
CREATED:20181224T171850Z
LAST-MODIFIED:20181224T171850Z
UID:21336-1557910800-1557912600@tremontoncity.gov
SUMMARY:Development Review Committee
DESCRIPTION:The Development Review Committee meets every Wednesday at 9:00 a.m. unless there are no agenda items to discuss.  Click here to see the Development Review Committee Agenda.
URL:https://tremontoncity.gov/event/development-review-committee-18/
LOCATION:Development Review Committee\, 102 S Tremont Street\, Tremonton\, 84337
CATEGORIES:Development Review Committee
END:VEVENT
BEGIN:VEVENT
DTSTART;TZID=America/Denver:20190514T173000
DTEND;TZID=America/Denver:20190514T180000
DTSTAMP:20260422T231853
CREATED:20181224T184306Z
LAST-MODIFIED:20181224T184306Z
UID:21473-1557855000-1557856800@tremontoncity.gov
SUMMARY:Planning Commission
DESCRIPTION:The Planning Commission meets the 2nd\, 4th\, and 5th Tuesdays of each month.  Click here to see the Planning Commission Agenda.
URL:https://tremontoncity.gov/event/planning-commission-91/
LOCATION:Planning Commission\, 102 S Tremont Street\, Tremonton\, UT\, 84337\, United States
CATEGORIES:Planning Commission
END:VEVENT
BEGIN:VEVENT
DTSTART;TZID=America/Denver:20190508T090000
DTEND;TZID=America/Denver:20190508T093000
DTSTAMP:20260422T231853
CREATED:20181224T171802Z
LAST-MODIFIED:20181224T171802Z
UID:21334-1557306000-1557307800@tremontoncity.gov
SUMMARY:Development Review Committee
DESCRIPTION:The Development Review Committee meets every Wednesday at 9:00 a.m. unless there are no agenda items to discuss.  Click here to see the Development Review Committee Agenda.
URL:https://tremontoncity.gov/event/development-review-committee-17/
LOCATION:Development Review Committee\, 102 S Tremont Street\, Tremonton\, 84337
CATEGORIES:Development Review Committee
END:VEVENT
BEGIN:VEVENT
DTSTART;TZID=America/Denver:20190507T173000
DTEND;TZID=America/Denver:20190507T183000
DTSTAMP:20260422T231853
CREATED:20181224T180410Z
LAST-MODIFIED:20190503T222538Z
UID:21419-1557250200-1557253800@tremontoncity.gov
SUMMARY:City Council
DESCRIPTION:Tremonton City Council meets on the 1st and 3rd Tuesdays of each month. Click here to view the City Council agenda.
URL:https://tremontoncity.gov/event/city-council-49/
LOCATION:City Council\, 102 S Tremont St\, Tremonton\, 84337\, United States
CATEGORIES:City Council
END:VEVENT
BEGIN:VEVENT
DTSTART;TZID=America/Denver:20190507T170000
DTEND;TZID=America/Denver:20190507T170000
DTSTAMP:20260422T231853
CREATED:20190418T220158Z
LAST-MODIFIED:20190418T220158Z
UID:22214-1557248400-1557248400@tremontoncity.gov
SUMMARY:Public Hearing: RDA Tentative Budget 2019-2020
DESCRIPTION:Click here to see public hearing notice
URL:https://tremontoncity.gov/event/public-hearing-rda-tentative-budget-2019-2020/
LOCATION:City Council\, 102 S Tremont St\, Tremonton\, 84337\, United States
CATEGORIES:City Council,Public Hearing
END:VEVENT
BEGIN:VEVENT
DTSTART;TZID=America/Denver:20190507T170000
DTEND;TZID=America/Denver:20190507T170000
DTSTAMP:20260422T231853
CREATED:20190418T215416Z
LAST-MODIFIED:20190418T215805Z
UID:22212-1557248400-1557248400@tremontoncity.gov
SUMMARY:Public Hearing: Tentative Budget 2019-2020
DESCRIPTION:Click here to see Public Hearing Notice
URL:https://tremontoncity.gov/event/public-hearing-tentative-budget-2019-2020/
LOCATION:City Council\, 102 S Tremont St\, Tremonton\, 84337\, United States
CATEGORIES:City Council,Public Hearing
END:VEVENT
BEGIN:VEVENT
DTSTART;TZID=America/Denver:20190501T090000
DTEND;TZID=America/Denver:20190501T093000
DTSTAMP:20260422T231853
CREATED:20181224T171615Z
LAST-MODIFIED:20181224T171615Z
UID:21332-1556701200-1556703000@tremontoncity.gov
SUMMARY:Development Review Committee
DESCRIPTION:The Development Review Committee meets every Wednesday at 9:00 a.m. unless there are no agenda items to discuss.  Click here to see the Development Review Committee Agenda.
URL:https://tremontoncity.gov/event/development-review-committee-16/
LOCATION:Development Review Committee\, 102 S Tremont Street\, Tremonton\, 84337
CATEGORIES:Development Review Committee
END:VEVENT
BEGIN:VEVENT
DTSTART;TZID=America/Denver:20190430T173000
DTEND;TZID=America/Denver:20190430T180000
DTSTAMP:20260422T231853
CREATED:20181224T184225Z
LAST-MODIFIED:20181224T184225Z
UID:21471-1556645400-1556647200@tremontoncity.gov
SUMMARY:Planning Commission
DESCRIPTION:The Planning Commission meets the 2nd\, 4th\, and 5th Tuesdays of each month.  Click here to see the Planning Commission Agenda.
URL:https://tremontoncity.gov/event/planning-commission-90/
LOCATION:Planning Commission\, 102 S Tremont Street\, Tremonton\, UT\, 84337\, United States
CATEGORIES:Planning Commission
END:VEVENT
BEGIN:VEVENT
DTSTART;TZID=America/Denver:20190424T090000
DTEND;TZID=America/Denver:20190424T093000
DTSTAMP:20260422T231853
CREATED:20181224T171455Z
LAST-MODIFIED:20181224T171455Z
UID:21330-1556096400-1556098200@tremontoncity.gov
SUMMARY:Development Review Committee
DESCRIPTION:The Development Review Committee meets every Wednesday at 9:00 a.m. unless there are no agenda items to discuss.  Click here to see the Development Review Committee Agenda.
URL:https://tremontoncity.gov/event/development-review-committee-15/
LOCATION:Development Review Committee\, 102 S Tremont Street\, Tremonton\, 84337
CATEGORIES:Development Review Committee
END:VEVENT
BEGIN:VEVENT
DTSTART;TZID=America/Denver:20190423T173000
DTEND;TZID=America/Denver:20190423T180000
DTSTAMP:20260422T231853
CREATED:20181224T184146Z
LAST-MODIFIED:20181224T184146Z
UID:21470-1556040600-1556042400@tremontoncity.gov
SUMMARY:Planning Commission
DESCRIPTION:The Planning Commission meets the 2nd\, 4th\, and 5th Tuesdays of each month.  Click here to see the Planning Commission Agenda.
URL:https://tremontoncity.gov/event/planning-commission-89/
LOCATION:Planning Commission\, 102 S Tremont Street\, Tremonton\, UT\, 84337\, United States
CATEGORIES:Planning Commission
END:VEVENT
BEGIN:VEVENT
DTSTART;TZID=America/Denver:20190417T090000
DTEND;TZID=America/Denver:20190417T093000
DTSTAMP:20260422T231853
CREATED:20181224T171209Z
LAST-MODIFIED:20181224T171209Z
UID:21328-1555491600-1555493400@tremontoncity.gov
SUMMARY:Development Review Committee
DESCRIPTION:The Development Review Committee meets every Wednesday at 9:00 a.m. unless there are no agenda items to discuss.  Click here to see the Development Review Committee Agenda.
URL:https://tremontoncity.gov/event/development-review-committee-14/
LOCATION:Development Review Committee\, 102 S Tremont Street\, Tremonton\, 84337
CATEGORIES:Development Review Committee
END:VEVENT
BEGIN:VEVENT
DTSTART;TZID=America/Denver:20190416T190000
DTEND;TZID=America/Denver:20190416T190000
DTSTAMP:20260422T231853
CREATED:20190328T160717Z
LAST-MODIFIED:20190328T160717Z
UID:22101-1555441200-1555441200@tremontoncity.gov
SUMMARY:Public Hearing: RDA Budget Amendment
DESCRIPTION:Public Hearing Notice \nNotice is hereby given that the Redevelopment Agency of Tremonton City will hold a public hearing on April 16\, 2019 immediately following the City Council Meeting scheduled to begin at 7:00 p.m.\, in the Civic Center at 102 South Tremont Street\, Tremonton\, Utah 84337. The purpose of the hearing is to consider amending the Annual Budget entitled “The Redevelopment Agency of Tremonton City Annual Implementation Budget 2018-2019 for Tremonton West Liberty Foods EDA 172 and Fund 71 RDA District #2 – Downtown\, for the period commencing July 1\, 2018 and ending June 30\, 2019. \nA copy of the proposed Budget amendments will be on file for public inspection in the office of the Redevelopment Agency of Tremonton City at 102 South Tremont Street\, Tremonton\, Utah 84337 on April 3\, 2019. Interested persons are invited to appear at the public hearing or to file written comments with the Tremonton City Recorder regarding adoption of the proposed Annual RDA Budget amendments. \nLinsey Nessen\nExecutive Secretary \nTo be published in The Leader: April 3\, 2019 \nPROOF OF PUBLICATION REQUIRED\nPurchase Order No. 13280
URL:https://tremontoncity.gov/event/public-hearing-rda-budget-amendment/
LOCATION:Redevelopment Agency\, 102 S Tremont St\, Tremonton\, UT\, 84337\, United States
CATEGORIES:Public Hearing
END:VEVENT
BEGIN:VEVENT
DTSTART;TZID=America/Denver:20190416T190000
DTEND;TZID=America/Denver:20190416T190000
DTSTAMP:20260422T231853
CREATED:20190328T155942Z
LAST-MODIFIED:20190328T155942Z
UID:22097-1555441200-1555441200@tremontoncity.gov
SUMMARY:Public Hearing: Budget Amendment
DESCRIPTION:Public Hearing Notice \nNotice is hereby given that Tremonton City will hold a public hearing on April 16\, 2019 at 7:00 p.m. in the Civic Center at 102 South Tremont Street\, Tremonton\, Utah 84337. The purpose of the hearing is to consider amending the Budget entitled “The Tremonton City Annual Implementation Budget 2018-2019 (General Fund\, Capital Fund(s)\, Enterprise Fund(s)\, and Special Funds)”\, for the period commencing July 1\, 2018 and ending June 30\, 2019. \nA copy of the proposed budget amendments will be on file for public inspection on April 3\, 2019 in the City Office\, 102 South Tremont Street\, Tremonton\, Utah 84337. Interested persons are invited to appear at the public hearing or to file written comments with the Tremonton City Recorder regarding adoption of the proposed budget amendments. \nLinsey Nessen\nCity Recorder \nTo be published in The Leader: April 3\, 2019 \nPROOF OF PUBLICATION REQUIRED\nPurchase Order No. 13280
URL:https://tremontoncity.gov/event/public-hearing-budget-amendment/
LOCATION:City Council\, 102 S Tremont St\, Tremonton\, 84337\, United States
CATEGORIES:City Council,Public Hearing
END:VEVENT
BEGIN:VEVENT
DTSTART;TZID=America/Denver:20190416T190000
DTEND;TZID=America/Denver:20190416T190000
DTSTAMP:20260422T231853
CREATED:20190320T183327Z
LAST-MODIFIED:20190320T183327Z
UID:22067-1555441200-1555441200@tremontoncity.gov
SUMMARY:Public Hearing: Water Revenue Bonds 2019
DESCRIPTION:Click here for more details
URL:https://tremontoncity.gov/event/public-hearing-water-revenue-bonds-2019/
LOCATION:City Council\, 102 S Tremont St\, Tremonton\, 84337\, United States
CATEGORIES:City Council,Public Hearing
END:VEVENT
BEGIN:VEVENT
DTSTART;TZID=America/Denver:20190416T180000
DTEND;TZID=America/Denver:20190416T200000
DTSTAMP:20260422T231853
CREATED:20181224T180239Z
LAST-MODIFIED:20181224T180239Z
UID:21417-1555437600-1555444800@tremontoncity.gov
SUMMARY:City Council
DESCRIPTION:Tremonton City Council meets on the 1st and 3rd Tuesdays of each month. Click here to view the City Council agenda.
URL:https://tremontoncity.gov/event/city-council-48/
LOCATION:City Council\, 102 S Tremont St\, Tremonton\, 84337\, United States
CATEGORIES:City Council
END:VEVENT
BEGIN:VEVENT
DTSTART;TZID=America/Denver:20190410T090000
DTEND;TZID=America/Denver:20190410T093000
DTSTAMP:20260422T231853
CREATED:20181224T170731Z
LAST-MODIFIED:20181224T170731Z
UID:21326-1554886800-1554888600@tremontoncity.gov
SUMMARY:Development Review Committee
DESCRIPTION:The Development Review Committee meets every Wednesday at 9:00 a.m. unless there are no agenda items to discuss.  Click here to see the Development Review Committee Agenda.
URL:https://tremontoncity.gov/event/development-review-committee-13/
LOCATION:Development Review Committee\, 102 S Tremont Street\, Tremonton\, 84337
CATEGORIES:Development Review Committee
END:VEVENT
BEGIN:VEVENT
DTSTART;TZID=America/Denver:20190409T173000
DTEND;TZID=America/Denver:20190409T180000
DTSTAMP:20260422T231853
CREATED:20181224T184029Z
LAST-MODIFIED:20181224T184029Z
UID:21466-1554831000-1554832800@tremontoncity.gov
SUMMARY:Planning Commission
DESCRIPTION:The Planning Commission meets the 2nd\, 4th\, and 5th Tuesdays of each month.  Click here to see the Planning Commission Agenda.
URL:https://tremontoncity.gov/event/planning-commission-88/
LOCATION:Planning Commission\, 102 S Tremont Street\, Tremonton\, UT\, 84337\, United States
CATEGORIES:Planning Commission
END:VEVENT
BEGIN:VEVENT
DTSTART;TZID=America/Denver:20190409T173000
DTEND;TZID=America/Denver:20190409T173000
DTSTAMP:20260422T231853
CREATED:20190318T164259Z
LAST-MODIFIED:20190318T164259Z
UID:22025-1554831000-1554831000@tremontoncity.gov
SUMMARY:Public Hearing
DESCRIPTION:Notice of Public Hearing \nThe Tremonton City Planning Commission will hold a Public Hearing on April 9\, 2019 102 South Tremont Street\, 5:30 p.m.\, or thereafter\, at which time public comment will be heard and consideration given to a proposed rezone of property from Commercial Development (CD) to Residential Multi-Family (RM-16) located at 130 North 400 West. Comments may be submitted prior to the public hearing at Tremonton City hall\, 102 South Tremont Street\, Tremonton\, Utah during normal business hours. \nPublished in The Leader – March 27\, 2019
URL:https://tremontoncity.gov/event/public-hearing-12/
LOCATION:Planning Commission\, 102 S Tremont Street\, Tremonton\, UT\, 84337\, United States
CATEGORIES:Planning Commission,Public Hearing
END:VEVENT
END:VCALENDAR