BEGIN:VCALENDAR
VERSION:2.0
PRODID:-//Tremonton City - ECPv6.13.2.1//NONSGML v1.0//EN
CALSCALE:GREGORIAN
METHOD:PUBLISH
X-WR-CALNAME:Tremonton City
X-ORIGINAL-URL:https://tremontoncity.gov
X-WR-CALDESC:Events for Tremonton City
REFRESH-INTERVAL;VALUE=DURATION:PT1H
X-Robots-Tag:noindex
X-PUBLISHED-TTL:PT1H
BEGIN:VTIMEZONE
TZID:America/Denver
BEGIN:DAYLIGHT
TZOFFSETFROM:-0700
TZOFFSETTO:-0600
TZNAME:MDT
DTSTART:20190310T090000
END:DAYLIGHT
BEGIN:STANDARD
TZOFFSETFROM:-0600
TZOFFSETTO:-0700
TZNAME:MST
DTSTART:20191103T080000
END:STANDARD
END:VTIMEZONE
BEGIN:VEVENT
DTSTART;TZID=America/Denver:20190403T090000
DTEND;TZID=America/Denver:20190403T093000
DTSTAMP:20260423T045636
CREATED:20181224T170428Z
LAST-MODIFIED:20181224T170428Z
UID:21324-1554282000-1554283800@tremontoncity.gov
SUMMARY:Development Review Committee
DESCRIPTION:The Development Review Committee meets every Wednesday at 9:00 a.m. unless there are no agenda items to discuss.  Click here to see the Development Review Committee Agenda.
URL:https://tremontoncity.gov/event/development-review-committee-12/
LOCATION:Development Review Committee\, 102 S Tremont Street\, Tremonton\, 84337
CATEGORIES:Development Review Committee
END:VEVENT
BEGIN:VEVENT
DTSTART;TZID=America/Denver:20190402T180000
DTEND;TZID=America/Denver:20190402T200000
DTSTAMP:20260423T045636
CREATED:20181224T180123Z
LAST-MODIFIED:20181224T180123Z
UID:21415-1554228000-1554235200@tremontoncity.gov
SUMMARY:City Council
DESCRIPTION:Tremonton City Council meets on the 1st and 3rd Tuesdays of each month. Click here to view the City Council agenda.
URL:https://tremontoncity.gov/event/city-council-47/
LOCATION:City Council\, 102 S Tremont St\, Tremonton\, 84337\, United States
CATEGORIES:City Council
END:VEVENT
BEGIN:VEVENT
DTSTART;TZID=America/Denver:20190327T090000
DTEND;TZID=America/Denver:20190327T093000
DTSTAMP:20260423T045636
CREATED:20181224T170250Z
LAST-MODIFIED:20181224T170250Z
UID:21322-1553677200-1553679000@tremontoncity.gov
SUMMARY:Development Review Committee
DESCRIPTION:The Development Review Committee meets every Wednesday at 9:00 a.m. unless there are no agenda items to discuss.  Click here to see the Development Review Committee Agenda.
URL:https://tremontoncity.gov/event/development-review-committee-11/
LOCATION:Development Review Committee\, 102 S Tremont Street\, Tremonton\, 84337
CATEGORIES:Development Review Committee
END:VEVENT
BEGIN:VEVENT
DTSTART;TZID=America/Denver:20190326T173000
DTEND;TZID=America/Denver:20190326T180000
DTSTAMP:20260423T045636
CREATED:20181224T183915Z
LAST-MODIFIED:20181224T183915Z
UID:21464-1553621400-1553623200@tremontoncity.gov
SUMMARY:Planning Commission
DESCRIPTION:The Planning Commission meets the 2nd\, 4th\, and 5th Tuesdays of each month.  Click here to see the Planning Commission Agenda.
URL:https://tremontoncity.gov/event/planning-commission-87/
LOCATION:Planning Commission\, 102 S Tremont Street\, Tremonton\, UT\, 84337\, United States
CATEGORIES:Planning Commission
END:VEVENT
BEGIN:VEVENT
DTSTART;TZID=America/Denver:20190320T090000
DTEND;TZID=America/Denver:20190320T093000
DTSTAMP:20260423T045636
CREATED:20181224T170043Z
LAST-MODIFIED:20181224T170043Z
UID:21320-1553072400-1553074200@tremontoncity.gov
SUMMARY:Development Review Committee
DESCRIPTION:The Development Review Committee meets every Wednesday at 9:00 a.m. unless there are no agenda items to discuss.  Click here to see the Development Review Committee Agenda.
URL:https://tremontoncity.gov/event/development-review-committee-10/
LOCATION:Development Review Committee\, 102 S Tremont Street\, Tremonton\, 84337
CATEGORIES:Development Review Committee
END:VEVENT
BEGIN:VEVENT
DTSTART;TZID=America/Denver:20190319T180000
DTEND;TZID=America/Denver:20190319T200000
DTSTAMP:20260423T045636
CREATED:20181224T175955Z
LAST-MODIFIED:20181224T175955Z
UID:21413-1553018400-1553025600@tremontoncity.gov
SUMMARY:City Council
DESCRIPTION:Tremonton City Council meets on the 1st and 3rd Tuesdays of each month. Click here to view the City Council agenda.
URL:https://tremontoncity.gov/event/city-council-46/
LOCATION:City Council\, 102 S Tremont St\, Tremonton\, 84337\, United States
CATEGORIES:City Council
END:VEVENT
BEGIN:VEVENT
DTSTART;TZID=America/Denver:20190313T090000
DTEND;TZID=America/Denver:20190313T093000
DTSTAMP:20260423T045636
CREATED:20181224T165902Z
LAST-MODIFIED:20181224T165902Z
UID:21318-1552467600-1552469400@tremontoncity.gov
SUMMARY:Development Review Committee
DESCRIPTION:The Development Review Committee meets every Wednesday at 9:00 a.m. unless there are no agenda items to discuss.  Click here to see the Development Review Committee Agenda.
URL:https://tremontoncity.gov/event/development-review-committee-9/
LOCATION:Development Review Committee\, 102 S Tremont Street\, Tremonton\, 84337
CATEGORIES:Development Review Committee
END:VEVENT
BEGIN:VEVENT
DTSTART;TZID=America/Denver:20190312T173000
DTEND;TZID=America/Denver:20190312T180000
DTSTAMP:20260423T045636
CREATED:20181224T183827Z
LAST-MODIFIED:20181224T183827Z
UID:21462-1552411800-1552413600@tremontoncity.gov
SUMMARY:Planning Commission
DESCRIPTION:The Planning Commission meets the 2nd\, 4th\, and 5th Tuesdays of each month.  Click here to see the Planning Commission Agenda.
URL:https://tremontoncity.gov/event/planning-commission-86/
LOCATION:Planning Commission\, 102 S Tremont Street\, Tremonton\, UT\, 84337\, United States
CATEGORIES:Planning Commission
END:VEVENT
BEGIN:VEVENT
DTSTART;TZID=America/Denver:20190309T080000
DTEND;TZID=America/Denver:20190309T233000
DTSTAMP:20260423T045636
CREATED:20181217T235516Z
LAST-MODIFIED:20190204T230937Z
UID:21258-1552118400-1552174200@tremontoncity.gov
SUMMARY:Pickleball Super Slam
DESCRIPTION:The fastest growing sport in America! Pickleball is a multi-generational sport for both the young and the young at heart. In this fun round robin format tournament\, you will definitely get your money’s worth. 16 players max\, players will play 15 games with 15 different partners your same skill level on 4 courts in 4 hours. Players will play twice as many games than any other tournament in half the time. \n\n\n\nDivision\nDate\nTime\nFee\nLocation\nFormat\n\n\n2.5\nMarch 9\n8 am\n$20\nBox Elder Fairgrounds\nRound Robin\n\n\n3.0\nMarch 9\n1 pm\n$20\nBox Elder Fairgrounds\nRound Robin\n\n\n3.5-4.0\nMarch 9\n6 pm\n$20\nBox Elder Fairgrounds\nRound Robin\n\n\n\n  \nSign up Online HERE!
URL:https://tremontoncity.gov/event/pickleball-super-slam/
LOCATION:BEC Fairgrounds Events Building\, 350 N. 1000 W.\, Tremonton\, UT\, 84337\, United States
CATEGORIES:Parks and Recreation
ATTACH;FMTTYPE=image/jpeg:https://tremontoncity.gov/wp-content/uploads/2018/12/Pickleball-SuperSlam.jpg
ORGANIZER;CN="Tremonton Recreation":MAILTO:Recreation@tremontoncity.com
END:VEVENT
BEGIN:VEVENT
DTSTART;TZID=America/Denver:20190306T090000
DTEND;TZID=America/Denver:20190306T093000
DTSTAMP:20260423T045636
CREATED:20181224T164616Z
LAST-MODIFIED:20181224T164616Z
UID:21316-1551862800-1551864600@tremontoncity.gov
SUMMARY:Development Review Committee
DESCRIPTION:The Development Review Committee meets every Wednesday at 9:00 a.m. unless there are no agenda items to discuss.  Click here to see the Development Review Committee Agenda.
URL:https://tremontoncity.gov/event/development-review-committee-8/
LOCATION:Development Review Committee\, 102 S Tremont Street\, Tremonton\, 84337
CATEGORIES:Development Review Committee
END:VEVENT
BEGIN:VEVENT
DTSTART;TZID=America/Denver:20190305T180000
DTEND;TZID=America/Denver:20190305T200000
DTSTAMP:20260423T045636
CREATED:20181224T175854Z
LAST-MODIFIED:20181224T175854Z
UID:21411-1551808800-1551816000@tremontoncity.gov
SUMMARY:City Council
DESCRIPTION:Tremonton City Council meets on the 1st and 3rd Tuesdays of each month. Click here to view the City Council agenda.
URL:https://tremontoncity.gov/event/city-council-45/
LOCATION:City Council\, 102 S Tremont St\, Tremonton\, 84337\, United States
CATEGORIES:City Council
END:VEVENT
BEGIN:VEVENT
DTSTART;TZID=America/Denver:20190227T090000
DTEND;TZID=America/Denver:20190227T093000
DTSTAMP:20260423T045636
CREATED:20181224T164001Z
LAST-MODIFIED:20181224T164001Z
UID:21314-1551258000-1551259800@tremontoncity.gov
SUMMARY:Development Review Committee
DESCRIPTION:The Development Review Committee meets every Wednesday at 9:00 a.m. unless there are no agenda items to discuss.  Click here to see the Development Review Committee Agenda.
URL:https://tremontoncity.gov/event/development-review-committee-7/
LOCATION:Development Review Committee\, 102 S Tremont Street\, Tremonton\, 84337
CATEGORIES:Development Review Committee
END:VEVENT
BEGIN:VEVENT
DTSTART;TZID=America/Denver:20190226T173000
DTEND;TZID=America/Denver:20190226T180000
DTSTAMP:20260423T045636
CREATED:20181224T183727Z
LAST-MODIFIED:20181224T183727Z
UID:21460-1551202200-1551204000@tremontoncity.gov
SUMMARY:Planning Commission
DESCRIPTION:The Planning Commission meets the 2nd\, 4th\, and 5th Tuesdays of each month.  Click here to see the Planning Commission Agenda.
URL:https://tremontoncity.gov/event/planning-commission-85/
LOCATION:Planning Commission\, 102 S Tremont Street\, Tremonton\, UT\, 84337\, United States
CATEGORIES:Planning Commission
END:VEVENT
BEGIN:VEVENT
DTSTART;TZID=America/Denver:20190220T090000
DTEND;TZID=America/Denver:20190220T093000
DTSTAMP:20260423T045636
CREATED:20181221T195420Z
LAST-MODIFIED:20181221T195420Z
UID:21311-1550653200-1550655000@tremontoncity.gov
SUMMARY:Development Review Committee
DESCRIPTION:The Development Review committee meets every Wednesday at 9:00 a.m. unless there are no agenda items to discuss.  Click here to see the Development Review Committee Agenda.
URL:https://tremontoncity.gov/event/development-review-committee-6/
LOCATION:Development Review Committee\, 102 S Tremont Street\, Tremonton\, 84337
CATEGORIES:Development Review Committee
END:VEVENT
BEGIN:VEVENT
DTSTART;TZID=America/Denver:20190219T180000
DTEND;TZID=America/Denver:20190219T200000
DTSTAMP:20260423T045636
CREATED:20181224T175807Z
LAST-MODIFIED:20181224T175807Z
UID:21409-1550599200-1550606400@tremontoncity.gov
SUMMARY:City Council
DESCRIPTION:Tremonton City Council meets on the 1st and 3rd Tuesdays of each month. Click here to view the City Council agenda.
URL:https://tremontoncity.gov/event/city-council-37/
LOCATION:City Council\, 102 S Tremont St\, Tremonton\, 84337\, United States
CATEGORIES:City Council
END:VEVENT
BEGIN:VEVENT
DTSTART;VALUE=DATE:20190218
DTEND;VALUE=DATE:20190219
DTSTAMP:20260423T045636
CREATED:20181226T193147Z
LAST-MODIFIED:20181226T193147Z
UID:21521-1550448000-1550534399@tremontoncity.gov
SUMMARY:Closed for President's Day
DESCRIPTION:
URL:https://tremontoncity.gov/event/closed-for-presidents-day/
END:VEVENT
BEGIN:VEVENT
DTSTART;TZID=America/Denver:20190213T090000
DTEND;TZID=America/Denver:20190213T093000
DTSTAMP:20260423T045636
CREATED:20181221T195314Z
LAST-MODIFIED:20181221T195314Z
UID:21309-1550048400-1550050200@tremontoncity.gov
SUMMARY:Development Review Committee
DESCRIPTION:The Development Review committee meets every Wednesday at 9:00 a.m. unless there are no agenda items to discuss.  Click here to see the Development Review Committee Agenda.
URL:https://tremontoncity.gov/event/development-review-committee-5/
LOCATION:Development Review Committee\, 102 S Tremont Street\, Tremonton\, 84337
CATEGORIES:Development Review Committee
END:VEVENT
BEGIN:VEVENT
DTSTART;TZID=America/Denver:20190212T173000
DTEND;TZID=America/Denver:20190212T180000
DTSTAMP:20260423T045636
CREATED:20181224T183640Z
LAST-MODIFIED:20181224T183640Z
UID:21458-1549992600-1549994400@tremontoncity.gov
SUMMARY:Planning Commission
DESCRIPTION:The Planning Commission meets the 2nd\, 4th\, and 5th Tuesdays of each month.  Click here to see the Planning Commission Agenda.
URL:https://tremontoncity.gov/event/planning-commission-84/
LOCATION:Planning Commission\, 102 S Tremont Street\, Tremonton\, UT\, 84337\, United States
CATEGORIES:Planning Commission
END:VEVENT
BEGIN:VEVENT
DTSTART;TZID=America/Denver:20190206T090000
DTEND;TZID=America/Denver:20190206T093000
DTSTAMP:20260423T045636
CREATED:20181221T195137Z
LAST-MODIFIED:20181221T195137Z
UID:21307-1549443600-1549445400@tremontoncity.gov
SUMMARY:Development Review Committee
DESCRIPTION:The Development Review committee meets every Wednesday at 9:00 a.m. unless there are no agenda items to discuss.  Click here to see the Development Review Committee Agenda.
URL:https://tremontoncity.gov/event/development-review-committee-4/
LOCATION:Development Review Committee\, 102 S Tremont Street\, Tremonton\, 84337
CATEGORIES:Development Review Committee
END:VEVENT
BEGIN:VEVENT
DTSTART;TZID=America/Denver:20190205T180000
DTEND;TZID=America/Denver:20190205T200000
DTSTAMP:20260423T045636
CREATED:20181224T175651Z
LAST-MODIFIED:20181224T175651Z
UID:21407-1549389600-1549396800@tremontoncity.gov
SUMMARY:City Council
DESCRIPTION:Tremonton City Council meets on the 1st and 3rd Tuesdays of each month. Click here to view the City Council agenda.
URL:https://tremontoncity.gov/event/city-council-27/
LOCATION:City Council\, 102 S Tremont St\, Tremonton\, 84337\, United States
CATEGORIES:City Council
END:VEVENT
BEGIN:VEVENT
DTSTART;TZID=America/Denver:20190130T090000
DTEND;TZID=America/Denver:20190130T093000
DTSTAMP:20260423T045636
CREATED:20181219T185834Z
LAST-MODIFIED:20181219T185834Z
UID:21296-1548838800-1548840600@tremontoncity.gov
SUMMARY:Development Review Committee
DESCRIPTION:The Development Review Committee meets every Wednesday at 9:00 a.m. unless there are no agenda items to discuss.  Click here to see the Development Review Committee Agenda.
URL:https://tremontoncity.gov/event/development-review-committee-3/
LOCATION:Development Review Committee\, 102 S Tremont Street\, Tremonton\, 84337
CATEGORIES:Development Review Committee
END:VEVENT
BEGIN:VEVENT
DTSTART;TZID=America/Denver:20190129T173000
DTEND;TZID=America/Denver:20190129T180000
DTSTAMP:20260423T045636
CREATED:20180205T184500Z
LAST-MODIFIED:20180205T184500Z
UID:19553-1548783000-1548784800@tremontoncity.gov
SUMMARY:Planning Commission
DESCRIPTION:The Planning Commission meets the 2nd\, 4th\, and 5th Tuesdays of each month.  Click here to see the Planning Commission Agenda.
URL:https://tremontoncity.gov/event/planning-commission-80/
LOCATION:Planning Commission\, 102 S Tremont Street\, Tremonton\, UT\, 84337\, United States
CATEGORIES:Planning Commission
END:VEVENT
BEGIN:VEVENT
DTSTART;TZID=America/Denver:20190123T090000
DTEND;TZID=America/Denver:20190123T093000
DTSTAMP:20260423T045636
CREATED:20180205T192614Z
LAST-MODIFIED:20181219T185457Z
UID:19599-1548234000-1548235800@tremontoncity.gov
SUMMARY:Development Review Committee
DESCRIPTION:The Development Review Committee meets every Wednesday at 9:00 a.m. unless there are no agenda items to discuss.  Click here to see the Development Review Committee Agenda.
URL:https://tremontoncity.gov/event/land-use-authority-board-123/
LOCATION:Development Review Committee\, 102 S Tremont Street\, Tremonton\, 84337
CATEGORIES:Development Review Committee
END:VEVENT
BEGIN:VEVENT
DTSTART;TZID=America/Denver:20190122T173000
DTEND;TZID=America/Denver:20190122T180000
DTSTAMP:20260423T045636
CREATED:20181224T183501Z
LAST-MODIFIED:20181224T183501Z
UID:21454-1548178200-1548180000@tremontoncity.gov
SUMMARY:Planning Commission
DESCRIPTION:The Planning Commission meets the 2nd\, 4th\, and 5th Tuesdays of each month.  Click here to see the Planning Commission Agenda.
URL:https://tremontoncity.gov/event/planning-commission-82/
LOCATION:Planning Commission\, 102 S Tremont Street\, Tremonton\, UT\, 84337\, United States
CATEGORIES:Planning Commission
END:VEVENT
BEGIN:VEVENT
DTSTART;VALUE=DATE:20190121
DTEND;VALUE=DATE:20190122
DTSTAMP:20260423T045636
CREATED:20181226T193049Z
LAST-MODIFIED:20181226T193049Z
UID:21519-1548028800-1548115199@tremontoncity.gov
SUMMARY:Closed for Martin Luther King Day
DESCRIPTION:
URL:https://tremontoncity.gov/event/closed-for-martin-luther-king-day/
END:VEVENT
BEGIN:VEVENT
DTSTART;TZID=America/Denver:20190116T090000
DTEND;TZID=America/Denver:20190116T093000
DTSTAMP:20260423T045636
CREATED:20181219T185322Z
LAST-MODIFIED:20181219T185347Z
UID:21292-1547629200-1547631000@tremontoncity.gov
SUMMARY:Development Review Committee
DESCRIPTION:The Development Review Committee meets every Wednesday at 9:00 a.m. unless there are no agenda items to discuss.  Click here to see the Development Review Committee Agenda.
URL:https://tremontoncity.gov/event/development-review-committee-2/
LOCATION:Development Review Committee\, 102 S Tremont Street\, Tremonton\, 84337
CATEGORIES:Development Review Committee
END:VEVENT
BEGIN:VEVENT
DTSTART;TZID=America/Denver:20190115T180000
DTEND;TZID=America/Denver:20190115T200000
DTSTAMP:20260423T045636
CREATED:20180205T165118Z
LAST-MODIFIED:20180205T165118Z
UID:19496-1547575200-1547582400@tremontoncity.gov
SUMMARY:City Council
DESCRIPTION:Tremonton City Council meets on the 1st and 3rd Tuesdays of each month. Click here to view the City Council agenda.
URL:https://tremontoncity.gov/event/city-council-44/
LOCATION:City Council\, 102 S Tremont St\, Tremonton\, 84337\, United States
CATEGORIES:City Council
END:VEVENT
BEGIN:VEVENT
DTSTART;TZID=America/Denver:20190109T090000
DTEND;TZID=America/Denver:20190109T093000
DTSTAMP:20260423T045636
CREATED:20180205T192423Z
LAST-MODIFIED:20181224T163944Z
UID:19597-1547024400-1547026200@tremontoncity.gov
SUMMARY:Development Review Committee
DESCRIPTION:The Development Review Committee meets every Wednesday at 9:00 a.m. unless there are no agenda items to discuss.  Click here to see the Development Review Committee Agenda.
URL:https://tremontoncity.gov/event/development-review-committee-122/
LOCATION:Development Review Committee\, 102 S Tremont Street\, Tremonton\, 84337
CATEGORIES:Development Review Committee
END:VEVENT
BEGIN:VEVENT
DTSTART;TZID=America/Denver:20190108T173000
DTEND;TZID=America/Denver:20190108T180000
DTSTAMP:20260423T045636
CREATED:20180205T184315Z
LAST-MODIFIED:20180205T184315Z
UID:19549-1546968600-1546970400@tremontoncity.gov
SUMMARY:Planning Commission
DESCRIPTION:The Planning Commission meets the 2nd\, 4th\, and 5th Tuesdays of each month.  Click here to see the Planning Commission Agenda.
URL:https://tremontoncity.gov/event/planning-commission-78/
LOCATION:Planning Commission\, 102 S Tremont Street\, Tremonton\, UT\, 84337\, United States
CATEGORIES:Planning Commission
END:VEVENT
BEGIN:VEVENT
DTSTART;TZID=America/Denver:20190102T090000
DTEND;TZID=America/Denver:20190102T093000
DTSTAMP:20260423T045636
CREATED:20181219T181149Z
LAST-MODIFIED:20181219T181256Z
UID:21279-1546419600-1546421400@tremontoncity.gov
SUMMARY:Development Review Committee
DESCRIPTION:The Development Review Committee meets every Wednesday at 9:00 a.m. unless there are no agenda items to discuss.  Click here to see the Development Review Committee Agenda.
URL:https://tremontoncity.gov/event/development-review-committee/
LOCATION:Development Review Committee\, 102 S Tremont Street\, Tremonton\, 84337
END:VEVENT
END:VCALENDAR