BEGIN:VCALENDAR
VERSION:2.0
PRODID:-//Tremonton City - ECPv6.13.2.1//NONSGML v1.0//EN
CALSCALE:GREGORIAN
METHOD:PUBLISH
X-WR-CALNAME:Tremonton City
X-ORIGINAL-URL:https://tremontoncity.gov
X-WR-CALDESC:Events for Tremonton City
REFRESH-INTERVAL;VALUE=DURATION:PT1H
X-Robots-Tag:noindex
X-PUBLISHED-TTL:PT1H
BEGIN:VTIMEZONE
TZID:America/Denver
BEGIN:DAYLIGHT
TZOFFSETFROM:-0700
TZOFFSETTO:-0600
TZNAME:MDT
DTSTART:20180311T090000
END:DAYLIGHT
BEGIN:STANDARD
TZOFFSETFROM:-0600
TZOFFSETTO:-0700
TZNAME:MST
DTSTART:20181104T080000
END:STANDARD
BEGIN:DAYLIGHT
TZOFFSETFROM:-0700
TZOFFSETTO:-0600
TZNAME:MDT
DTSTART:20190310T090000
END:DAYLIGHT
BEGIN:STANDARD
TZOFFSETFROM:-0600
TZOFFSETTO:-0700
TZNAME:MST
DTSTART:20191103T080000
END:STANDARD
END:VTIMEZONE
BEGIN:VEVENT
DTSTART;TZID=America/Denver:20190130T090000
DTEND;TZID=America/Denver:20190130T093000
DTSTAMP:20260423T090012
CREATED:20181219T185834Z
LAST-MODIFIED:20181219T185834Z
UID:21296-1548838800-1548840600@tremontoncity.gov
SUMMARY:Development Review Committee
DESCRIPTION:The Development Review Committee meets every Wednesday at 9:00 a.m. unless there are no agenda items to discuss.  Click here to see the Development Review Committee Agenda.
URL:https://tremontoncity.gov/event/development-review-committee-3/
LOCATION:Development Review Committee\, 102 S Tremont Street\, Tremonton\, 84337
CATEGORIES:Development Review Committee
END:VEVENT
BEGIN:VEVENT
DTSTART;TZID=America/Denver:20190129T173000
DTEND;TZID=America/Denver:20190129T180000
DTSTAMP:20260423T090012
CREATED:20180205T184500Z
LAST-MODIFIED:20180205T184500Z
UID:19553-1548783000-1548784800@tremontoncity.gov
SUMMARY:Planning Commission
DESCRIPTION:The Planning Commission meets the 2nd\, 4th\, and 5th Tuesdays of each month.  Click here to see the Planning Commission Agenda.
URL:https://tremontoncity.gov/event/planning-commission-80/
LOCATION:Planning Commission\, 102 S Tremont Street\, Tremonton\, UT\, 84337\, United States
CATEGORIES:Planning Commission
END:VEVENT
BEGIN:VEVENT
DTSTART;TZID=America/Denver:20190123T090000
DTEND;TZID=America/Denver:20190123T093000
DTSTAMP:20260423T090012
CREATED:20180205T192614Z
LAST-MODIFIED:20181219T185457Z
UID:19599-1548234000-1548235800@tremontoncity.gov
SUMMARY:Development Review Committee
DESCRIPTION:The Development Review Committee meets every Wednesday at 9:00 a.m. unless there are no agenda items to discuss.  Click here to see the Development Review Committee Agenda.
URL:https://tremontoncity.gov/event/land-use-authority-board-123/
LOCATION:Development Review Committee\, 102 S Tremont Street\, Tremonton\, 84337
CATEGORIES:Development Review Committee
END:VEVENT
BEGIN:VEVENT
DTSTART;TZID=America/Denver:20190122T173000
DTEND;TZID=America/Denver:20190122T180000
DTSTAMP:20260423T090012
CREATED:20181224T183501Z
LAST-MODIFIED:20181224T183501Z
UID:21454-1548178200-1548180000@tremontoncity.gov
SUMMARY:Planning Commission
DESCRIPTION:The Planning Commission meets the 2nd\, 4th\, and 5th Tuesdays of each month.  Click here to see the Planning Commission Agenda.
URL:https://tremontoncity.gov/event/planning-commission-82/
LOCATION:Planning Commission\, 102 S Tremont Street\, Tremonton\, UT\, 84337\, United States
CATEGORIES:Planning Commission
END:VEVENT
BEGIN:VEVENT
DTSTART;VALUE=DATE:20190121
DTEND;VALUE=DATE:20190122
DTSTAMP:20260423T090012
CREATED:20181226T193049Z
LAST-MODIFIED:20181226T193049Z
UID:21519-1548028800-1548115199@tremontoncity.gov
SUMMARY:Closed for Martin Luther King Day
DESCRIPTION:
URL:https://tremontoncity.gov/event/closed-for-martin-luther-king-day/
END:VEVENT
BEGIN:VEVENT
DTSTART;TZID=America/Denver:20190116T090000
DTEND;TZID=America/Denver:20190116T093000
DTSTAMP:20260423T090012
CREATED:20181219T185322Z
LAST-MODIFIED:20181219T185347Z
UID:21292-1547629200-1547631000@tremontoncity.gov
SUMMARY:Development Review Committee
DESCRIPTION:The Development Review Committee meets every Wednesday at 9:00 a.m. unless there are no agenda items to discuss.  Click here to see the Development Review Committee Agenda.
URL:https://tremontoncity.gov/event/development-review-committee-2/
LOCATION:Development Review Committee\, 102 S Tremont Street\, Tremonton\, 84337
CATEGORIES:Development Review Committee
END:VEVENT
BEGIN:VEVENT
DTSTART;TZID=America/Denver:20190115T180000
DTEND;TZID=America/Denver:20190115T200000
DTSTAMP:20260423T090012
CREATED:20180205T165118Z
LAST-MODIFIED:20180205T165118Z
UID:19496-1547575200-1547582400@tremontoncity.gov
SUMMARY:City Council
DESCRIPTION:Tremonton City Council meets on the 1st and 3rd Tuesdays of each month. Click here to view the City Council agenda.
URL:https://tremontoncity.gov/event/city-council-44/
LOCATION:City Council\, 102 S Tremont St\, Tremonton\, 84337\, United States
CATEGORIES:City Council
END:VEVENT
BEGIN:VEVENT
DTSTART;TZID=America/Denver:20190109T090000
DTEND;TZID=America/Denver:20190109T093000
DTSTAMP:20260423T090012
CREATED:20180205T192423Z
LAST-MODIFIED:20181224T163944Z
UID:19597-1547024400-1547026200@tremontoncity.gov
SUMMARY:Development Review Committee
DESCRIPTION:The Development Review Committee meets every Wednesday at 9:00 a.m. unless there are no agenda items to discuss.  Click here to see the Development Review Committee Agenda.
URL:https://tremontoncity.gov/event/development-review-committee-122/
LOCATION:Development Review Committee\, 102 S Tremont Street\, Tremonton\, 84337
CATEGORIES:Development Review Committee
END:VEVENT
BEGIN:VEVENT
DTSTART;TZID=America/Denver:20190108T173000
DTEND;TZID=America/Denver:20190108T180000
DTSTAMP:20260423T090012
CREATED:20180205T184315Z
LAST-MODIFIED:20180205T184315Z
UID:19549-1546968600-1546970400@tremontoncity.gov
SUMMARY:Planning Commission
DESCRIPTION:The Planning Commission meets the 2nd\, 4th\, and 5th Tuesdays of each month.  Click here to see the Planning Commission Agenda.
URL:https://tremontoncity.gov/event/planning-commission-78/
LOCATION:Planning Commission\, 102 S Tremont Street\, Tremonton\, UT\, 84337\, United States
CATEGORIES:Planning Commission
END:VEVENT
BEGIN:VEVENT
DTSTART;TZID=America/Denver:20190102T090000
DTEND;TZID=America/Denver:20190102T093000
DTSTAMP:20260423T090012
CREATED:20181219T181149Z
LAST-MODIFIED:20181219T181256Z
UID:21279-1546419600-1546421400@tremontoncity.gov
SUMMARY:Development Review Committee
DESCRIPTION:The Development Review Committee meets every Wednesday at 9:00 a.m. unless there are no agenda items to discuss.  Click here to see the Development Review Committee Agenda.
URL:https://tremontoncity.gov/event/development-review-committee/
LOCATION:Development Review Committee\, 102 S Tremont Street\, Tremonton\, 84337
END:VEVENT
BEGIN:VEVENT
DTSTART;VALUE=DATE:20190101
DTEND;VALUE=DATE:20190102
DTSTAMP:20260423T090012
CREATED:20181226T192936Z
LAST-MODIFIED:20181226T192936Z
UID:21517-1546300800-1546387199@tremontoncity.gov
SUMMARY:Closed for New Year's Day
DESCRIPTION:
URL:https://tremontoncity.gov/event/closed-for-new-years-day/
END:VEVENT
BEGIN:VEVENT
DTSTART;TZID=America/Denver:20181226T090000
DTEND;TZID=America/Denver:20181226T093000
DTSTAMP:20260423T090012
CREATED:20180205T192321Z
LAST-MODIFIED:20181221T194910Z
UID:19595-1545814800-1545816600@tremontoncity.gov
SUMMARY:Development Review Committee
DESCRIPTION:The Development Review committee meets every Wednesday at 9:00 a.m. unless there are no agenda items to discuss.  Click here to see the Development Review Committee Agenda.
URL:https://tremontoncity.gov/event/land-use-authority-board-121/
LOCATION:Development Review Committee\, 102 S Tremont Street\, Tremonton\, 84337
CATEGORIES:Land Use Authority Board
END:VEVENT
BEGIN:VEVENT
DTSTART;TZID=America/Denver:20181218T180000
DTEND;TZID=America/Denver:20181218T200000
DTSTAMP:20260423T090012
CREATED:20180205T164914Z
LAST-MODIFIED:20180205T164914Z
UID:19494-1545156000-1545163200@tremontoncity.gov
SUMMARY:City Council
DESCRIPTION:Tremonton City Council meets on the 1st and 3rd Tuesdays of each month. Click here to view the City Council agenda.
URL:https://tremontoncity.gov/event/city-council-43/
LOCATION:City Council\, 102 S Tremont St\, Tremonton\, 84337\, United States
CATEGORIES:City Council
END:VEVENT
BEGIN:VEVENT
DTSTART;TZID=America/Denver:20181212T090000
DTEND;TZID=America/Denver:20181212T093000
DTSTAMP:20260423T090012
CREATED:20180205T191811Z
LAST-MODIFIED:20180205T193037Z
UID:19593-1544605200-1544607000@tremontoncity.gov
SUMMARY:Land Use Authority Board
DESCRIPTION:The Land Use Authority Board meets every 2nd and 4th Wednesday at 9:00 a.m. unless there are no agenda items to discuss.  Click here to see the Land Use Authority Board Agenda.
URL:https://tremontoncity.gov/event/land-use-authority-board-120/
LOCATION:Development Review Committee\, 102 S Tremont Street\, Tremonton\, 84337
CATEGORIES:Land Use Authority Board
END:VEVENT
BEGIN:VEVENT
DTSTART;TZID=America/Denver:20181211T173000
DTEND;TZID=America/Denver:20181211T180000
DTSTAMP:20260423T090012
CREATED:20180205T182406Z
LAST-MODIFIED:20180205T182406Z
UID:19543-1544549400-1544551200@tremontoncity.gov
SUMMARY:Planning Commission
DESCRIPTION:The Planning Commission meets the 2nd\, 4th\, and 5th Tuesdays of each month.  Click here to see the Planning Commission Agenda.
URL:https://tremontoncity.gov/event/planning-commission-76/
LOCATION:Planning Commission\, 102 S Tremont Street\, Tremonton\, UT\, 84337\, United States
CATEGORIES:Planning Commission
END:VEVENT
BEGIN:VEVENT
DTSTART;TZID=America/Denver:20181204T180000
DTEND;TZID=America/Denver:20181204T200000
DTSTAMP:20260423T090012
CREATED:20180205T164802Z
LAST-MODIFIED:20180205T164802Z
UID:19492-1543946400-1543953600@tremontoncity.gov
SUMMARY:City Council
DESCRIPTION:Tremonton City Council meets on the 1st and 3rd Tuesdays of each month. Click here to view the City Council agenda.
URL:https://tremontoncity.gov/event/city-council-42/
LOCATION:City Council\, 102 S Tremont St\, Tremonton\, 84337\, United States
CATEGORIES:City Council
END:VEVENT
BEGIN:VEVENT
DTSTART;TZID=America/Denver:20181128T090000
DTEND;TZID=America/Denver:20181128T093000
DTSTAMP:20260423T090012
CREATED:20180205T191711Z
LAST-MODIFIED:20180205T191711Z
UID:19591-1543395600-1543397400@tremontoncity.gov
SUMMARY:Land Use Authority Board
DESCRIPTION:The Land Use Authority Board meets every 2nd and 4th Wednesday at 9:00 a.m. unless there are no agenda items to discuss.  Click here to see the Land Use Authority Board Agenda.
URL:https://tremontoncity.gov/event/land-use-authority-board-119/
LOCATION:Development Review Committee\, 102 S Tremont Street\, Tremonton\, 84337
CATEGORIES:Land Use Authority Board
END:VEVENT
BEGIN:VEVENT
DTSTART;TZID=America/Denver:20181127T173000
DTEND;TZID=America/Denver:20181127T180000
DTSTAMP:20260423T090012
CREATED:20180205T182315Z
LAST-MODIFIED:20180205T182315Z
UID:19541-1543339800-1543341600@tremontoncity.gov
SUMMARY:Planning Commission
DESCRIPTION:The Planning Commission meets the 2nd\, 4th\, and 5th Tuesdays of each month.  Click here to see the Planning Commission Agenda.
URL:https://tremontoncity.gov/event/planning-commission-75/
LOCATION:Planning Commission\, 102 S Tremont Street\, Tremonton\, UT\, 84337\, United States
CATEGORIES:Planning Commission
END:VEVENT
BEGIN:VEVENT
DTSTART;TZID=America/Denver:20181120T180000
DTEND;TZID=America/Denver:20181120T200000
DTSTAMP:20260423T090012
CREATED:20180205T164400Z
LAST-MODIFIED:20180205T164400Z
UID:19490-1542736800-1542744000@tremontoncity.gov
SUMMARY:City Council
DESCRIPTION:Tremonton City Council meets on the 1st and 3rd Tuesdays of each month. Click here to view the City Council agenda.
URL:https://tremontoncity.gov/event/city-council-41/
LOCATION:City Council\, 102 S Tremont St\, Tremonton\, 84337\, United States
CATEGORIES:City Council
END:VEVENT
BEGIN:VEVENT
DTSTART;TZID=America/Denver:20181114T090000
DTEND;TZID=America/Denver:20181114T093000
DTSTAMP:20260423T090012
CREATED:20180205T191618Z
LAST-MODIFIED:20180205T191618Z
UID:19589-1542186000-1542187800@tremontoncity.gov
SUMMARY:Land Use Authority Board
DESCRIPTION:The Land Use Authority Board meets every 2nd and 4th Wednesday at 9:00 a.m. unless there are no agenda items to discuss.  Click here to see the Land Use Authority Board Agenda.
URL:https://tremontoncity.gov/event/land-use-authority-board-118/
LOCATION:Development Review Committee\, 102 S Tremont Street\, Tremonton\, 84337
CATEGORIES:Land Use Authority Board
END:VEVENT
BEGIN:VEVENT
DTSTART;TZID=America/Denver:20181113T173000
DTEND;TZID=America/Denver:20181113T180000
DTSTAMP:20260423T090012
CREATED:20180205T182213Z
LAST-MODIFIED:20180205T182213Z
UID:19539-1542130200-1542132000@tremontoncity.gov
SUMMARY:Planning Commission
DESCRIPTION:The Planning Commission meets the 2nd\, 4th\, and 5th Tuesdays of each month.  Click here to see the Planning Commission Agenda.
URL:https://tremontoncity.gov/event/planning-commission-74/
LOCATION:Planning Commission\, 102 S Tremont Street\, Tremonton\, UT\, 84337\, United States
CATEGORIES:Planning Commission
END:VEVENT
BEGIN:VEVENT
DTSTART;TZID=America/Denver:20181106T180000
DTEND;TZID=America/Denver:20181106T200000
DTSTAMP:20260423T090012
CREATED:20180205T164311Z
LAST-MODIFIED:20180205T164311Z
UID:19488-1541527200-1541534400@tremontoncity.gov
SUMMARY:City Council
DESCRIPTION:Tremonton City Council meets on the 1st and 3rd Tuesdays of each month. Click here to view the City Council agenda.
URL:https://tremontoncity.gov/event/city-council-40/
LOCATION:City Council\, 102 S Tremont St\, Tremonton\, 84337\, United States
CATEGORIES:City Council
END:VEVENT
BEGIN:VEVENT
DTSTART;TZID=America/Denver:20181030T173000
DTEND;TZID=America/Denver:20181030T180000
DTSTAMP:20260423T090012
CREATED:20180205T181857Z
LAST-MODIFIED:20180205T181857Z
UID:19537-1540920600-1540922400@tremontoncity.gov
SUMMARY:Planning Commission
DESCRIPTION:The Planning Commission meets the 2nd\, 4th\, and 5th Tuesdays of each month.  Click here to see the Planning Commission Agenda.
URL:https://tremontoncity.gov/event/planning-commission-73/
LOCATION:Planning Commission\, 102 S Tremont Street\, Tremonton\, UT\, 84337\, United States
CATEGORIES:Planning Commission
END:VEVENT
BEGIN:VEVENT
DTSTART;TZID=America/Denver:20181026T160000
DTEND;TZID=America/Denver:20181026T180000
DTSTAMP:20260423T090012
CREATED:20181010T172212Z
LAST-MODIFIED:20181010T172212Z
UID:20922-1540569600-1540576800@tremontoncity.gov
SUMMARY:Trick or Treat Main Street
DESCRIPTION:The Bear River Chamber is proud to host its annual trick-or-treating event! Little ghouls and ghosts are invited to travel up and down Tremonton’s Main Street for tricks and treats from local businesses\, vendors\, and community groups. Visit Midland Square to see scarecrows from local businesses and children. Spooky (and safe) fun for the whole family!
URL:https://tremontoncity.gov/event/trick-or-treat-main-street/
LOCATION:Midland Square\, 50 W. Main Street\, Tremonton\, UT\, 84337\, United States
CATEGORIES:Parks and Recreation
END:VEVENT
BEGIN:VEVENT
DTSTART;TZID=America/Denver:20181024T090000
DTEND;TZID=America/Denver:20181024T093000
DTSTAMP:20260423T090012
CREATED:20180205T191525Z
LAST-MODIFIED:20180205T191525Z
UID:19587-1540371600-1540373400@tremontoncity.gov
SUMMARY:Land Use Authority Board
DESCRIPTION:The Land Use Authority Board meets every 2nd and 4th Wednesday at 9:00 a.m. unless there are no agenda items to discuss.  Click here to see the Land Use Authority Board Agenda.
URL:https://tremontoncity.gov/event/land-use-authority-board-117/
LOCATION:Development Review Committee\, 102 S Tremont Street\, Tremonton\, 84337
CATEGORIES:Land Use Authority Board
END:VEVENT
BEGIN:VEVENT
DTSTART;TZID=America/Denver:20181023T173000
DTEND;TZID=America/Denver:20181023T180000
DTSTAMP:20260423T090012
CREATED:20180205T181755Z
LAST-MODIFIED:20180205T181755Z
UID:19535-1540315800-1540317600@tremontoncity.gov
SUMMARY:Planning Commission
DESCRIPTION:The Planning Commission meets the 2nd\, 4th\, and 5th Tuesdays of each month.  Click here to see the Planning Commission Agenda.
URL:https://tremontoncity.gov/event/planning-commission-72/
LOCATION:Planning Commission\, 102 S Tremont Street\, Tremonton\, UT\, 84337\, United States
CATEGORIES:Planning Commission
END:VEVENT
BEGIN:VEVENT
DTSTART;TZID=America/Denver:20181016T180000
DTEND;TZID=America/Denver:20181016T200000
DTSTAMP:20260423T090012
CREATED:20180205T164222Z
LAST-MODIFIED:20180205T165526Z
UID:19486-1539712800-1539720000@tremontoncity.gov
SUMMARY:City Council
DESCRIPTION:Tremonton City Council meets on the 1st and 3rd Tuesdays of each month. Click here to view the City Council agenda.
URL:https://tremontoncity.gov/event/city-council-39/
LOCATION:City Council\, 102 S Tremont St\, Tremonton\, 84337\, United States
CATEGORIES:City Council
END:VEVENT
BEGIN:VEVENT
DTSTART;TZID=America/Denver:20181010T090000
DTEND;TZID=America/Denver:20181010T093000
DTSTAMP:20260423T090012
CREATED:20180205T191440Z
LAST-MODIFIED:20180205T191440Z
UID:19585-1539162000-1539163800@tremontoncity.gov
SUMMARY:Land Use Authority Board
DESCRIPTION:The Land Use Authority Board meets every 2nd and 4th Wednesday at 9:00 a.m. unless there are no agenda items to discuss.  Click here to see the Land Use Authority Board Agenda.
URL:https://tremontoncity.gov/event/land-use-authority-board-116/
LOCATION:Development Review Committee\, 102 S Tremont Street\, Tremonton\, 84337
CATEGORIES:Land Use Authority Board
END:VEVENT
BEGIN:VEVENT
DTSTART;TZID=America/Denver:20181009T173000
DTEND;TZID=America/Denver:20181009T180000
DTSTAMP:20260423T090012
CREATED:20180205T173348Z
LAST-MODIFIED:20180205T173348Z
UID:19533-1539106200-1539108000@tremontoncity.gov
SUMMARY:Planning Commission
DESCRIPTION:The Planning Commission meets the 2nd\, 4th\, and 5th Tuesdays of each month.  Click here to see the Planning Commission Agenda.
URL:https://tremontoncity.gov/event/planning-commission-71/
LOCATION:Planning Commission\, 102 S Tremont Street\, Tremonton\, UT\, 84337\, United States
CATEGORIES:Planning Commission
END:VEVENT
BEGIN:VEVENT
DTSTART;TZID=America/Denver:20181002T180000
DTEND;TZID=America/Denver:20181002T200000
DTSTAMP:20260423T090012
CREATED:20180205T164116Z
LAST-MODIFIED:20180205T164116Z
UID:19484-1538503200-1538510400@tremontoncity.gov
SUMMARY:City Council
DESCRIPTION:Tremonton City Council meets on the 1st and 3rd Tuesdays of each month. Click here to view the City Council agenda.
URL:https://tremontoncity.gov/event/city-council-38/
LOCATION:City Council\, 102 S Tremont St\, Tremonton\, 84337\, United States
CATEGORIES:City Council
END:VEVENT
END:VCALENDAR