BEGIN:VCALENDAR
VERSION:2.0
PRODID:-//Tremonton City - ECPv6.13.2.1//NONSGML v1.0//EN
CALSCALE:GREGORIAN
METHOD:PUBLISH
X-WR-CALNAME:Tremonton City
X-ORIGINAL-URL:https://tremontoncity.gov
X-WR-CALDESC:Events for Tremonton City
REFRESH-INTERVAL;VALUE=DURATION:PT1H
X-Robots-Tag:noindex
X-PUBLISHED-TTL:PT1H
BEGIN:VTIMEZONE
TZID:America/Denver
BEGIN:DAYLIGHT
TZOFFSETFROM:-0700
TZOFFSETTO:-0600
TZNAME:MDT
DTSTART:20180311T090000
END:DAYLIGHT
BEGIN:STANDARD
TZOFFSETFROM:-0600
TZOFFSETTO:-0700
TZNAME:MST
DTSTART:20181104T080000
END:STANDARD
END:VTIMEZONE
BEGIN:VEVENT
DTSTART;TZID=America/Denver:20180807T180000
DTEND;TZID=America/Denver:20180807T200000
DTSTAMP:20260422T223307
CREATED:20180205T161925Z
LAST-MODIFIED:20180205T161925Z
UID:19476-1533664800-1533672000@tremontoncity.gov
SUMMARY:City Council
DESCRIPTION:Tremonton City Council meets on the 1st and 3rd Tuesdays of each month. Click here to view the City Council agenda.
URL:https://tremontoncity.gov/event/city-council-34/
LOCATION:City Council\, 102 S Tremont St\, Tremonton\, 84337\, United States
CATEGORIES:City Council
END:VEVENT
BEGIN:VEVENT
DTSTART;TZID=America/Denver:20180731T173000
DTEND;TZID=America/Denver:20180731T180000
DTSTAMP:20260422T223307
CREATED:20180205T172626Z
LAST-MODIFIED:20180205T172626Z
UID:19522-1533058200-1533060000@tremontoncity.gov
SUMMARY:Planning Commission
DESCRIPTION:The Planning Commission meets the 2nd\, 4th\, and 5th Tuesdays of each month.  Click here to see the Planning Commission Agenda.
URL:https://tremontoncity.gov/event/planning-commission-66/
LOCATION:Planning Commission\, 102 S Tremont Street\, Tremonton\, UT\, 84337\, United States
CATEGORIES:Planning Commission
END:VEVENT
BEGIN:VEVENT
DTSTART;TZID=America/Denver:20180725T090000
DTEND;TZID=America/Denver:20180725T093000
DTSTAMP:20260422T223307
CREATED:20180205T190920Z
LAST-MODIFIED:20180205T190920Z
UID:19575-1532509200-1532511000@tremontoncity.gov
SUMMARY:Land Use Authority Board
DESCRIPTION:The Land Use Authority Board meets every 2nd and 4th Wednesday at 9:00 a.m. unless there are no agenda items to discuss.  Click here to see the Land Use Authority Board Agenda.
URL:https://tremontoncity.gov/event/land-use-authority-board-111/
LOCATION:Development Review Committee\, 102 S Tremont Street\, Tremonton\, 84337
CATEGORIES:Land Use Authority Board
END:VEVENT
BEGIN:VEVENT
DTSTART;VALUE=DATE:20180720
DTEND;VALUE=DATE:20180722
DTSTAMP:20260422T223307
CREATED:20180627T181615Z
LAST-MODIFIED:20180719T162636Z
UID:20430-1532044800-1532217599@tremontoncity.gov
SUMMARY:Tremonton City Days
DESCRIPTION:Tremonton City Days: July 20-21.  Accepting Vendor Booth Applications\, Sponsors and Item Donations\n2018 Schedule of Events\n\n\n\n\nFriday\, July 13\n\n\n7:30 pm\nSuicide Prevention Walk\nJeanie Stevens Park\n\n\nWednesday\, July 18\n\n\n5:00 pm\nPickleball Tournament\nBEC Fairgrounds\n\n\nThursday\, July 19\n\n\n6:00 pm\nYouth Baseball Team Night\nJeanie Stevens Park\n\n\nFriday\, July 20\n\n\n4:00 pm\nBooths Open\nShuman Park\n\n\n4:00 pm\nJr. Miss Bear River Pageant\nShuman Park\n\n\nTBD\nMens Softball Tournament  DDB\nJeanie Stevens Park\n\n\n6:00 pm\nCommunity Dinner\nShuman Park\n\n\nDusk\nMovie in the Park – The Greatest Showman\nShuman Park\n\n\n10:00 pm\nHome Run Derby\nJeanie Stevens Park\n\n\nSaturday\, July 21\n\n\n7:00 am\nBattle of the BBQ Check-In\nShuman Park\n\n\n7:30 am\n5K Fun Run\nNorth Park\n\n\n8:00 am\nBreakfast in the Park\nNorth Park\n\n\n8:00 am\nMens Softball Continues\nJeanie Stevens Park\n\n\n8:30 am\nSand Volleyball Tournament\nJeanie Stevens Park\n\n\n9:00 am\nBooths Open\nShuman Park\n\n\n9:00 am\nBaby Contest and Diaper Derby\nShuman Park\n\n\n10:00 am\nBounce Houses Open\nShuman Park\n\n\n1:00 pm\nBingo and Family Contests\nShuman Park\n\n\n2:00 pm\nBRV Museum Fashion Show\nBRV Museum\n\n\n3:00 pm\nScales and Tails\nShuman Park\n\n\n4:30 pm\nBattle of the BBQ Judging\nShuman Park\n\n\n5:30 pm\nBRHS Drama Department Presentation\nShuman Park\n\n\n6:45 pm\nChildrens Parade\n Jeanie Stevens Park\n\n\n8:00 pm\nLive Concert in the Park\n Jeanie Stevens Park\n\n\n10:00 pm\nFirework Show\n Jeanie Stevens Park\n\n\n\n\nThank You to our Community Sponsors!\n 
URL:https://tremontoncity.gov/event/tremonton-city-days-2/
LOCATION:Shuman Park\, 200 N. Tremont Street\, Tremonton\, UT\, 84337\, United States
CATEGORIES:Parks and Recreation
ORGANIZER;CN="Tremonton Recreation":MAILTO:Recreation@tremontoncity.com
END:VEVENT
BEGIN:VEVENT
DTSTART;TZID=America/Denver:20180717T180000
DTEND;TZID=America/Denver:20180717T200000
DTSTAMP:20260422T223307
CREATED:20180205T161707Z
LAST-MODIFIED:20180205T161707Z
UID:19474-1531850400-1531857600@tremontoncity.gov
SUMMARY:City  Council
DESCRIPTION:Tremonton City Council meets on the 1st and 3rd Tuesdays of each month. Click here to view the City Council agenda.
URL:https://tremontoncity.gov/event/city-council-33/
LOCATION:City Council\, 102 S Tremont St\, Tremonton\, 84337\, United States
CATEGORIES:City Council
END:VEVENT
BEGIN:VEVENT
DTSTART;TZID=America/Denver:20180711T090000
DTEND;TZID=America/Denver:20180711T093000
DTSTAMP:20260422T223307
CREATED:20180205T190834Z
LAST-MODIFIED:20180205T190834Z
UID:19573-1531299600-1531301400@tremontoncity.gov
SUMMARY:Land Use Authority Board
DESCRIPTION:The Land Use Authority Board meets every 2nd and 4th Wednesday at 9:00 a.m. unless there are no agenda items to discuss.  Click here to see the Land Use Authority Board Agenda.
URL:https://tremontoncity.gov/event/land-use-authority-board-110/
LOCATION:Development Review Committee\, 102 S Tremont Street\, Tremonton\, 84337
CATEGORIES:Land Use Authority Board
END:VEVENT
BEGIN:VEVENT
DTSTART;TZID=America/Denver:20180710T173000
DTEND;TZID=America/Denver:20180710T180000
DTSTAMP:20260422T223307
CREATED:20180205T172511Z
LAST-MODIFIED:20180205T172511Z
UID:19520-1531243800-1531245600@tremontoncity.gov
SUMMARY:Planning Commission
DESCRIPTION:The Planning Commission meets the 2nd\, 4th\, and 5th Tuesdays of each month.  Click here to see the Planning Commission Agenda.
URL:https://tremontoncity.gov/event/planning-commission-65/
LOCATION:Planning Commission\, 102 S Tremont Street\, Tremonton\, UT\, 84337\, United States
CATEGORIES:Planning Commission
END:VEVENT
BEGIN:VEVENT
DTSTART;TZID=America/Denver:20180703T180000
DTEND;TZID=America/Denver:20180703T200000
DTSTAMP:20260422T223307
CREATED:20180205T161617Z
LAST-MODIFIED:20180205T161617Z
UID:19472-1530640800-1530648000@tremontoncity.gov
SUMMARY:City Council
DESCRIPTION:Tremonton City Council meets on the 1st and 3rd Tuesdays of each month. Click here to view the City Council agenda.
URL:https://tremontoncity.gov/event/city-council-32/
LOCATION:City Council\, 102 S Tremont St\, Tremonton\, 84337\, United States
CATEGORIES:City Council
END:VEVENT
BEGIN:VEVENT
DTSTART;TZID=America/Denver:20180627T090000
DTEND;TZID=America/Denver:20180627T093000
DTSTAMP:20260422T223307
CREATED:20180205T190729Z
LAST-MODIFIED:20180205T190729Z
UID:19571-1530090000-1530091800@tremontoncity.gov
SUMMARY:Land Use Authority Board
DESCRIPTION:The Land Use Authority Board meets every 2nd and 4th Wednesday at 9:00 a.m. unless there are no agenda items to discuss.  Click here to see the Land Use Authority Board Agenda.
URL:https://tremontoncity.gov/event/land-use-authority-board-109/
LOCATION:Development Review Committee\, 102 S Tremont Street\, Tremonton\, 84337
CATEGORIES:Land Use Authority Board
END:VEVENT
BEGIN:VEVENT
DTSTART;TZID=America/Denver:20180626T173000
DTEND;TZID=America/Denver:20180626T180000
DTSTAMP:20260422T223307
CREATED:20180205T172343Z
LAST-MODIFIED:20180205T172343Z
UID:19518-1530034200-1530036000@tremontoncity.gov
SUMMARY:Planning Commission
DESCRIPTION:The Planning Commission meets the 2nd\, 4th\, and 5th Tuesdays of each month.  Click here to see the Planning Commission Agenda.
URL:https://tremontoncity.gov/event/planning-commission-64/
LOCATION:Planning Commission\, 102 S Tremont Street\, Tremonton\, UT\, 84337\, United States
CATEGORIES:Planning Commission
END:VEVENT
BEGIN:VEVENT
DTSTART;TZID=America/Denver:20180619T180000
DTEND;TZID=America/Denver:20180619T200000
DTSTAMP:20260422T223307
CREATED:20180205T161513Z
LAST-MODIFIED:20180205T161513Z
UID:19470-1529431200-1529438400@tremontoncity.gov
SUMMARY:City Council
DESCRIPTION:Tremonton City Council meets on the 1st and 3rd Tuesdays of each month. Click here to view the City Council agenda.
URL:https://tremontoncity.gov/event/city-council-31/
LOCATION:City Council\, 102 S Tremont St\, Tremonton\, 84337\, United States
CATEGORIES:City Council
END:VEVENT
BEGIN:VEVENT
DTSTART;TZID=America/Denver:20180613T090000
DTEND;TZID=America/Denver:20180613T093000
DTSTAMP:20260422T223307
CREATED:20180205T190444Z
LAST-MODIFIED:20180205T192927Z
UID:19569-1528880400-1528882200@tremontoncity.gov
SUMMARY:Land Use Authority Board
DESCRIPTION:The Land Use Authority Board meets every 2nd and 4th Wednesday at 9:00 a.m. unless there are no agenda items to discuss.  Click here to see the Land Use Authority Board Agenda.
URL:https://tremontoncity.gov/event/land-use-authority-board-108/
LOCATION:Development Review Committee\, 102 S Tremont Street\, Tremonton\, 84337
CATEGORIES:Land Use Authority Board
END:VEVENT
BEGIN:VEVENT
DTSTART;TZID=America/Denver:20180612T173000
DTEND;TZID=America/Denver:20180612T180000
DTSTAMP:20260422T223307
CREATED:20180205T172226Z
LAST-MODIFIED:20180205T172226Z
UID:19516-1528824600-1528826400@tremontoncity.gov
SUMMARY:Planning Commission
DESCRIPTION:The Planning Commission meets the 2nd\, 4th\, and 5th Tuesdays of each month.  Click here to see the Planning Commission Agenda.
URL:https://tremontoncity.gov/event/planning-commission-63/
LOCATION:Planning Commission\, 102 S Tremont Street\, Tremonton\, UT\, 84337\, United States
CATEGORIES:Planning Commission
END:VEVENT
BEGIN:VEVENT
DTSTART;TZID=America/Denver:20180605T180000
DTEND;TZID=America/Denver:20180605T200000
DTSTAMP:20260422T223307
CREATED:20180205T161327Z
LAST-MODIFIED:20180205T161327Z
UID:19468-1528221600-1528228800@tremontoncity.gov
SUMMARY:City Council
DESCRIPTION:Tremonton City Council meets on the 1st and 3rd Tuesdays of each month. Click here to view the City Council agenda.
URL:https://tremontoncity.gov/event/city-council-30/
LOCATION:City Council\, 102 S Tremont St\, Tremonton\, 84337\, United States
CATEGORIES:City Council
END:VEVENT
BEGIN:VEVENT
DTSTART;TZID=America/Denver:20180604T160000
DTEND;TZID=America/Denver:20180604T220000
DTSTAMP:20260422T223307
CREATED:20180516T165148Z
LAST-MODIFIED:20180516T165257Z
UID:20233-1528128000-1528149600@tremontoncity.gov
SUMMARY:Summer Reading Kickoff Party and Movie in the Park
DESCRIPTION:Keep you brain active this summer by registering for the Summer Reading Program hosted by both Tremonton and Garland Public Libraries. This year’s program has a music theme called “Libraries Rock”. Participants of all ages get the chance to earn prizes when they read from June 4 through July 30. Stretch your reading muscles and reach your goal! To celebrate the start of the summer reading program\, we throw an annual kickoff party with lots of fun activities\, last minute program registrations and a Movie in the Park. This years showing will be “Leap”
URL:https://tremontoncity.gov/event/summer-reading-kickoff-party-and-movie-in-the-park/
LOCATION:Shuman Park\, 200 N. Tremont Street\, Tremonton\, UT\, 84337\, United States
ORGANIZER;CN="Tremonton Recreation":MAILTO:Recreation@tremontoncity.com
END:VEVENT
BEGIN:VEVENT
DTSTART;TZID=America/Denver:20180529T173000
DTEND;TZID=America/Denver:20180529T180000
DTSTAMP:20260422T223307
CREATED:20180205T172133Z
LAST-MODIFIED:20180205T172133Z
UID:19514-1527615000-1527616800@tremontoncity.gov
SUMMARY:Planning Commission
DESCRIPTION:The Planning Commission meets the 2nd\, 4th\, and 5th Tuesdays of each month.  Click here to see the Planning Commission Agenda.
URL:https://tremontoncity.gov/event/planning-commission-62/
LOCATION:Planning Commission\, 102 S Tremont Street\, Tremonton\, UT\, 84337\, United States
CATEGORIES:Planning Commission
END:VEVENT
BEGIN:VEVENT
DTSTART;TZID=America/Denver:20180523T090000
DTEND;TZID=America/Denver:20180523T093000
DTSTAMP:20260422T223307
CREATED:20180205T185053Z
LAST-MODIFIED:20180205T185053Z
UID:19567-1527066000-1527067800@tremontoncity.gov
SUMMARY:Land Use Authority Board
DESCRIPTION:The Land Use Authority Board meets every 2nd and 4th Wednesday at 9:00 a.m. unless there are no agenda items to discuss.  Click here to see the Land Use Authority Board Agenda.
URL:https://tremontoncity.gov/event/land-use-authority-board-107/
LOCATION:Development Review Committee\, 102 S Tremont Street\, Tremonton\, 84337
CATEGORIES:Land Use Authority Board
END:VEVENT
BEGIN:VEVENT
DTSTART;TZID=America/Denver:20180522T173000
DTEND;TZID=America/Denver:20180522T180000
DTSTAMP:20260422T223307
CREATED:20180205T172016Z
LAST-MODIFIED:20180205T172016Z
UID:19512-1527010200-1527012000@tremontoncity.gov
SUMMARY:Planning Commission
DESCRIPTION:The Planning Commission meets the 2nd\, 4th\, and 5th Tuesdays of each month.  Click here to see the Planning Commission Agenda.
URL:https://tremontoncity.gov/event/planning-commission-61/
LOCATION:Planning Commission\, 102 S Tremont Street\, Tremonton\, UT\, 84337\, United States
CATEGORIES:Planning Commission
END:VEVENT
BEGIN:VEVENT
DTSTART;TZID=America/Denver:20180519T110000
DTEND;TZID=America/Denver:20180519T210000
DTSTAMP:20260422T223307
CREATED:20180501T202920Z
LAST-MODIFIED:20180501T202920Z
UID:20136-1526727600-1526763600@tremontoncity.gov
SUMMARY:Tremont Fest
DESCRIPTION:Come out and support the local businesses of Tremonton!\nSaturday\, May 19th from 11am-9pm\nThere will be LOCAL VENDORS\, FOOD TRUCKS\, and LIVE MUSIC at Midland Square!\nWalk down mainstreeet and shop all the sidewalk sales! \nVisit https://www.facebook.com/events/160005757996261/ for more information
URL:https://tremontoncity.gov/event/tremont-fest/
LOCATION:Midland Square\, 50 W. Main Street\, Tremonton\, UT\, 84337\, United States
END:VEVENT
BEGIN:VEVENT
DTSTART;TZID=America/Denver:20180515T180000
DTEND;TZID=America/Denver:20180515T200000
DTSTAMP:20260422T223307
CREATED:20180205T161222Z
LAST-MODIFIED:20180205T161222Z
UID:19466-1526407200-1526414400@tremontoncity.gov
SUMMARY:City Council
DESCRIPTION:Tremonton City Council meets on the 1st and 3rd Tuesdays of each month. Click here to view the City Council agenda.
URL:https://tremontoncity.gov/event/city-council-29/
LOCATION:UT
CATEGORIES:City Council
END:VEVENT
BEGIN:VEVENT
DTSTART;TZID=America/Denver:20180511T080000
DTEND;TZID=America/Denver:20180512T170000
DTSTAMP:20260422T223307
CREATED:20180501T204828Z
LAST-MODIFIED:20180501T204828Z
UID:20140-1526025600-1526144400@tremontoncity.gov
SUMMARY:Northern Utah Community Preparedness Expo
DESCRIPTION:May 11: 4 pm – 10 pm    May 12: 9 am – 4 pm \nBox Elder County Fair Grounds. Booths and emergency preparedness ideas will be shared. \nVisit https://www.facebook.com/events/1212445482191639/ for more information.
URL:https://tremontoncity.gov/event/northern-utah-community-preparedness-expo/
LOCATION:Box Elder County Fairgrounds\, 350 N 1000 W\, Tremonton\, UT\, 84337\, United States
END:VEVENT
BEGIN:VEVENT
DTSTART;TZID=America/Denver:20180509T090000
DTEND;TZID=America/Denver:20180509T093000
DTSTAMP:20260422T223307
CREATED:20180205T185007Z
LAST-MODIFIED:20180205T185007Z
UID:19565-1525856400-1525858200@tremontoncity.gov
SUMMARY:Land Use Authority Board
DESCRIPTION:The Land Use Authority Board meets every 2nd and 4th Wednesday at 9:00 a.m. unless there are no agenda items to discuss.  Click here to see the Land Use Authority Board Agenda.
URL:https://tremontoncity.gov/event/land-use-authority-board-106/
LOCATION:Development Review Committee\, 102 S Tremont Street\, Tremonton\, 84337
CATEGORIES:Land Use Authority Board
END:VEVENT
BEGIN:VEVENT
DTSTART;TZID=America/Denver:20180508T173000
DTEND;TZID=America/Denver:20180508T180000
DTSTAMP:20260422T223307
CREATED:20180205T171926Z
LAST-MODIFIED:20180205T171926Z
UID:19510-1525800600-1525802400@tremontoncity.gov
SUMMARY:Planning Commission
DESCRIPTION:The Planning Commission meets the 2nd\, 4th\, and 5th Tuesdays of each month.  Click here to see the Planning Commission Agenda.
URL:https://tremontoncity.gov/event/planning-commission-60/
LOCATION:Planning Commission\, 102 S Tremont Street\, Tremonton\, UT\, 84337\, United States
CATEGORIES:Planning Commission
END:VEVENT
BEGIN:VEVENT
DTSTART;TZID=America/Denver:20180501T190000
DTEND;TZID=America/Denver:20180501T190000
DTSTAMP:20260422T223307
CREATED:20180411T170049Z
LAST-MODIFIED:20180411T170049Z
UID:20023-1525201200-1525201200@tremontoncity.gov
SUMMARY:Public Hearing - Tentative Budget for RDA
DESCRIPTION:PUBLIC HEARING NOTICE \nNotice is hereby given that the Redevelopment Agency of Tremonton City will hold a public hearing on May 1\, 2018 immediately following the City Council Meeting scheduled to begin at 7:00 p.m.\, in the Civic Center at 102 South Tremont Street\, Tremonton\, Utah 84337. The purpose of the hearing is to consider adopting the Tentative Budget entitled “The Redevelopment Agency of Tremonton City Annual Implementation Budget 2018-2019 for Tremonton West Liberty Foods EDA 172 and Fund 71 RDA District #2 – Downtown\, for the period commencing July 1\, 2018 and ending June 30\, 2019. \nA copy of the proposed Budget will be on file for public inspection in the office of the Redevelopment Agency of Tremonton City on April 23\, 2018\, 102 South Tremont Street\, Tremonton\, Utah 84337. Interested persons are invited to appear at the public hearing or to file written comments with the Tremonton City Recorder regarding adoption of the proposed RDA Tentative Budget. \nLinsey Nessen\nExecutive Secretary \nPublished in the Leader April 18\, 2018 \nPROOF OF PUBLICATION REQUIRED\nPurchase Order No. 8020
URL:https://tremontoncity.gov/event/public-hearing-tentative-budget-for-rda/
LOCATION:City Council\, 102 S Tremont St\, Tremonton\, 84337\, United States
CATEGORIES:City Council
END:VEVENT
BEGIN:VEVENT
DTSTART;TZID=America/Denver:20180501T190000
DTEND;TZID=America/Denver:20180501T190000
DTSTAMP:20260422T223307
CREATED:20180411T165917Z
LAST-MODIFIED:20180411T165917Z
UID:20021-1525201200-1525201200@tremontoncity.gov
SUMMARY:Public Hearing - Tentative Budget for City
DESCRIPTION:PUBLIC HEARING NOTICE \nNotice is hereby given that the Tremonton City Council will hold a public hearing on May 1\, 2018 at 7:00 p.m. or soon thereafter in the Civic Center at 102 South Tremont Street\, Tremonton\, Utah 84337. The purpose of the hearing is to receive public comments in considering the adoption of the proposed Tentative Budget entitled “The Tremonton City Annual Implementation Budget 2018-2019 (General Fund\, Capital Fund(s)\, Enterprise Fund(s)\, and Special Funds)”\, for the period commencing July 1\, 2018 and ending June 30\, 2019. \nA copy of the proposed budget will be on file for public inspection on April 23\, 2018 in the City Office\, 102 South Tremont Street\, Tremonton\, Utah 84337. Interested persons are invited to appear at the public hearing to make comment or to file written comments\, before May 1\, 2018\, with the Tremonton City Recorder regarding adoption of the proposed budget. \nLinsey Nessen\, Recorder \nPublished in the Leader April 18\, 2018 \nPROOF OF PUBLICATION REQUIRED\nPurchase Order No. 8020
URL:https://tremontoncity.gov/event/public-hearing-tentative-budget-for-city/
LOCATION:City Council\, 102 S Tremont St\, Tremonton\, 84337\, United States
CATEGORIES:City Council
END:VEVENT
BEGIN:VEVENT
DTSTART;TZID=America/Denver:20180501T180000
DTEND;TZID=America/Denver:20180501T200000
DTSTAMP:20260422T223307
CREATED:20180205T161125Z
LAST-MODIFIED:20180205T161125Z
UID:19464-1525197600-1525204800@tremontoncity.gov
SUMMARY:City Council
DESCRIPTION:Tremonton City Council meets on the 1st and 3rd Tuesdays of each month. Click here to view the City Council agenda.
URL:https://tremontoncity.gov/event/city-council-28/
LOCATION:UT
CATEGORIES:City Council
END:VEVENT
BEGIN:VEVENT
DTSTART;TZID=America/Denver:20180425T090000
DTEND;TZID=America/Denver:20180425T093000
DTSTAMP:20260422T223307
CREATED:20180205T184921Z
LAST-MODIFIED:20180205T184921Z
UID:19563-1524646800-1524648600@tremontoncity.gov
SUMMARY:Land Use Authority Board
DESCRIPTION:The Land Use Authority Board meets every 2nd and 4th Wednesday at 9:00 a.m. unless there are no agenda items to discuss.  Click here to see the Land Use Authority Board Agenda.
URL:https://tremontoncity.gov/event/land-use-authority-board-105/
LOCATION:Development Review Committee\, 102 S Tremont Street\, Tremonton\, 84337
CATEGORIES:Land Use Authority Board
END:VEVENT
BEGIN:VEVENT
DTSTART;TZID=America/Denver:20180424T173000
DTEND;TZID=America/Denver:20180424T180000
DTSTAMP:20260422T223307
CREATED:20180205T171826Z
LAST-MODIFIED:20180205T171826Z
UID:19508-1524591000-1524592800@tremontoncity.gov
SUMMARY:Planning Commission
DESCRIPTION:The Planning Commission meets the 2nd\, 4th\, and 5th Tuesdays of each month.  Click here to see the Planning Commission Agenda.
URL:https://tremontoncity.gov/event/planning-commission-59/
LOCATION:Planning Commission\, 102 S Tremont Street\, Tremonton\, UT\, 84337\, United States
CATEGORIES:Planning Commission
END:VEVENT
BEGIN:VEVENT
DTSTART;TZID=America/Denver:20180424T173000
DTEND;TZID=America/Denver:20180424T173000
DTSTAMP:20260422T223307
CREATED:20180403T143614Z
LAST-MODIFIED:20180403T144040Z
UID:19927-1524591000-1524591000@tremontoncity.gov
SUMMARY:Public Hearing: Amend Title I
DESCRIPTION:Notice of Public Hearing \nThe Tremonton City Planning Commission will hold a Public Hearing on April 24\, 2018 102 South Tremont Street\, 5:30 p.m.\, or thereafter\, at which time public comment will be heard and consideration given to amending Title I Zoning Ordinance\, Chapter 1.19 Mixed Use Zone\, Section 1.09.020 Lot Regulations amending lot configuration and structure placement on a lot would be approved through a site plan approval process. Comments may be submitted prior to the public hearing at Tremonton City hall\, 102 South Tremont Street\, Tremonton\, Utah during normal business hours. \nPublished in The Leader – April 11\, 2018 \nPO# 3012 \nProof of Publication requested. \nThank You \nSteve Bench\nTremonton City\n435-257-9510
URL:https://tremontoncity.gov/event/public-hearing-amend-title-i/
LOCATION:Planning Commission\, 102 S Tremont Street\, Tremonton\, UT\, 84337\, United States
CATEGORIES:Planning Commission
END:VEVENT
BEGIN:VEVENT
DTSTART;TZID=America/Denver:20180417T190000
DTEND;TZID=America/Denver:20180417T190000
DTSTAMP:20260422T223307
CREATED:20180403T143801Z
LAST-MODIFIED:20180403T143801Z
UID:19929-1523991600-1523991600@tremontoncity.gov
SUMMARY:Public Hearing: Annexation for Kokopelli Investments LLC
DESCRIPTION:PUBLIC NOTICE \nTremonton City gives notice that on Tuesday\, April 17\, 2018 at 7:00 p.m. or soon thereafter\, at the Tremonton City Civic Center\, 102 South Tremont Street\, Tremonton\, Utah\, the Tremonton City Council will hold a public hearing concerning the proposed annexation of real property owned by Kokopelli Investments LLC (Tax ID Nos. 05-167-0040\, 05-167-0003\, 05-167-0044) being 62.85 acres in size. Consideration of zoning the property will also be considered as part of the public hearing. The applicant has requested zoning the property Mixed Use (MU). The property is located at approximately 1150 E. Main Street. The complete legal description and plat relating to the proposed annexation are available for review at the office of the City Recorder\, 102 South Tremont Street\, Tremonton\, Utah during regular business hours. The public is invited to attend the public hearing and provide comments for consideration by the City Council. \nLinsey Nessen\, City Recorder \nPublished in the Leader – April 4\, 2018 \nPROOF OF PUBLICATION REQUIRED\nP.O. 8019
URL:https://tremontoncity.gov/event/public-hearing-annexation-for-kokopelli-investments-llc/
LOCATION:City Council\, 102 S Tremont St\, Tremonton\, 84337\, United States
CATEGORIES:City Council
END:VEVENT
END:VCALENDAR