BEGIN:VCALENDAR
VERSION:2.0
PRODID:-//Tremonton City - ECPv6.13.2.1//NONSGML v1.0//EN
CALSCALE:GREGORIAN
METHOD:PUBLISH
X-WR-CALNAME:Tremonton City
X-ORIGINAL-URL:https://tremontoncity.gov
X-WR-CALDESC:Events for Tremonton City
REFRESH-INTERVAL;VALUE=DURATION:PT1H
X-Robots-Tag:noindex
X-PUBLISHED-TTL:PT1H
BEGIN:VTIMEZONE
TZID:America/Denver
BEGIN:DAYLIGHT
TZOFFSETFROM:-0700
TZOFFSETTO:-0600
TZNAME:MDT
DTSTART:20170312T090000
END:DAYLIGHT
BEGIN:STANDARD
TZOFFSETFROM:-0600
TZOFFSETTO:-0700
TZNAME:MST
DTSTART:20171105T080000
END:STANDARD
BEGIN:DAYLIGHT
TZOFFSETFROM:-0700
TZOFFSETTO:-0600
TZNAME:MDT
DTSTART:20180311T090000
END:DAYLIGHT
BEGIN:STANDARD
TZOFFSETFROM:-0600
TZOFFSETTO:-0700
TZNAME:MST
DTSTART:20181104T080000
END:STANDARD
END:VTIMEZONE
BEGIN:VEVENT
DTSTART;TZID=America/Denver:20180411T090000
DTEND;TZID=America/Denver:20180411T093000
DTSTAMP:20260423T040549
CREATED:20180205T184838Z
LAST-MODIFIED:20180205T184838Z
UID:19561-1523437200-1523439000@tremontoncity.gov
SUMMARY:Land Use Authority Board
DESCRIPTION:The Land Use Authority Board meets every 2nd and 4th Wednesday at 9:00 a.m. unless there are no agenda items to discuss.  Click here to see the Land Use Authority Board Agenda.
URL:https://tremontoncity.gov/event/land-use-authority-board-104/
LOCATION:Development Review Committee\, 102 S Tremont Street\, Tremonton\, 84337
CATEGORIES:Land Use Authority Board
END:VEVENT
BEGIN:VEVENT
DTSTART;TZID=America/Denver:20180410T173000
DTEND;TZID=America/Denver:20180410T180000
DTSTAMP:20260423T040549
CREATED:20180205T171740Z
LAST-MODIFIED:20180205T171740Z
UID:19506-1523381400-1523383200@tremontoncity.gov
SUMMARY:Planning Commission
DESCRIPTION:The Planning Commission meets the 2nd\, 4th\, and 5th Tuesdays of each month.  Click here to see the Planning Commission Agenda.
URL:https://tremontoncity.gov/event/planning-commission-58/
LOCATION:Planning Commission\, 102 S Tremont Street\, Tremonton\, UT\, 84337\, United States
CATEGORIES:Planning Commission
END:VEVENT
BEGIN:VEVENT
DTSTART;TZID=America/Denver:20180403T180000
DTEND;TZID=America/Denver:20180403T200000
DTSTAMP:20260423T040549
CREATED:20180205T160834Z
LAST-MODIFIED:20180205T160834Z
UID:19460-1522778400-1522785600@tremontoncity.gov
SUMMARY:City Council
DESCRIPTION:Tremonton City Council meets on the 1st and 3rd Tuesdays of each month. Click here to view the City Council agenda.
URL:https://tremontoncity.gov/event/city-council-26/
LOCATION:UT
CATEGORIES:City Council
END:VEVENT
BEGIN:VEVENT
DTSTART;TZID=America/Denver:20180328T090000
DTEND;TZID=America/Denver:20180328T093000
DTSTAMP:20260423T040549
CREATED:20180205T184736Z
LAST-MODIFIED:20180205T184736Z
UID:19559-1522227600-1522229400@tremontoncity.gov
SUMMARY:Land Use Authority Board
DESCRIPTION:The Land Use Authority Board meets every 2nd and 4th Wednesday at 9:00 a.m. unless there are no agenda items to discuss.  Click here to see the Land Use Authority Board Agenda.
URL:https://tremontoncity.gov/event/land-use-authority-board-103/
LOCATION:Development Review Committee\, 102 S Tremont Street\, Tremonton\, 84337
CATEGORIES:Land Use Authority Board
END:VEVENT
BEGIN:VEVENT
DTSTART;TZID=America/Denver:20180327T173000
DTEND;TZID=America/Denver:20180327T180000
DTSTAMP:20260423T040549
CREATED:20180205T171640Z
LAST-MODIFIED:20180205T171640Z
UID:19504-1522171800-1522173600@tremontoncity.gov
SUMMARY:Planning Commission
DESCRIPTION:The Planning Commission meets the 2nd\, 4th\, and 5th Tuesdays of each month.  Click here to see the Planning Commission Agenda.
URL:https://tremontoncity.gov/event/planning-commission-57/
LOCATION:Planning Commission\, 102 S Tremont Street\, Tremonton\, UT\, 84337\, United States
CATEGORIES:Planning Commission
END:VEVENT
BEGIN:VEVENT
DTSTART;TZID=America/Denver:20180320T180000
DTEND;TZID=America/Denver:20180320T200000
DTSTAMP:20260423T040549
CREATED:20180205T160730Z
LAST-MODIFIED:20180205T160730Z
UID:19458-1521568800-1521576000@tremontoncity.gov
SUMMARY:City Council
DESCRIPTION:Tremonton City Council meets on the 1st and 3rd Tuesdays of each month. Click here to view the City Council agenda.
URL:https://tremontoncity.gov/event/city-council-25/
LOCATION:UT
CATEGORIES:City Council
END:VEVENT
BEGIN:VEVENT
DTSTART;TZID=America/Denver:20180314T090000
DTEND;TZID=America/Denver:20180314T093000
DTSTAMP:20260423T040549
CREATED:20180205T184646Z
LAST-MODIFIED:20180205T184646Z
UID:19557-1521018000-1521019800@tremontoncity.gov
SUMMARY:Land Use Authority Board
DESCRIPTION:The Land Use Authority Board meets every 2nd and 4th Wednesday at 9:00 a.m. unless there are no agenda items to discuss.  Click here to see the Land Use Authority Board Agenda.
URL:https://tremontoncity.gov/event/land-use-authority-board-102/
LOCATION:Development Review Committee\, 102 S Tremont Street\, Tremonton\, 84337
CATEGORIES:Land Use Authority Board
END:VEVENT
BEGIN:VEVENT
DTSTART;TZID=America/Denver:20180313T173000
DTEND;TZID=America/Denver:20180313T180000
DTSTAMP:20260423T040549
CREATED:20180205T171437Z
LAST-MODIFIED:20180205T171437Z
UID:19502-1520962200-1520964000@tremontoncity.gov
SUMMARY:Planning Commission
DESCRIPTION:The Planning Commission meets the 2nd\, 4th\, and 5th Tuesdays of each month.  Click here to see the Planning Commission Agenda.
URL:https://tremontoncity.gov/event/planning-commission-56/
LOCATION:Planning Commission\, 102 S Tremont Street\, Tremonton\, UT\, 84337\, United States
CATEGORIES:Planning Commission
END:VEVENT
BEGIN:VEVENT
DTSTART;TZID=America/Denver:20180313T173000
DTEND;TZID=America/Denver:20180313T173000
DTSTAMP:20260423T040549
CREATED:20180215T185552Z
LAST-MODIFIED:20180215T185715Z
UID:19653-1520962200-1520962200@tremontoncity.gov
SUMMARY:Public Hearing - Amend Chapter 1.16
DESCRIPTION:Notice of Public Hearing \nThe Tremonton City Planning Commission will hold a Public Hearing on March 13\, 2018 102 South Tremont Street\, 5:30 p.m.\, or thereafter\, at which time public comment will be heard and consideration given to amending Title I Zoning Ordinance Chapter 1.16 Overlay Zones specifically Tremont Center Mixed Use Overlay Zone Section 1.16.035 to include the following uses; Automobile Sales and Service\, Multi-Family Attached Dwellings\, Dry Cleaning Drop Off\, Car Wash\, and Automobile Fuel Center. It is also proposed to amend Chapter 1.16 adding new sections called Crossroads Ranches Mixed Use Overlay Zone that includes small commercial\, mixed residential\, and recreation facilities\, located approximately 1045 East Main Street. Comments may be submitted prior to the public hearing at Tremonton City hall\, 102 South Tremont Street\, Tremonton\, Utah during normal business hours. \nPublished in The Leader – February 28\, 2018 \nPO# 3003\nProof of Publication requested. \nThank You \nSteve Bench\nTremonton City\n435-257-9510
URL:https://tremontoncity.gov/event/public-hearing-amend-chapter-1-16/
LOCATION:UT
CATEGORIES:Planning Commission
END:VEVENT
BEGIN:VEVENT
DTSTART;TZID=America/Denver:20180306T180000
DTEND;TZID=America/Denver:20180306T200000
DTSTAMP:20260423T040549
CREATED:20180205T160639Z
LAST-MODIFIED:20180205T160639Z
UID:19456-1520359200-1520366400@tremontoncity.gov
SUMMARY:City Council
DESCRIPTION:Tremonton City Council meets on the 1st and 3rd Tuesdays of each month. Click here to view the City Council agenda.
URL:https://tremontoncity.gov/event/city-council-24/
LOCATION:UT
CATEGORIES:City Council
END:VEVENT
BEGIN:VEVENT
DTSTART;TZID=America/Denver:20180228T090000
DTEND;TZID=America/Denver:20180228T093000
DTSTAMP:20260423T040549
CREATED:20180205T184558Z
LAST-MODIFIED:20180205T184558Z
UID:19555-1519808400-1519810200@tremontoncity.gov
SUMMARY:Land Use Authority Board
DESCRIPTION:The Land Use Authority Board meets every 2nd and 4th Wednesday at 9:00 a.m. unless there are no agenda items to discuss.  Click here to see the Land Use Authority Board Agenda.
URL:https://tremontoncity.gov/event/land-use-authority-board-101/
LOCATION:Development Review Committee\, 102 S Tremont Street\, Tremonton\, 84337
CATEGORIES:Land Use Authority Board
END:VEVENT
BEGIN:VEVENT
DTSTART;TZID=America/Denver:20180227T173000
DTEND;TZID=America/Denver:20180227T180000
DTSTAMP:20260423T040549
CREATED:20180205T170219Z
LAST-MODIFIED:20180205T170219Z
UID:19500-1519752600-1519754400@tremontoncity.gov
SUMMARY:Planning Commission
DESCRIPTION:The Planning Commission meets the 2nd\, 4th\, and 5th Tuesdays of each month.  Click here to see the Planning Commission Agenda.
URL:https://tremontoncity.gov/event/planning-commission-55/
LOCATION:Planning Commission\, 102 S Tremont Street\, Tremonton\, UT\, 84337\, United States
CATEGORIES:Planning Commission
END:VEVENT
BEGIN:VEVENT
DTSTART;TZID=America/Denver:20180220T180000
DTEND;TZID=America/Denver:20180220T200000
DTSTAMP:20260423T040549
CREATED:20180205T160542Z
LAST-MODIFIED:20180205T160542Z
UID:19454-1519149600-1519156800@tremontoncity.gov
SUMMARY:City Council
DESCRIPTION:Tremonton City Council meets on the 1st and 3rd Tuesdays of each month. Click here to view the City Council agenda.
URL:https://tremontoncity.gov/event/city-council-23/
LOCATION:UT
CATEGORIES:City Council
END:VEVENT
BEGIN:VEVENT
DTSTART;TZID=America/Denver:20180220T120000
DTEND;TZID=America/Denver:20180220T123000
DTSTAMP:20260423T040549
CREATED:20180216T194059Z
LAST-MODIFIED:20180216T194059Z
UID:19682-1519128000-1519129800@tremontoncity.gov
SUMMARY:Arts Council
DESCRIPTION:The Arts Council will have a meeting today. Click HERE to see agenda.
URL:https://tremontoncity.gov/event/arts-council/
LOCATION:UT
END:VEVENT
BEGIN:VEVENT
DTSTART;TZID=America/Denver:20180214T090000
DTEND;TZID=America/Denver:20180214T213000
DTSTAMP:20260423T040550
CREATED:20180205T183940Z
LAST-MODIFIED:20180205T183940Z
UID:19547-1518598800-1518643800@tremontoncity.gov
SUMMARY:Land Use Authority Board
DESCRIPTION:The Land Use Authority Board meets every 2nd and 4th Wednesday at 9:00 a.m. unless there are no agenda items to discuss.  Click here to see the Land Use Authority Board Agenda.
URL:https://tremontoncity.gov/event/land-use-authority-board-100/
LOCATION:Development Review Committee\, 102 S Tremont Street\, Tremonton\, 84337
CATEGORIES:Land Use Authority Board
END:VEVENT
BEGIN:VEVENT
DTSTART;TZID=America/Denver:20180213T173000
DTEND;TZID=America/Denver:20180213T180000
DTSTAMP:20260423T040550
CREATED:20180205T170022Z
LAST-MODIFIED:20180205T170022Z
UID:19498-1518543000-1518544800@tremontoncity.gov
SUMMARY:Planning Commission
DESCRIPTION:The Planning Commission meets the 2nd\, 4th\, and 5th Tuesdays of each month.  Click here to see the Planning Commission Agenda.
URL:https://tremontoncity.gov/event/planning-commission-54/
LOCATION:Planning Commission\, 102 S Tremont Street\, Tremonton\, UT\, 84337\, United States
CATEGORIES:Planning Commission
END:VEVENT
BEGIN:VEVENT
DTSTART;TZID=America/Denver:20180206T173000
DTEND;TZID=America/Denver:20180206T193000
DTSTAMP:20260423T040550
CREATED:20180205T160358Z
LAST-MODIFIED:20180205T160358Z
UID:19452-1517938200-1517945400@tremontoncity.gov
SUMMARY:City Council
DESCRIPTION:Tremonton City Council meets on the 1st and 3rd Tuesdays of each month. Click here to view the City Council agenda.
URL:https://tremontoncity.gov/event/city-council-22/
LOCATION:UT
CATEGORIES:City Council
END:VEVENT
BEGIN:VEVENT
DTSTART;TZID=America/Denver:20180131T090000
DTEND;TZID=America/Denver:20180131T093000
DTSTAMP:20260423T040550
CREATED:20161208T210043Z
LAST-MODIFIED:20161208T210043Z
UID:16949-1517389200-1517391000@tremontoncity.gov
SUMMARY:Land Use Authority Board
DESCRIPTION:The Land Use Authority Board meets every Wednesday at 9:00 a.m. unless there are no agenda items to discuss.  Click here to see the Land Use Authority Board Agenda.
URL:https://tremontoncity.gov/event/land-use-authority-board-99/
LOCATION:Development Review Committee\, 102 S Tremont Street\, Tremonton\, 84337
CATEGORIES:Land Use Authority Board
END:VEVENT
BEGIN:VEVENT
DTSTART;TZID=America/Denver:20180130T173000
DTEND;TZID=America/Denver:20180130T180000
DTSTAMP:20260423T040550
CREATED:20161208T195532Z
LAST-MODIFIED:20161208T195532Z
UID:16827-1517333400-1517335200@tremontoncity.gov
SUMMARY:Planning Commission
DESCRIPTION:The Planning Commission meets the 2nd\, 4th\, and 5th Tuesdays of each month.  Click here to see the Planning Commission Agenda.
URL:https://tremontoncity.gov/event/planning-commission-53/
LOCATION:Planning Commission\, 102 S Tremont Street\, Tremonton\, UT\, 84337\, United States
CATEGORIES:Planning Commission
END:VEVENT
BEGIN:VEVENT
DTSTART;TZID=America/Denver:20180124T090000
DTEND;TZID=America/Denver:20180124T093000
DTSTAMP:20260423T040550
CREATED:20161208T205953Z
LAST-MODIFIED:20161208T205953Z
UID:16947-1516784400-1516786200@tremontoncity.gov
SUMMARY:Land Use Authority Board
DESCRIPTION:The Land Use Authority Board meets every Wednesday at 9:00 a.m. unless there are no agenda items to discuss.  Click here to see the Land Use Authority Board Agenda.
URL:https://tremontoncity.gov/event/land-use-authority-board-98/
LOCATION:Development Review Committee\, 102 S Tremont Street\, Tremonton\, 84337
CATEGORIES:Land Use Authority Board
END:VEVENT
BEGIN:VEVENT
DTSTART;TZID=America/Denver:20180123T173000
DTEND;TZID=America/Denver:20180123T180000
DTSTAMP:20260423T040550
CREATED:20161208T195438Z
LAST-MODIFIED:20161208T195438Z
UID:16825-1516728600-1516730400@tremontoncity.gov
SUMMARY:Planning Commission
DESCRIPTION:The Planning Commission meets the 2nd\, 4th\, and 5th Tuesdays of each month.  Click here to see the Planning Commission Agenda.
URL:https://tremontoncity.gov/event/planning-commission-52/
LOCATION:Planning Commission\, 102 S Tremont Street\, Tremonton\, UT\, 84337\, United States
CATEGORIES:Planning Commission
END:VEVENT
BEGIN:VEVENT
DTSTART;TZID=America/Denver:20180117T090000
DTEND;TZID=America/Denver:20180117T093000
DTSTAMP:20260423T040550
CREATED:20161208T205859Z
LAST-MODIFIED:20161208T205859Z
UID:16943-1516179600-1516181400@tremontoncity.gov
SUMMARY:Land Use Authority Board
DESCRIPTION:The Land Use Authority Board meets every Wednesday at 9:00 a.m. unless there are no agenda items to discuss.  Click here to see the Land Use Authority Board Agenda.
URL:https://tremontoncity.gov/event/land-use-authority-board-97/
LOCATION:Development Review Committee\, 102 S Tremont Street\, Tremonton\, 84337
CATEGORIES:Land Use Authority Board
END:VEVENT
BEGIN:VEVENT
DTSTART;TZID=America/Denver:20180116T180000
DTEND;TZID=America/Denver:20180116T200000
DTSTAMP:20260423T040550
CREATED:20161208T185610Z
LAST-MODIFIED:20161208T185610Z
UID:16766-1516125600-1516132800@tremontoncity.gov
SUMMARY:City Council
DESCRIPTION:Tremonton City Council meets on the 1st and 3rd Tuesdays of each month. Click here to view the City Council agenda.
URL:https://tremontoncity.gov/event/city-council-21/
LOCATION:City Council\, 102 S Tremont St\, Tremonton\, 84337\, United States
CATEGORIES:City Council
END:VEVENT
BEGIN:VEVENT
DTSTART;TZID=America/Denver:20180110T090000
DTEND;TZID=America/Denver:20180110T093000
DTSTAMP:20260423T040550
CREATED:20161208T205805Z
LAST-MODIFIED:20161208T205805Z
UID:16941-1515574800-1515576600@tremontoncity.gov
SUMMARY:Land Use Authority Board
DESCRIPTION:The Land Use Authority Board meets every Wednesday at 9:00 a.m. unless there are no agenda items to discuss.  Click here to see the Land Use Authority Board Agenda.
URL:https://tremontoncity.gov/event/land-use-authority-board-96/
LOCATION:Development Review Committee\, 102 S Tremont Street\, Tremonton\, 84337
CATEGORIES:Land Use Authority Board
END:VEVENT
BEGIN:VEVENT
DTSTART;TZID=America/Denver:20180109T173000
DTEND;TZID=America/Denver:20180109T180000
DTSTAMP:20260423T040550
CREATED:20161208T195346Z
LAST-MODIFIED:20161208T195346Z
UID:16823-1515519000-1515520800@tremontoncity.gov
SUMMARY:Planning Commission
DESCRIPTION:The Planning Commission meets the 2nd\, 4th\, and 5th Tuesdays of each month.  Click here to see the Planning Commission Agenda.
URL:https://tremontoncity.gov/event/planning-commission-51/
LOCATION:Planning Commission\, 102 S Tremont Street\, Tremonton\, UT\, 84337\, United States
CATEGORIES:Planning Commission
END:VEVENT
BEGIN:VEVENT
DTSTART;TZID=America/Denver:20180103T090000
DTEND;TZID=America/Denver:20180103T093000
DTSTAMP:20260423T040550
CREATED:20161208T205710Z
LAST-MODIFIED:20161208T205710Z
UID:16939-1514970000-1514971800@tremontoncity.gov
SUMMARY:Land Use Authority Board
DESCRIPTION:The Land Use Authority Board meets every Wednesday at 9:00 a.m. unless there are no agenda items to discuss.  Click here to see the Land Use Authority Board Agenda.
URL:https://tremontoncity.gov/event/land-use-authority-board-95/
LOCATION:Development Review Committee\, 102 S Tremont Street\, Tremonton\, 84337
CATEGORIES:Land Use Authority Board
END:VEVENT
BEGIN:VEVENT
DTSTART;TZID=America/Denver:20180102T180000
DTEND;TZID=America/Denver:20180102T200000
DTSTAMP:20260423T040550
CREATED:20161208T185518Z
LAST-MODIFIED:20161208T185518Z
UID:16764-1514916000-1514923200@tremontoncity.gov
SUMMARY:City Council
DESCRIPTION:Tremonton City Council meets on the 1st and 3rd Tuesdays of each month. Click here to view the City Council agenda.
URL:https://tremontoncity.gov/event/city-council-20/
LOCATION:City Council\, 102 S Tremont St\, Tremonton\, 84337\, United States
CATEGORIES:City Council
END:VEVENT
BEGIN:VEVENT
DTSTART;TZID=America/Denver:20171227T090000
DTEND;TZID=America/Denver:20171227T093000
DTSTAMP:20260423T040550
CREATED:20161208T205618Z
LAST-MODIFIED:20161208T205618Z
UID:16937-1514365200-1514367000@tremontoncity.gov
SUMMARY:Land Use Authority Board
DESCRIPTION:The Land Use Authority Board meets every Wednesday at 9:00 a.m. unless there are no agenda items to discuss.  Click here to see the Land Use Authority Board Agenda.
URL:https://tremontoncity.gov/event/land-use-authority-board-94/
LOCATION:Development Review Committee\, 102 S Tremont Street\, Tremonton\, 84337
CATEGORIES:Land Use Authority Board
END:VEVENT
BEGIN:VEVENT
DTSTART;TZID=America/Denver:20171220T090000
DTEND;TZID=America/Denver:20171220T093000
DTSTAMP:20260423T040550
CREATED:20161208T205532Z
LAST-MODIFIED:20161208T205532Z
UID:16935-1513760400-1513762200@tremontoncity.gov
SUMMARY:Land Use Authority Board
DESCRIPTION:The Land Use Authority Board meets every Wednesday at 9:00 a.m. unless there are no agenda items to discuss.  Click here to see the Land Use Authority Board Agenda.
URL:https://tremontoncity.gov/event/land-use-authority-board-93/
LOCATION:Development Review Committee\, 102 S Tremont Street\, Tremonton\, 84337
CATEGORIES:Land Use Authority Board
END:VEVENT
BEGIN:VEVENT
DTSTART;TZID=America/Denver:20171219T180000
DTEND;TZID=America/Denver:20171219T200000
DTSTAMP:20260423T040550
CREATED:20161208T185426Z
LAST-MODIFIED:20161208T185426Z
UID:16762-1513706400-1513713600@tremontoncity.gov
SUMMARY:City Council
DESCRIPTION:Tremonton City Council meets on the 1st and 3rd Tuesdays of each month. Click here to view the City Council agenda.
URL:https://tremontoncity.gov/event/city-council-19/
LOCATION:City Council\, 102 S Tremont St\, Tremonton\, 84337\, United States
CATEGORIES:City Council
END:VEVENT
END:VCALENDAR