BEGIN:VCALENDAR
VERSION:2.0
PRODID:-//Tremonton City - ECPv6.13.2.1//NONSGML v1.0//EN
CALSCALE:GREGORIAN
METHOD:PUBLISH
X-WR-CALNAME:Tremonton City
X-ORIGINAL-URL:https://tremontoncity.gov
X-WR-CALDESC:Events for Tremonton City
REFRESH-INTERVAL;VALUE=DURATION:PT1H
X-Robots-Tag:noindex
X-PUBLISHED-TTL:PT1H
BEGIN:VTIMEZONE
TZID:America/Denver
BEGIN:DAYLIGHT
TZOFFSETFROM:-0700
TZOFFSETTO:-0600
TZNAME:MDT
DTSTART:20170312T090000
END:DAYLIGHT
BEGIN:STANDARD
TZOFFSETFROM:-0600
TZOFFSETTO:-0700
TZNAME:MST
DTSTART:20171105T080000
END:STANDARD
END:VTIMEZONE
BEGIN:VEVENT
DTSTART;TZID=America/Denver:20171213T090000
DTEND;TZID=America/Denver:20171213T093000
DTSTAMP:20260423T093254
CREATED:20161208T205445Z
LAST-MODIFIED:20161208T205445Z
UID:16933-1513155600-1513157400@tremontoncity.gov
SUMMARY:Land Use Authority Board
DESCRIPTION:The Land Use Authority Board meets every Wednesday at 9:00 a.m. unless there are no agenda items to discuss.  Click here to see the Land Use Authority Board Agenda.
URL:https://tremontoncity.gov/event/land-use-authority-board-92/
LOCATION:Development Review Committee\, 102 S Tremont Street\, Tremonton\, 84337
CATEGORIES:Land Use Authority Board
END:VEVENT
BEGIN:VEVENT
DTSTART;TZID=America/Denver:20171212T173000
DTEND;TZID=America/Denver:20171212T180000
DTSTAMP:20260423T093254
CREATED:20161208T195148Z
LAST-MODIFIED:20161208T195148Z
UID:16821-1513099800-1513101600@tremontoncity.gov
SUMMARY:Planning Commission
DESCRIPTION:The Planning Commission meets the 2nd\, 4th\, and 5th Tuesdays of each month.  Click here to see the Planning Commission Agenda.
URL:https://tremontoncity.gov/event/planning-commission-50/
LOCATION:Planning Commission\, 102 S Tremont Street\, Tremonton\, UT\, 84337\, United States
CATEGORIES:Planning Commission
END:VEVENT
BEGIN:VEVENT
DTSTART;TZID=America/Denver:20171206T090000
DTEND;TZID=America/Denver:20171206T093000
DTSTAMP:20260423T093254
CREATED:20161208T205344Z
LAST-MODIFIED:20161208T205344Z
UID:16931-1512550800-1512552600@tremontoncity.gov
SUMMARY:Land Use Authority Board
DESCRIPTION:The Land Use Authority Board meets every Wednesday at 9:00 a.m. unless there are no agenda items to discuss.  Click here to see the Land Use Authority Board Agenda.
URL:https://tremontoncity.gov/event/land-use-authority-board-91/
LOCATION:Development Review Committee\, 102 S Tremont Street\, Tremonton\, 84337
CATEGORIES:Land Use Authority Board
END:VEVENT
BEGIN:VEVENT
DTSTART;TZID=America/Denver:20171205T180000
DTEND;TZID=America/Denver:20171205T200000
DTSTAMP:20260423T093254
CREATED:20161208T185316Z
LAST-MODIFIED:20161208T185316Z
UID:16759-1512496800-1512504000@tremontoncity.gov
SUMMARY:City Council
DESCRIPTION:Tremonton City Council meets on the 1st and 3rd Tuesdays of each month. Click here to view the City Council agenda.
URL:https://tremontoncity.gov/event/city-council-18/
LOCATION:City Council\, 102 S Tremont St\, Tremonton\, 84337\, United States
CATEGORIES:City Council
END:VEVENT
BEGIN:VEVENT
DTSTART;TZID=America/Denver:20171129T090000
DTEND;TZID=America/Denver:20171129T093000
DTSTAMP:20260423T093254
CREATED:20161208T205253Z
LAST-MODIFIED:20161208T205253Z
UID:16929-1511946000-1511947800@tremontoncity.gov
SUMMARY:Land Use Authority Board
DESCRIPTION:The Land Use Authority Board meets every Wednesday at 9:00 a.m. unless there are no agenda items to discuss.  Click here to see the Land Use Authority Board Agenda.
URL:https://tremontoncity.gov/event/land-use-authority-board-90/
LOCATION:Development Review Committee\, 102 S Tremont Street\, Tremonton\, 84337
CATEGORIES:Land Use Authority Board
END:VEVENT
BEGIN:VEVENT
DTSTART;TZID=America/Denver:20171128T173000
DTEND;TZID=America/Denver:20171128T180000
DTSTAMP:20260423T093254
CREATED:20161208T195045Z
LAST-MODIFIED:20161208T195045Z
UID:16819-1511890200-1511892000@tremontoncity.gov
SUMMARY:Planning Commission
DESCRIPTION:The Planning Commission meets the 2nd\, 4th\, and 5th Tuesdays of each month.  Click here to see the Planning Commission Agenda.
URL:https://tremontoncity.gov/event/planning-commission-49/
LOCATION:Planning Commission\, 102 S Tremont Street\, Tremonton\, UT\, 84337\, United States
CATEGORIES:Planning Commission
END:VEVENT
BEGIN:VEVENT
DTSTART;TZID=America/Denver:20171122T090000
DTEND;TZID=America/Denver:20171122T093000
DTSTAMP:20260423T093254
CREATED:20161208T205157Z
LAST-MODIFIED:20161208T205157Z
UID:16927-1511341200-1511343000@tremontoncity.gov
SUMMARY:Land Use Authority Board
DESCRIPTION:The Land Use Authority Board meets every Wednesday at 9:00 a.m. unless there are no agenda items to discuss.  Click here to see the Land Use Authority Board Agenda.
URL:https://tremontoncity.gov/event/land-use-authority-board-89/
LOCATION:Development Review Committee\, 102 S Tremont Street\, Tremonton\, 84337
CATEGORIES:Land Use Authority Board
END:VEVENT
BEGIN:VEVENT
DTSTART;TZID=America/Denver:20171115T090000
DTEND;TZID=America/Denver:20171115T093000
DTSTAMP:20260423T093254
CREATED:20161208T205055Z
LAST-MODIFIED:20161208T205055Z
UID:16925-1510736400-1510738200@tremontoncity.gov
SUMMARY:Land Use Authority Board
DESCRIPTION:The Land Use Authority Board meets every Wednesday at 9:00 a.m. unless there are no agenda items to discuss.  Click here to see the Land Use Authority Board Agenda.
URL:https://tremontoncity.gov/event/land-use-authority-board-88/
LOCATION:Development Review Committee\, 102 S Tremont Street\, Tremonton\, 84337
CATEGORIES:Land Use Authority Board
END:VEVENT
BEGIN:VEVENT
DTSTART;TZID=America/Denver:20171114T183000
DTEND;TZID=America/Denver:20171114T213000
DTSTAMP:20260423T093254
CREATED:20171006T190012Z
LAST-MODIFIED:20171006T190012Z
UID:18975-1510684200-1510695000@tremontoncity.gov
SUMMARY:CERT Class
DESCRIPTION:Click here for more information.
URL:https://tremontoncity.gov/event/cert-class-4/
LOCATION:UT
END:VEVENT
BEGIN:VEVENT
DTSTART;TZID=America/Denver:20171114T173000
DTEND;TZID=America/Denver:20171114T180000
DTSTAMP:20260423T093254
CREATED:20161208T194942Z
LAST-MODIFIED:20161208T194942Z
UID:16817-1510680600-1510682400@tremontoncity.gov
SUMMARY:Planning Commission
DESCRIPTION:The Planning Commission meets the 2nd\, 4th\, and 5th Tuesdays of each month.  Click here to see the Planning Commission Agenda.
URL:https://tremontoncity.gov/event/planning-commission-48/
LOCATION:Planning Commission\, 102 S Tremont Street\, Tremonton\, UT\, 84337\, United States
CATEGORIES:Planning Commission
END:VEVENT
BEGIN:VEVENT
DTSTART;TZID=America/Denver:20171108T090000
DTEND;TZID=America/Denver:20171108T093000
DTSTAMP:20260423T093254
CREATED:20161208T205004Z
LAST-MODIFIED:20161208T205004Z
UID:16923-1510131600-1510133400@tremontoncity.gov
SUMMARY:Land Use Authority Board
DESCRIPTION:The Land Use Authority Board meets every Wednesday at 9:00 a.m. unless there are no agenda items to discuss.  Click here to see the Land Use Authority Board Agenda.
URL:https://tremontoncity.gov/event/land-use-authority-board-87/
LOCATION:Development Review Committee\, 102 S Tremont Street\, Tremonton\, 84337
CATEGORIES:Land Use Authority Board
END:VEVENT
BEGIN:VEVENT
DTSTART;TZID=America/Denver:20171107T183000
DTEND;TZID=America/Denver:20171107T213000
DTSTAMP:20260423T093254
CREATED:20171006T185905Z
LAST-MODIFIED:20171006T185905Z
UID:18973-1510079400-1510090200@tremontoncity.gov
SUMMARY:CERT Class
DESCRIPTION:Click here for more information.
URL:https://tremontoncity.gov/event/cert-class-3/
LOCATION:UT
END:VEVENT
BEGIN:VEVENT
DTSTART;TZID=America/Denver:20171107T180000
DTEND;TZID=America/Denver:20171107T200000
DTSTAMP:20260423T093254
CREATED:20161208T185208Z
LAST-MODIFIED:20161208T185208Z
UID:16757-1510077600-1510084800@tremontoncity.gov
SUMMARY:City Council
DESCRIPTION:Tremonton City Council meets on the 1st and 3rd Tuesdays of each month. Click here to view the City Council agenda.
URL:https://tremontoncity.gov/event/city-council-17/
LOCATION:City Council\, 102 S Tremont St\, Tremonton\, 84337\, United States
CATEGORIES:City Council
END:VEVENT
BEGIN:VEVENT
DTSTART;TZID=America/Denver:20171101T090000
DTEND;TZID=America/Denver:20171101T093000
DTSTAMP:20260423T093254
CREATED:20161208T204909Z
LAST-MODIFIED:20161208T204909Z
UID:16921-1509526800-1509528600@tremontoncity.gov
SUMMARY:Land Use Authority Board
DESCRIPTION:The Land Use Authority Board meets every Wednesday at 9:00 a.m. unless there are no agenda items to discuss.  Click here to see the Land Use Authority Board Agenda.
URL:https://tremontoncity.gov/event/land-use-authority-board-86/
LOCATION:Development Review Committee\, 102 S Tremont Street\, Tremonton\, 84337
CATEGORIES:Land Use Authority Board
END:VEVENT
BEGIN:VEVENT
DTSTART;TZID=America/Denver:20171025T090000
DTEND;TZID=America/Denver:20171025T093000
DTSTAMP:20260423T093254
CREATED:20161208T204818Z
LAST-MODIFIED:20161208T204818Z
UID:16919-1508922000-1508923800@tremontoncity.gov
SUMMARY:Land Use Authority Board
DESCRIPTION:The Land Use Authority Board meets every Wednesday at 9:00 a.m. unless there are no agenda items to discuss.  Click here to see the Land Use Authority Board Agenda.
URL:https://tremontoncity.gov/event/land-use-authority-board-85/
LOCATION:Development Review Committee\, 102 S Tremont Street\, Tremonton\, 84337
CATEGORIES:Land Use Authority Board
END:VEVENT
BEGIN:VEVENT
DTSTART;TZID=America/Denver:20171024T183000
DTEND;TZID=America/Denver:20171024T213000
DTSTAMP:20260423T093254
CREATED:20171006T185806Z
LAST-MODIFIED:20171006T185806Z
UID:18971-1508869800-1508880600@tremontoncity.gov
SUMMARY:CERT Class
DESCRIPTION:Click here for more information.
URL:https://tremontoncity.gov/event/cert-class-2/
LOCATION:UT
END:VEVENT
BEGIN:VEVENT
DTSTART;TZID=America/Denver:20171024T173000
DTEND;TZID=America/Denver:20171024T180000
DTSTAMP:20260423T093254
CREATED:20161208T194846Z
LAST-MODIFIED:20161208T194846Z
UID:16814-1508866200-1508868000@tremontoncity.gov
SUMMARY:Planning Commission
DESCRIPTION:The Planning Commission meets the 2nd\, 4th\, and 5th Tuesdays of each month.  Click here to see the Planning Commission Agenda.
URL:https://tremontoncity.gov/event/planning-commission-47/
LOCATION:Planning Commission\, 102 S Tremont Street\, Tremonton\, UT\, 84337\, United States
CATEGORIES:Planning Commission
END:VEVENT
BEGIN:VEVENT
DTSTART;TZID=America/Denver:20171018T090000
DTEND;TZID=America/Denver:20171018T093000
DTSTAMP:20260423T093254
CREATED:20161208T204727Z
LAST-MODIFIED:20161208T204727Z
UID:16917-1508317200-1508319000@tremontoncity.gov
SUMMARY:Land Use Authority Board
DESCRIPTION:The Land Use Authority Board meets every Wednesday at 9:00 a.m. unless there are no agenda items to discuss.  Click here to see the Land Use Authority Board Agenda.
URL:https://tremontoncity.gov/event/land-use-authority-board-84/
LOCATION:Development Review Committee\, 102 S Tremont Street\, Tremonton\, 84337
CATEGORIES:Land Use Authority Board
END:VEVENT
BEGIN:VEVENT
DTSTART;TZID=America/Denver:20171017T183000
DTEND;TZID=America/Denver:20171017T213000
DTSTAMP:20260423T093254
CREATED:20171006T173735Z
LAST-MODIFIED:20171006T173735Z
UID:18965-1508265000-1508275800@tremontoncity.gov
SUMMARY:CERT Class
DESCRIPTION:Click here for more details
URL:https://tremontoncity.gov/event/cert-class/
LOCATION:UT
END:VEVENT
BEGIN:VEVENT
DTSTART;TZID=America/Denver:20171017T180000
DTEND;TZID=America/Denver:20171017T200000
DTSTAMP:20260423T093254
CREATED:20161208T185123Z
LAST-MODIFIED:20161208T185123Z
UID:16755-1508263200-1508270400@tremontoncity.gov
SUMMARY:City Council
DESCRIPTION:Tremonton City Council meets on the 1st and 3rd Tuesdays of each month. Click here to view the City Council agenda.
URL:https://tremontoncity.gov/event/city-council-16/
LOCATION:City Council\, 102 S Tremont St\, Tremonton\, 84337\, United States
CATEGORIES:City Council
END:VEVENT
BEGIN:VEVENT
DTSTART;TZID=America/Denver:20171011T090000
DTEND;TZID=America/Denver:20171011T093000
DTSTAMP:20260423T093254
CREATED:20161208T204638Z
LAST-MODIFIED:20161208T204638Z
UID:16915-1507712400-1507714200@tremontoncity.gov
SUMMARY:Land Use Authority Board
DESCRIPTION:The Land Use Authority Board meets every Wednesday at 9:00 a.m. unless there are no agenda items to discuss.  Click here to see the Land Use Authority Board Agenda.
URL:https://tremontoncity.gov/event/land-use-authority-board-83/
LOCATION:Development Review Committee\, 102 S Tremont Street\, Tremonton\, 84337
CATEGORIES:Land Use Authority Board
END:VEVENT
BEGIN:VEVENT
DTSTART;TZID=America/Denver:20171010T173000
DTEND;TZID=America/Denver:20171010T180000
DTSTAMP:20260423T093254
CREATED:20161208T194549Z
LAST-MODIFIED:20161208T194549Z
UID:16812-1507656600-1507658400@tremontoncity.gov
SUMMARY:Planning Commission
DESCRIPTION:The Planning Commission meets the 2nd\, 4th\, and 5th Tuesdays of each month.  Click here to see the Planning Commission Agenda.
URL:https://tremontoncity.gov/event/planning-commission-46/
LOCATION:Planning Commission\, 102 S Tremont Street\, Tremonton\, UT\, 84337\, United States
CATEGORIES:Planning Commission
END:VEVENT
BEGIN:VEVENT
DTSTART;TZID=America/Denver:20171004T090000
DTEND;TZID=America/Denver:20171004T093000
DTSTAMP:20260423T093254
CREATED:20161208T204557Z
LAST-MODIFIED:20161208T204557Z
UID:16913-1507107600-1507109400@tremontoncity.gov
SUMMARY:Land Use Authority Board
DESCRIPTION:The Land Use Authority Board meets every Wednesday at 9:00 a.m. unless there are no agenda items to discuss.  Click here to see the Land Use Authority Board Agenda.
URL:https://tremontoncity.gov/event/land-use-authority-board-82/
LOCATION:Development Review Committee\, 102 S Tremont Street\, Tremonton\, 84337
CATEGORIES:Land Use Authority Board
END:VEVENT
BEGIN:VEVENT
DTSTART;TZID=America/Denver:20171003T180000
DTEND;TZID=America/Denver:20171003T200000
DTSTAMP:20260423T093254
CREATED:20161208T185035Z
LAST-MODIFIED:20161208T185035Z
UID:16753-1507053600-1507060800@tremontoncity.gov
SUMMARY:City Council
DESCRIPTION:Tremonton City Council meets on the 1st and 3rd Tuesdays of each month. Click here to view the City Council agenda.
URL:https://tremontoncity.gov/event/city-council-15/
LOCATION:City Council\, 102 S Tremont St\, Tremonton\, 84337\, United States
CATEGORIES:City Council
END:VEVENT
BEGIN:VEVENT
DTSTART;TZID=America/Denver:20170927T090000
DTEND;TZID=America/Denver:20170927T093000
DTSTAMP:20260423T093254
CREATED:20161208T204503Z
LAST-MODIFIED:20161208T204503Z
UID:16911-1506502800-1506504600@tremontoncity.gov
SUMMARY:Land Use Authority Board
DESCRIPTION:The Land Use Authority Board meets every Wednesday at 9:00 a.m. unless there are no agenda items to discuss.  Click here to see the Land Use Authority Board Agenda.
URL:https://tremontoncity.gov/event/land-use-authority-board-81/
LOCATION:Development Review Committee\, 102 S Tremont Street\, Tremonton\, 84337
CATEGORIES:Land Use Authority Board
END:VEVENT
BEGIN:VEVENT
DTSTART;TZID=America/Denver:20170926T173000
DTEND;TZID=America/Denver:20170926T180000
DTSTAMP:20260423T093254
CREATED:20161208T194501Z
LAST-MODIFIED:20161208T194501Z
UID:16810-1506447000-1506448800@tremontoncity.gov
SUMMARY:Planning Commission
DESCRIPTION:The Planning Commission meets the 2nd\, 4th\, and 5th Tuesdays of each month.  Click here to see the Planning Commission Agenda.
URL:https://tremontoncity.gov/event/planning-commission-45/
LOCATION:Planning Commission\, 102 S Tremont Street\, Tremonton\, UT\, 84337\, United States
CATEGORIES:Planning Commission
END:VEVENT
BEGIN:VEVENT
DTSTART;TZID=America/Denver:20170920T090000
DTEND;TZID=America/Denver:20170920T093000
DTSTAMP:20260423T093254
CREATED:20161208T204315Z
LAST-MODIFIED:20161208T204315Z
UID:16909-1505898000-1505899800@tremontoncity.gov
SUMMARY:Land Use Authority Board
DESCRIPTION:The Land Use Authority Board meets every Wednesday at 9:00 a.m. unless there are no agenda items to discuss.  Click here to see the Land Use Authority Board Agenda.
URL:https://tremontoncity.gov/event/land-use-authority-board-80/
LOCATION:Development Review Committee\, 102 S Tremont Street\, Tremonton\, 84337
CATEGORIES:Land Use Authority Board
END:VEVENT
BEGIN:VEVENT
DTSTART;TZID=America/Denver:20170913T090000
DTEND;TZID=America/Denver:20170913T093000
DTSTAMP:20260423T093254
CREATED:20161208T204217Z
LAST-MODIFIED:20161208T204217Z
UID:16907-1505293200-1505295000@tremontoncity.gov
SUMMARY:Land Use Authority Board
DESCRIPTION:The Land Use Authority Board meets every Wednesday at 9:00 a.m. unless there are no agenda items to discuss.  Click here to see the Land Use Authority Board Agenda.
URL:https://tremontoncity.gov/event/land-use-authority-board-79/
LOCATION:Development Review Committee\, 102 S Tremont Street\, Tremonton\, 84337
CATEGORIES:Land Use Authority Board
END:VEVENT
BEGIN:VEVENT
DTSTART;TZID=America/Denver:20170912T173000
DTEND;TZID=America/Denver:20170912T180000
DTSTAMP:20260423T093254
CREATED:20161208T194400Z
LAST-MODIFIED:20161208T194400Z
UID:16808-1505237400-1505239200@tremontoncity.gov
SUMMARY:Planning Commission
DESCRIPTION:The Planning Commission meets the 2nd\, 4th\, and 5th Tuesdays of each month.  Click here to see the Planning Commission Agenda.
URL:https://tremontoncity.gov/event/planning-commission-44/
LOCATION:Planning Commission\, 102 S Tremont Street\, Tremonton\, UT\, 84337\, United States
CATEGORIES:Planning Commission
END:VEVENT
BEGIN:VEVENT
DTSTART;TZID=America/Denver:20170906T090000
DTEND;TZID=America/Denver:20170906T093000
DTSTAMP:20260423T093254
CREATED:20161208T204135Z
LAST-MODIFIED:20161208T204135Z
UID:16905-1504688400-1504690200@tremontoncity.gov
SUMMARY:Land Use Authority Board
DESCRIPTION:The Land Use Authority Board meets every Wednesday at 9:00 a.m. unless there are no agenda items to discuss.  Click here to see the Land Use Authority Board Agenda.
URL:https://tremontoncity.gov/event/land-use-authority-board-78/
LOCATION:Development Review Committee\, 102 S Tremont Street\, Tremonton\, 84337
CATEGORIES:Land Use Authority Board
END:VEVENT
END:VCALENDAR