BEGIN:VCALENDAR
VERSION:2.0
PRODID:-//Tremonton City - ECPv6.13.2.1//NONSGML v1.0//EN
CALSCALE:GREGORIAN
METHOD:PUBLISH
X-WR-CALNAME:Tremonton City
X-ORIGINAL-URL:https://tremontoncity.gov
X-WR-CALDESC:Events for Tremonton City
REFRESH-INTERVAL;VALUE=DURATION:PT1H
X-Robots-Tag:noindex
X-PUBLISHED-TTL:PT1H
BEGIN:VTIMEZONE
TZID:America/Denver
BEGIN:DAYLIGHT
TZOFFSETFROM:-0700
TZOFFSETTO:-0600
TZNAME:MDT
DTSTART:20170312T090000
END:DAYLIGHT
BEGIN:STANDARD
TZOFFSETFROM:-0600
TZOFFSETTO:-0700
TZNAME:MST
DTSTART:20171105T080000
END:STANDARD
END:VTIMEZONE
BEGIN:VEVENT
DTSTART;TZID=America/Denver:20170905T180000
DTEND;TZID=America/Denver:20170905T200000
DTSTAMP:20260423T144224
CREATED:20161208T184857Z
LAST-MODIFIED:20161208T184857Z
UID:16751-1504634400-1504641600@tremontoncity.gov
SUMMARY:City Council
DESCRIPTION:Tremonton City Council meets on the 1st and 3rd Tuesdays of each month. Click here to view the City Council agenda.
URL:https://tremontoncity.gov/event/city-council-14/
LOCATION:City Council\, 102 S Tremont St\, Tremonton\, 84337\, United States
CATEGORIES:City Council
END:VEVENT
BEGIN:VEVENT
DTSTART;TZID=America/Denver:20170830T090000
DTEND;TZID=America/Denver:20170830T093000
DTSTAMP:20260423T144224
CREATED:20161208T204052Z
LAST-MODIFIED:20161208T204052Z
UID:16903-1504083600-1504085400@tremontoncity.gov
SUMMARY:Land Use Authority Board
DESCRIPTION:The Land Use Authority Board meets every Wednesday at 9:00 a.m. unless there are no agenda items to discuss.  Click here to see the Land Use Authority Board Agenda.
URL:https://tremontoncity.gov/event/land-use-authority-board-77/
LOCATION:Development Review Committee\, 102 S Tremont Street\, Tremonton\, 84337
CATEGORIES:Land Use Authority Board
END:VEVENT
BEGIN:VEVENT
DTSTART;TZID=America/Denver:20170829T173000
DTEND;TZID=America/Denver:20170829T180000
DTSTAMP:20260423T144224
CREATED:20161208T193854Z
LAST-MODIFIED:20161208T193854Z
UID:16806-1504027800-1504029600@tremontoncity.gov
SUMMARY:Planning Commission
DESCRIPTION:The Planning Commission meets the 2nd\, 4th\, and 5th Tuesdays of each month.  Click here to see the Planning Commission Agenda.
URL:https://tremontoncity.gov/event/planning-commission-43/
LOCATION:Planning Commission\, 102 S Tremont Street\, Tremonton\, UT\, 84337\, United States
CATEGORIES:Planning Commission
END:VEVENT
BEGIN:VEVENT
DTSTART;TZID=America/Denver:20170823T090000
DTEND;TZID=America/Denver:20170823T093000
DTSTAMP:20260423T144224
CREATED:20161208T204002Z
LAST-MODIFIED:20161208T204002Z
UID:16901-1503478800-1503480600@tremontoncity.gov
SUMMARY:Land Use Authority Board
DESCRIPTION:The Land Use Authority Board meets every Wednesday at 9:00 a.m. unless there are no agenda items to discuss.  Click here to see the Land Use Authority Board Agenda.
URL:https://tremontoncity.gov/event/land-use-authority-board-76/
LOCATION:Development Review Committee\, 102 S Tremont Street\, Tremonton\, 84337
CATEGORIES:Land Use Authority Board
END:VEVENT
BEGIN:VEVENT
DTSTART;TZID=America/Denver:20170822T173000
DTEND;TZID=America/Denver:20170822T180000
DTSTAMP:20260423T144224
CREATED:20161208T193720Z
LAST-MODIFIED:20161208T193720Z
UID:16804-1503423000-1503424800@tremontoncity.gov
SUMMARY:Planning Commission
DESCRIPTION:The Planning Commission meets the 2nd\, 4th\, and 5th Tuesdays of each month.  Click here to see the Planning Commission Agenda.
URL:https://tremontoncity.gov/event/planning-commission-42/
LOCATION:Planning Commission\, 102 S Tremont Street\, Tremonton\, UT\, 84337\, United States
CATEGORIES:Planning Commission
END:VEVENT
BEGIN:VEVENT
DTSTART;TZID=America/Denver:20170816T090000
DTEND;TZID=America/Denver:20170816T093000
DTSTAMP:20260423T144224
CREATED:20161208T203904Z
LAST-MODIFIED:20161208T203904Z
UID:16899-1502874000-1502875800@tremontoncity.gov
SUMMARY:Land Use Authority Board
DESCRIPTION:The Land Use Authority Board meets every Wednesday at 9:00 a.m. unless there are no agenda items to discuss.  Click here to see the Land Use Authority Board Agenda.
URL:https://tremontoncity.gov/event/land-use-authority-board-75/
LOCATION:Development Review Committee\, 102 S Tremont Street\, Tremonton\, 84337
CATEGORIES:Land Use Authority Board
END:VEVENT
BEGIN:VEVENT
DTSTART;TZID=America/Denver:20170815T180000
DTEND;TZID=America/Denver:20170815T200000
DTSTAMP:20260423T144224
CREATED:20161208T184729Z
LAST-MODIFIED:20161208T184729Z
UID:16749-1502820000-1502827200@tremontoncity.gov
SUMMARY:City Council
DESCRIPTION:Tremonton City Council meets on the 1st and 3rd Tuesdays of each month. Click here to view City Council agenda.
URL:https://tremontoncity.gov/event/city-council-13/
LOCATION:City Council\, 102 S Tremont St\, Tremonton\, 84337\, United States
CATEGORIES:City Council
END:VEVENT
BEGIN:VEVENT
DTSTART;TZID=America/Denver:20170809T090000
DTEND;TZID=America/Denver:20170809T093000
DTSTAMP:20260423T144224
CREATED:20161208T203818Z
LAST-MODIFIED:20161208T203818Z
UID:16897-1502269200-1502271000@tremontoncity.gov
SUMMARY:Land Use Authority Board
DESCRIPTION:The Land Use Authority Board meets every Wednesday at 9:00 a.m. unless there are no agenda items to discuss.  Click here to see the Land Use Authority Board Agenda.
URL:https://tremontoncity.gov/event/land-use-authority-board-74/
LOCATION:Development Review Committee\, 102 S Tremont Street\, Tremonton\, 84337
CATEGORIES:Land Use Authority Board
END:VEVENT
BEGIN:VEVENT
DTSTART;TZID=America/Denver:20170808T173000
DTEND;TZID=America/Denver:20170808T180000
DTSTAMP:20260423T144224
CREATED:20161208T193603Z
LAST-MODIFIED:20161208T193603Z
UID:16802-1502213400-1502215200@tremontoncity.gov
SUMMARY:Planning Commission
DESCRIPTION:The Planning Commission meets the 2nd\, 4th\, and 5th Tuesdays of each month.  Click here to see the Planning Commission Agenda.
URL:https://tremontoncity.gov/event/planning-commission-41/
LOCATION:Planning Commission\, 102 S Tremont Street\, Tremonton\, UT\, 84337\, United States
CATEGORIES:Planning Commission
END:VEVENT
BEGIN:VEVENT
DTSTART;TZID=America/Denver:20170802T090000
DTEND;TZID=America/Denver:20170802T093000
DTSTAMP:20260423T144224
CREATED:20161208T203727Z
LAST-MODIFIED:20161208T203727Z
UID:16894-1501664400-1501666200@tremontoncity.gov
SUMMARY:Land Use Authority Board
DESCRIPTION:The Land Use Authority Board meets every Wednesday at 9:00 a.m. unless there are no agenda items to discuss.  Click here to see the Land Use Authority Board Agenda.
URL:https://tremontoncity.gov/event/land-use-authority-board-73/
LOCATION:Development Review Committee\, 102 S Tremont Street\, Tremonton\, 84337
CATEGORIES:Land Use Authority Board
END:VEVENT
BEGIN:VEVENT
DTSTART;TZID=America/Denver:20170801T180000
DTEND;TZID=America/Denver:20170801T200000
DTSTAMP:20260423T144224
CREATED:20161208T184601Z
LAST-MODIFIED:20161208T184601Z
UID:16747-1501610400-1501617600@tremontoncity.gov
SUMMARY:City Council
DESCRIPTION:Tremonton City Council meets on the 1st and 3rd Tuesdays of each month. Click here to view City Council agendas.
URL:https://tremontoncity.gov/event/city-council-12/
LOCATION:City Council\, 102 S Tremont St\, Tremonton\, 84337\, United States
CATEGORIES:City Council
END:VEVENT
BEGIN:VEVENT
DTSTART;TZID=America/Denver:20170726T090000
DTEND;TZID=America/Denver:20170726T093000
DTSTAMP:20260423T144224
CREATED:20161208T203632Z
LAST-MODIFIED:20161208T203632Z
UID:16892-1501059600-1501061400@tremontoncity.gov
SUMMARY:Land Use Authority Board
DESCRIPTION:The Land Use Authority Board meets every Wednesday at 9:00 a.m. unless there are no agenda items to discuss.  Click here to see the Land Use Authority Board Agenda.
URL:https://tremontoncity.gov/event/land-use-authority-board-72/
LOCATION:Development Review Committee\, 102 S Tremont Street\, Tremonton\, 84337
CATEGORIES:Land Use Authority Board
END:VEVENT
BEGIN:VEVENT
DTSTART;TZID=America/Denver:20170725T173000
DTEND;TZID=America/Denver:20170725T180000
DTSTAMP:20260423T144224
CREATED:20161208T193506Z
LAST-MODIFIED:20161208T193506Z
UID:16800-1501003800-1501005600@tremontoncity.gov
SUMMARY:Planning Commission
DESCRIPTION:The Planning Commission meets the 2nd\, 4th\, and 5th Tuesdays of each month.  Click here to see the Planning Commission Agenda.
URL:https://tremontoncity.gov/event/planning-commission-40/
LOCATION:Planning Commission\, 102 S Tremont Street\, Tremonton\, UT\, 84337\, United States
CATEGORIES:Planning Commission
END:VEVENT
BEGIN:VEVENT
DTSTART;TZID=America/Denver:20170719T090000
DTEND;TZID=America/Denver:20170719T093000
DTSTAMP:20260423T144224
CREATED:20161208T203552Z
LAST-MODIFIED:20161208T203552Z
UID:16890-1500454800-1500456600@tremontoncity.gov
SUMMARY:Land Use Authority Board
DESCRIPTION:The Land Use Authority Board meets every Wednesday at 9:00 a.m. unless there are no agenda items to discuss.  Click here to see the Land Use Authority Board Agenda.
URL:https://tremontoncity.gov/event/land-use-authority-board-71/
LOCATION:Development Review Committee\, 102 S Tremont Street\, Tremonton\, 84337
CATEGORIES:Land Use Authority Board
END:VEVENT
BEGIN:VEVENT
DTSTART;TZID=America/Denver:20170718T180000
DTEND;TZID=America/Denver:20170718T200000
DTSTAMP:20260423T144224
CREATED:20161208T184425Z
LAST-MODIFIED:20161208T184520Z
UID:16744-1500400800-1500408000@tremontoncity.gov
SUMMARY:City Council
DESCRIPTION:Tremonton City Council meets on the 1st and 3rd Tuesdays of each month. Click here to view City Council agendas.
URL:https://tremontoncity.gov/event/city-council-11/
LOCATION:City Council\, 102 S Tremont St\, Tremonton\, 84337\, United States
CATEGORIES:City Council
END:VEVENT
BEGIN:VEVENT
DTSTART;TZID=America/Denver:20170712T090000
DTEND;TZID=America/Denver:20170712T093000
DTSTAMP:20260423T144224
CREATED:20161208T203455Z
LAST-MODIFIED:20161208T203455Z
UID:16888-1499850000-1499851800@tremontoncity.gov
SUMMARY:Land Use Authority Board
DESCRIPTION:The Land Use Authority Board meets every Wednesday at 9:00 a.m. unless there are no agenda items to discuss.  Click here to see the Land Use Authority Board Agenda.
URL:https://tremontoncity.gov/event/land-use-authority-board-70/
LOCATION:Development Review Committee\, 102 S Tremont Street\, Tremonton\, 84337
CATEGORIES:Land Use Authority Board
END:VEVENT
BEGIN:VEVENT
DTSTART;TZID=America/Denver:20170711T173000
DTEND;TZID=America/Denver:20170711T180000
DTSTAMP:20260423T144224
CREATED:20161208T193359Z
LAST-MODIFIED:20161208T193359Z
UID:16798-1499794200-1499796000@tremontoncity.gov
SUMMARY:Planning Commission
DESCRIPTION:The Planning Commission meets the 2nd\, 4th\, and 5th Tuesdays of each month.  Click here to see the Planning Commission Agenda.
URL:https://tremontoncity.gov/event/planning-commission-39/
LOCATION:Planning Commission\, 102 S Tremont Street\, Tremonton\, UT\, 84337\, United States
CATEGORIES:Planning Commission
END:VEVENT
BEGIN:VEVENT
DTSTART;TZID=America/Denver:20170705T090000
DTEND;TZID=America/Denver:20170705T093000
DTSTAMP:20260423T144224
CREATED:20161208T203357Z
LAST-MODIFIED:20161208T203357Z
UID:16886-1499245200-1499247000@tremontoncity.gov
SUMMARY:Land Use Authority Board
DESCRIPTION:The Land Use Authority Board meets every Wednesday at 9:00 a.m. unless there are no agenda items to discuss.  Click here to see the Land Use Authority Board Agenda.
URL:https://tremontoncity.gov/event/land-use-authority-board-69/
LOCATION:Development Review Committee\, 102 S Tremont Street\, Tremonton\, 84337
CATEGORIES:Land Use Authority Board
END:VEVENT
BEGIN:VEVENT
DTSTART;TZID=America/Denver:20170628T090000
DTEND;TZID=America/Denver:20170628T093000
DTSTAMP:20260423T144224
CREATED:20161208T203252Z
LAST-MODIFIED:20161208T203252Z
UID:16884-1498640400-1498642200@tremontoncity.gov
SUMMARY:Land Use Authority Board
DESCRIPTION:The Land Use Authority Board meets every Wednesday at 9:00 a.m. unless there are no agenda items to discuss.  Click here to see the Land Use Authority Board Agenda.
URL:https://tremontoncity.gov/event/land-use-authority-board-68/
LOCATION:Development Review Committee\, 102 S Tremont Street\, Tremonton\, 84337
CATEGORIES:Land Use Authority Board
END:VEVENT
BEGIN:VEVENT
DTSTART;TZID=America/Denver:20170627T173000
DTEND;TZID=America/Denver:20170627T180000
DTSTAMP:20260423T144224
CREATED:20161208T192738Z
LAST-MODIFIED:20161208T192738Z
UID:16795-1498584600-1498586400@tremontoncity.gov
SUMMARY:Planning Commission
DESCRIPTION:The Planning Commission meets the 2nd\, 4th\, and 5th Tuesdays of each month.  Click here to see the Planning Commission Agenda.
URL:https://tremontoncity.gov/event/planning-commission-38/
LOCATION:Planning Commission\, 102 S Tremont Street\, Tremonton\, UT\, 84337\, United States
CATEGORIES:Planning Commission
END:VEVENT
BEGIN:VEVENT
DTSTART;TZID=America/Denver:20170621T090000
DTEND;TZID=America/Denver:20170621T093000
DTSTAMP:20260423T144224
CREATED:20161208T203104Z
LAST-MODIFIED:20161208T203205Z
UID:16882-1498035600-1498037400@tremontoncity.gov
SUMMARY:Land Use Authority Board
DESCRIPTION:The Land Use Authority Board meets every Wednesday at 9:00 a.m. unless there are no agenda items to discuss.  Click here to see the Land Use Authority Board Agenda.
URL:https://tremontoncity.gov/event/land-use-authority-board-67/
LOCATION:Development Review Committee\, 102 S Tremont Street\, Tremonton\, 84337
CATEGORIES:Land Use Authority Board
END:VEVENT
BEGIN:VEVENT
DTSTART;TZID=America/Denver:20170620T180000
DTEND;TZID=America/Denver:20170620T200000
DTSTAMP:20260423T144224
CREATED:20161208T184325Z
LAST-MODIFIED:20161208T184325Z
UID:16742-1497981600-1497988800@tremontoncity.gov
SUMMARY:City Council
DESCRIPTION:Tremonton City Council meets on the 1st and 3rd Tuesdays of each month. Click here to view City Council agendas.
URL:https://tremontoncity.gov/event/city-council-10/
LOCATION:City Council\, 102 S Tremont St\, Tremonton\, 84337\, United States
CATEGORIES:City Council
END:VEVENT
BEGIN:VEVENT
DTSTART;TZID=America/Denver:20170614T090000
DTEND;TZID=America/Denver:20170614T093000
DTSTAMP:20260423T144224
CREATED:20161208T203022Z
LAST-MODIFIED:20161208T203022Z
UID:16880-1497430800-1497432600@tremontoncity.gov
SUMMARY:Land Use Authority Board
DESCRIPTION:The Land Use Authority Board meets every Wednesday at 9:00 a.m. unless there are no agenda items to discuss.  Click here to see the Land Use Authority Board Agenda.
URL:https://tremontoncity.gov/event/land-use-authority-board-66/
LOCATION:Development Review Committee\, 102 S Tremont Street\, Tremonton\, 84337
CATEGORIES:Land Use Authority Board
END:VEVENT
BEGIN:VEVENT
DTSTART;TZID=America/Denver:20170613T173000
DTEND;TZID=America/Denver:20170613T180000
DTSTAMP:20260423T144224
CREATED:20161208T192625Z
LAST-MODIFIED:20161208T192625Z
UID:16793-1497375000-1497376800@tremontoncity.gov
SUMMARY:Planning Commission
DESCRIPTION:The Planning Commission meets the 2nd\, 4th\, and 5th Tuesdays of each month.  Click here to see the Planning Commission Agenda.
URL:https://tremontoncity.gov/event/planning-commission-37/
LOCATION:Planning Commission\, 102 S Tremont Street\, Tremonton\, UT\, 84337\, United States
CATEGORIES:Planning Commission
END:VEVENT
BEGIN:VEVENT
DTSTART;TZID=America/Denver:20170607T090000
DTEND;TZID=America/Denver:20170607T093000
DTSTAMP:20260423T144224
CREATED:20161208T202939Z
LAST-MODIFIED:20161208T202939Z
UID:16878-1496826000-1496827800@tremontoncity.gov
SUMMARY:Land Use Authority Board
DESCRIPTION:The Land Use Authority Board meets every Wednesday at 9:00 a.m. unless there are no agenda items to discuss.  Click here to see the Land Use Authority Board Agenda.
URL:https://tremontoncity.gov/event/land-use-authority-board-65/
LOCATION:Development Review Committee\, 102 S Tremont Street\, Tremonton\, 84337
CATEGORIES:Land Use Authority Board
END:VEVENT
BEGIN:VEVENT
DTSTART;TZID=America/Denver:20170606T180000
DTEND;TZID=America/Denver:20170606T200000
DTSTAMP:20260423T144224
CREATED:20161208T184000Z
LAST-MODIFIED:20161208T184000Z
UID:16740-1496772000-1496779200@tremontoncity.gov
SUMMARY:City Council
DESCRIPTION:Tremonton City Council meets on the 1st and 3rd Tuesdays of each month. Click here to view City Council agendas.
URL:https://tremontoncity.gov/event/city-council-9/
LOCATION:City Council\, 102 S Tremont St\, Tremonton\, 84337\, United States
CATEGORIES:City Council
END:VEVENT
BEGIN:VEVENT
DTSTART;TZID=America/Denver:20170603T190000
DTEND;TZID=America/Denver:20170603T220000
DTSTAMP:20260423T144224
CREATED:20170524T232602Z
LAST-MODIFIED:20170607T203655Z
UID:18177-1496516400-1496527200@tremontoncity.gov
SUMMARY:Mugs & Banana Drag Night
DESCRIPTION:
URL:https://tremontoncity.gov/event/mugs-banana-drag-night/
CATEGORIES:Parks and Recreation
END:VEVENT
BEGIN:VEVENT
DTSTART;TZID=America/Denver:20170531T090000
DTEND;TZID=America/Denver:20170531T093000
DTSTAMP:20260423T144224
CREATED:20161208T202853Z
LAST-MODIFIED:20161208T202853Z
UID:16876-1496221200-1496223000@tremontoncity.gov
SUMMARY:Land Use Authority Board
DESCRIPTION:The Land Use Authority Board meets every Wednesday at 9:00 a.m. unless there are no agenda items to discuss.  Click here to see the Land Use Authority Board Agenda.
URL:https://tremontoncity.gov/event/land-use-authority-board-64/
LOCATION:Development Review Committee\, 102 S Tremont Street\, Tremonton\, 84337
CATEGORIES:Land Use Authority Board
END:VEVENT
BEGIN:VEVENT
DTSTART;TZID=America/Denver:20170530T173000
DTEND;TZID=America/Denver:20170530T180000
DTSTAMP:20260423T144224
CREATED:20161208T192459Z
LAST-MODIFIED:20161208T192459Z
UID:16791-1496165400-1496167200@tremontoncity.gov
SUMMARY:Planning Commission
DESCRIPTION:The Planning Commission meets the 2nd\, 4th\, and 5th Tuesdays of each month.  Click here to see the Planning Commission Agenda.
URL:https://tremontoncity.gov/event/planning-commission-36/
LOCATION:Planning Commission\, 102 S Tremont Street\, Tremonton\, UT\, 84337\, United States
CATEGORIES:Planning Commission
END:VEVENT
BEGIN:VEVENT
DTSTART;TZID=America/Denver:20170524T090000
DTEND;TZID=America/Denver:20170524T093000
DTSTAMP:20260423T144224
CREATED:20161208T202802Z
LAST-MODIFIED:20161208T202802Z
UID:16874-1495616400-1495618200@tremontoncity.gov
SUMMARY:Land Use Authority Board
DESCRIPTION:The Land Use Authority Board meets every Wednesday at 9:00 a.m. unless there are no agenda items to discuss.  Click here to see the Land Use Authority Board Agenda.
URL:https://tremontoncity.gov/event/land-use-authority-board-63/
LOCATION:Development Review Committee\, 102 S Tremont Street\, Tremonton\, 84337
CATEGORIES:Land Use Authority Board
END:VEVENT
END:VCALENDAR