BEGIN:VCALENDAR
VERSION:2.0
PRODID:-//Tremonton City - ECPv6.13.2.1//NONSGML v1.0//EN
CALSCALE:GREGORIAN
METHOD:PUBLISH
X-WR-CALNAME:Tremonton City
X-ORIGINAL-URL:https://tremontoncity.gov
X-WR-CALDESC:Events for Tremonton City
REFRESH-INTERVAL;VALUE=DURATION:PT1H
X-Robots-Tag:noindex
X-PUBLISHED-TTL:PT1H
BEGIN:VTIMEZONE
TZID:America/Denver
BEGIN:DAYLIGHT
TZOFFSETFROM:-0700
TZOFFSETTO:-0600
TZNAME:MDT
DTSTART:20170312T090000
END:DAYLIGHT
BEGIN:STANDARD
TZOFFSETFROM:-0600
TZOFFSETTO:-0700
TZNAME:MST
DTSTART:20171105T080000
END:STANDARD
END:VTIMEZONE
BEGIN:VEVENT
DTSTART;TZID=America/Denver:20170523T173000
DTEND;TZID=America/Denver:20170523T180000
DTSTAMP:20260423T194205
CREATED:20161208T192307Z
LAST-MODIFIED:20161208T192307Z
UID:16789-1495560600-1495562400@tremontoncity.gov
SUMMARY:Planning Commission
DESCRIPTION:The Planning Commission meets the 2nd\, 4th\, and 5th Tuesdays of each month.  Click here to see the Planning Commission Agenda.
URL:https://tremontoncity.gov/event/planning-commission-35/
CATEGORIES:Planning Commission
END:VEVENT
BEGIN:VEVENT
DTSTART;TZID=America/Denver:20170517T090000
DTEND;TZID=America/Denver:20170517T093000
DTSTAMP:20260423T194205
CREATED:20161208T202717Z
LAST-MODIFIED:20161208T202717Z
UID:16872-1495011600-1495013400@tremontoncity.gov
SUMMARY:Land Use Authority Board
DESCRIPTION:The Land Use Authority Board meets every Wednesday at 9:00 a.m. unless there are no agenda items to discuss.  Click here to see the Land Use Authority Board Agenda.
URL:https://tremontoncity.gov/event/land-use-authority-board-62/
LOCATION:Development Review Committee\, 102 S Tremont Street\, Tremonton\, 84337
CATEGORIES:Land Use Authority Board
END:VEVENT
BEGIN:VEVENT
DTSTART;TZID=America/Denver:20170516T180000
DTEND;TZID=America/Denver:20170516T200000
DTSTAMP:20260423T194205
CREATED:20161208T183919Z
LAST-MODIFIED:20161208T183919Z
UID:16738-1494957600-1494964800@tremontoncity.gov
SUMMARY:City Council
DESCRIPTION:Tremonton City Council meets on the 1st and 3rd Tuesdays of each month. Click here to view City Council agendas.
URL:https://tremontoncity.gov/event/city-council-8/
LOCATION:City Council\, 102 S Tremont St\, Tremonton\, 84337\, United States
CATEGORIES:City Council
END:VEVENT
BEGIN:VEVENT
DTSTART;TZID=America/Denver:20170510T090000
DTEND;TZID=America/Denver:20170510T093000
DTSTAMP:20260423T194205
CREATED:20161208T202611Z
LAST-MODIFIED:20161208T202611Z
UID:16870-1494406800-1494408600@tremontoncity.gov
SUMMARY:Land Use Authority Board
DESCRIPTION:The Land Use Authority Board meets every Wednesday at 9:00 a.m. unless there are no agenda items to discuss.  Click here to see the Land Use Authority Board Agenda.
URL:https://tremontoncity.gov/event/land-use-authority-board-61/
LOCATION:Development Review Committee\, 102 S Tremont Street\, Tremonton\, 84337
CATEGORIES:Land Use Authority Board
END:VEVENT
BEGIN:VEVENT
DTSTART;TZID=America/Denver:20170509T173000
DTEND;TZID=America/Denver:20170509T180000
DTSTAMP:20260423T194205
CREATED:20161208T190908Z
LAST-MODIFIED:20161208T190908Z
UID:16787-1494351000-1494352800@tremontoncity.gov
SUMMARY:Planning Commission
DESCRIPTION:The Planning Commission meets the 2nd\, 4th\, and 5th Tuesdays of each month.  Click here to see the Planning Commission Agenda.
URL:https://tremontoncity.gov/event/planning-commission-34/
LOCATION:Planning Commission\, 102 S Tremont Street\, Tremonton\, UT\, 84337\, United States
CATEGORIES:Planning Commission
END:VEVENT
BEGIN:VEVENT
DTSTART;VALUE=DATE:20170505
DTEND;VALUE=DATE:20170509
DTSTAMP:20260423T194205
CREATED:20170313T154303Z
LAST-MODIFIED:20170316T221239Z
UID:17688-1493942400-1494287999@tremontoncity.gov
SUMMARY:Spring Cleanup
DESCRIPTION:The City will have dumpsters available for spring cleanup. Click HERE to see the flyer showing locations.
URL:https://tremontoncity.gov/event/spring-cleanup/
END:VEVENT
BEGIN:VEVENT
DTSTART;TZID=America/Denver:20170503T090000
DTEND;TZID=America/Denver:20170503T093000
DTSTAMP:20260423T194205
CREATED:20161208T202514Z
LAST-MODIFIED:20161208T202514Z
UID:16868-1493802000-1493803800@tremontoncity.gov
SUMMARY:Land Use Authority Board
DESCRIPTION:The Land Use Authority Board meets every Wednesday at 9:00 a.m. unless there are no agenda items to discuss.  Click here to see the Land Use Authority Board Agenda.
URL:https://tremontoncity.gov/event/land-use-authority-board-60/
LOCATION:Development Review Committee\, 102 S Tremont Street\, Tremonton\, 84337
CATEGORIES:Land Use Authority Board
END:VEVENT
BEGIN:VEVENT
DTSTART;TZID=America/Denver:20170502T180000
DTEND;TZID=America/Denver:20170502T200000
DTSTAMP:20260423T194205
CREATED:20161208T183834Z
LAST-MODIFIED:20161208T183834Z
UID:16736-1493748000-1493755200@tremontoncity.gov
SUMMARY:City Council
DESCRIPTION:Tremonton City Council meets on the 1st and 3rd Tuesdays of each month. Click here to view City Council agendas.
URL:https://tremontoncity.gov/event/city-council-7/
LOCATION:City Council\, 102 S Tremont St\, Tremonton\, 84337\, United States
CATEGORIES:City Council
END:VEVENT
BEGIN:VEVENT
DTSTART;VALUE=DATE:20170501
DTEND;VALUE=DATE:20170601
DTSTAMP:20260423T194205
CREATED:20170511T184057Z
LAST-MODIFIED:20170511T184057Z
UID:18083-1493596800-1496275199@tremontoncity.gov
SUMMARY:National Bike Month
DESCRIPTION:Bike Month Dates and Events\n\nNational Bike Month includes an ever-expanding diversity of events in communities nationwide — but the biggest day of the month is Bike to Work Day. In 2017\, Bike to Work Week will be May 15-19\, with Bike to Work Day on May 19. \n40% of all trips in the U.S. are less than two miles\, making bicycling a feasible and fun way to get to work. With increased interest in healthy\, sustainable and economic transportation options\, it’s not surprising that\, from 2000 to 2013\, the number of bicycle commuters in the U.S. grew by more than 62 percent. \nHundreds of American communities have been successful in increasing bicycle commuting by providing Bike to Work Week and Bike to Work Day events. \n \n\n\n\n\n\n\n\n\nIn fact\, among the 51 largest U.S. cities\, 43 hosted Bike to Work Day events in 2010. The City of Denver reported the highest rate of participation with one out of every 28 adults participating in its 2010 Bike to Work event. That effort makes a difference: Many people who participate in their Bike to Work Day promotion as first-time commuters become regular bike commuters. \nBut Bike Month is more than one day — or week! From fashion shows to group rides\, local groups find unique ways to celebrate their diverse bike cultures and community pride.
URL:https://tremontoncity.gov/event/national-bike-month/
CATEGORIES:Parks and Recreation
END:VEVENT
BEGIN:VEVENT
DTSTART;TZID=America/Denver:20170426T090000
DTEND;TZID=America/Denver:20170426T093000
DTSTAMP:20260423T194205
CREATED:20161208T201314Z
LAST-MODIFIED:20161208T201314Z
UID:16863-1493197200-1493199000@tremontoncity.gov
SUMMARY:Land Use Authority Board
DESCRIPTION:The Land Use Authority Board meets every Wednesday at 9:00 a.m. unless there are no agenda items to discuss.  Click here to see the Land Use Authority Board Agenda.
URL:https://tremontoncity.gov/event/land-use-authority-board-59/
LOCATION:Development Review Committee\, 102 S Tremont Street\, Tremonton\, 84337
CATEGORIES:Land Use Authority Board
END:VEVENT
BEGIN:VEVENT
DTSTART;TZID=America/Denver:20170425T173000
DTEND;TZID=America/Denver:20170425T180000
DTSTAMP:20260423T194205
CREATED:20161208T190808Z
LAST-MODIFIED:20161208T190808Z
UID:16785-1493141400-1493143200@tremontoncity.gov
SUMMARY:Planning Commission
DESCRIPTION:The Planning Commission meets the 2nd\, 4th\, and 5th Tuesdays of each month.  Click here to see the Planning Commission Agenda.
URL:https://tremontoncity.gov/event/planning-commission-33/
LOCATION:Planning Commission\, 102 S Tremont Street\, Tremonton\, UT\, 84337\, United States
CATEGORIES:Planning Commission
END:VEVENT
BEGIN:VEVENT
DTSTART;TZID=America/Denver:20170419T090000
DTEND;TZID=America/Denver:20170419T093000
DTSTAMP:20260423T194205
CREATED:20161208T201224Z
LAST-MODIFIED:20161208T201224Z
UID:16861-1492592400-1492594200@tremontoncity.gov
SUMMARY:Land Use Authority Board
DESCRIPTION:The Land Use Authority Board meets every Wednesday at 9:00 a.m. unless there are no agenda items to discuss.  Click here to see the Land Use Authority Board Agenda.
URL:https://tremontoncity.gov/event/land-use-authority-board-58/
LOCATION:Development Review Committee\, 102 S Tremont Street\, Tremonton\, 84337
CATEGORIES:Land Use Authority Board
END:VEVENT
BEGIN:VEVENT
DTSTART;TZID=America/Denver:20170412T090000
DTEND;TZID=America/Denver:20170412T093000
DTSTAMP:20260423T194205
CREATED:20161208T201116Z
LAST-MODIFIED:20161208T201116Z
UID:16859-1491987600-1491989400@tremontoncity.gov
SUMMARY:Land Use Authority Board
DESCRIPTION:The Land Use Authority Board meets every Wednesday at 9:00 a.m. unless there are no agenda items to discuss.  Click here to see the Land Use Authority Board Agenda.
URL:https://tremontoncity.gov/event/land-use-authority-board-57/
LOCATION:Development Review Committee\, 102 S Tremont Street\, Tremonton\, 84337
CATEGORIES:Land Use Authority Board
END:VEVENT
BEGIN:VEVENT
DTSTART;TZID=America/Denver:20170411T173000
DTEND;TZID=America/Denver:20170411T180000
DTSTAMP:20260423T194205
CREATED:20161208T190721Z
LAST-MODIFIED:20161208T190721Z
UID:16783-1491931800-1491933600@tremontoncity.gov
SUMMARY:Planning Commission
DESCRIPTION:The Planning Commission meets the 2nd\, 4th\, and 5th Tuesdays of each month.  Click here to see the Planning Commission Agenda.
URL:https://tremontoncity.gov/event/planning-commission-32/
LOCATION:Planning Commission\, 102 S Tremont Street\, Tremonton\, UT\, 84337\, United States
CATEGORIES:Planning Commission
END:VEVENT
BEGIN:VEVENT
DTSTART;TZID=America/Denver:20170405T090000
DTEND;TZID=America/Denver:20170405T093000
DTSTAMP:20260423T194205
CREATED:20161208T201027Z
LAST-MODIFIED:20161208T201027Z
UID:16857-1491382800-1491384600@tremontoncity.gov
SUMMARY:Land Use Authority Board
DESCRIPTION:The Land Use Authority Board meets every Wednesday at 9:00 a.m. unless there are no agenda items to discuss.  Click here to see the Land Use Authority Board Agenda.
URL:https://tremontoncity.gov/event/land-use-authority-board-56/
LOCATION:Development Review Committee\, 102 S Tremont Street\, Tremonton\, 84337
CATEGORIES:Land Use Authority Board
END:VEVENT
BEGIN:VEVENT
DTSTART;TZID=America/Denver:20170404T180000
DTEND;TZID=America/Denver:20170404T200000
DTSTAMP:20260423T194205
CREATED:20161208T183740Z
LAST-MODIFIED:20161208T183740Z
UID:16734-1491328800-1491336000@tremontoncity.gov
SUMMARY:City Council
DESCRIPTION:
URL:https://tremontoncity.gov/event/city-council-6/
LOCATION:City Council\, 102 S Tremont St\, Tremonton\, 84337\, United States
CATEGORIES:City Council
END:VEVENT
BEGIN:VEVENT
DTSTART;TZID=America/Denver:20170329T090000
DTEND;TZID=America/Denver:20170329T093000
DTSTAMP:20260423T194205
CREATED:20161208T200848Z
LAST-MODIFIED:20161208T200848Z
UID:16854-1490778000-1490779800@tremontoncity.gov
SUMMARY:Land Use Authority Board
DESCRIPTION:The Land Use Authority Board meets every Wednesday at 9:00 a.m. unless there are no agenda items to discuss.  Click here to see the Land Use Authority Board Agenda.
URL:https://tremontoncity.gov/event/land-use-authority-board-55/
LOCATION:Development Review Committee\, 102 S Tremont Street\, Tremonton\, 84337
CATEGORIES:Land Use Authority Board
END:VEVENT
BEGIN:VEVENT
DTSTART;TZID=America/Denver:20170328T173000
DTEND;TZID=America/Denver:20170328T180000
DTSTAMP:20260423T194205
CREATED:20161208T190626Z
LAST-MODIFIED:20161208T190626Z
UID:16781-1490722200-1490724000@tremontoncity.gov
SUMMARY:Planning Commission
DESCRIPTION:The Planning Commission meets the 2nd\, 4th\, and 5th Tuesdays of each month.  Click here to see the Planning Commission Agenda.
URL:https://tremontoncity.gov/event/planning-commission-31/
CATEGORIES:Planning Commission
END:VEVENT
BEGIN:VEVENT
DTSTART;TZID=America/Denver:20170322T090000
DTEND;TZID=America/Denver:20170322T093000
DTSTAMP:20260423T194205
CREATED:20161208T200757Z
LAST-MODIFIED:20161208T210628Z
UID:16851-1490173200-1490175000@tremontoncity.gov
SUMMARY:Land Use Authority Board
DESCRIPTION:The Land Use Authority Board meets every Wednesday at 9:00 a.m. unless there are no agenda items to discuss.  Click here to see the Land Use Authority Board Agenda.
URL:https://tremontoncity.gov/event/land-use-authority-board-54/
LOCATION:Development Review Committee\, 102 S Tremont Street\, Tremonton\, 84337
CATEGORIES:Land Use Authority Board
END:VEVENT
BEGIN:VEVENT
DTSTART;TZID=America/Denver:20170321T180000
DTEND;TZID=America/Denver:20170321T200000
DTSTAMP:20260423T194205
CREATED:20161208T183651Z
LAST-MODIFIED:20161208T183651Z
UID:16732-1490119200-1490126400@tremontoncity.gov
SUMMARY:City Council
DESCRIPTION:Tremonton City Council meets on the 1st and 3rd Tuesdays of each month. Click here to view City Council agendas.
URL:https://tremontoncity.gov/event/city-council-5/
LOCATION:City Council\, 102 S Tremont St\, Tremonton\, 84337\, United States
CATEGORIES:City Council
END:VEVENT
BEGIN:VEVENT
DTSTART;TZID=America/Denver:20170315T090000
DTEND;TZID=America/Denver:20170315T093000
DTSTAMP:20260423T194205
CREATED:20161208T200654Z
LAST-MODIFIED:20161208T200654Z
UID:16849-1489568400-1489570200@tremontoncity.gov
SUMMARY:Land Use Authority Board
DESCRIPTION:The Land Use Authority Board meets every Wednesday at 9:00 a.m. unless there are no agenda items to discuss.  Click here to see the Land Use Authority Board Agenda.
URL:https://tremontoncity.gov/event/land-use-authority-board-53/
LOCATION:Development Review Committee\, 102 S Tremont Street\, Tremonton\, 84337
CATEGORIES:Land Use Authority Board
END:VEVENT
BEGIN:VEVENT
DTSTART;TZID=America/Denver:20170314T173000
DTEND;TZID=America/Denver:20170314T180000
DTSTAMP:20260423T194205
CREATED:20161208T190536Z
LAST-MODIFIED:20161208T190536Z
UID:16779-1489512600-1489514400@tremontoncity.gov
SUMMARY:Planning Commission
DESCRIPTION:The Planning Commission meets the 2nd\, 4th\, and 5th Tuesdays of each month.  Click here to see the Planning Commission Agenda.
URL:https://tremontoncity.gov/event/planning-commission-30/
LOCATION:Planning Commission\, 102 S Tremont Street\, Tremonton\, UT\, 84337\, United States
CATEGORIES:Planning Commission
END:VEVENT
BEGIN:VEVENT
DTSTART;TZID=America/Denver:20170308T090000
DTEND;TZID=America/Denver:20170308T093000
DTSTAMP:20260423T194205
CREATED:20161208T200611Z
LAST-MODIFIED:20161208T200611Z
UID:16847-1488963600-1488965400@tremontoncity.gov
SUMMARY:Land Use Authority Board
DESCRIPTION:The Land Use Authority Board meets every Wednesday at 9:00 a.m. unless there are no agenda items to discuss.  Click here to see the Land Use Authority Board Agenda.
URL:https://tremontoncity.gov/event/land-use-authority-board-52/
LOCATION:Development Review Committee\, 102 S Tremont Street\, Tremonton\, 84337
CATEGORIES:Land Use Authority Board
END:VEVENT
BEGIN:VEVENT
DTSTART;TZID=America/Denver:20170307T180000
DTEND;TZID=America/Denver:20170307T200000
DTSTAMP:20260423T194205
CREATED:20161208T183604Z
LAST-MODIFIED:20161208T183604Z
UID:16730-1488909600-1488916800@tremontoncity.gov
SUMMARY:City Council
DESCRIPTION:Tremonton City Council meets on the 1st and 3rd Tuesdays of each month. Click here to view City Council agendas.
URL:https://tremontoncity.gov/event/city-council-4/
LOCATION:City Council\, 102 S Tremont St\, Tremonton\, 84337\, United States
CATEGORIES:City Council
END:VEVENT
BEGIN:VEVENT
DTSTART;TZID=America/Denver:20170301T090000
DTEND;TZID=America/Denver:20170301T093000
DTSTAMP:20260423T194205
CREATED:20161208T200519Z
LAST-MODIFIED:20161208T200519Z
UID:16845-1488358800-1488360600@tremontoncity.gov
SUMMARY:Land Use Authority Board
DESCRIPTION:The Land Use Authority Board meets every Wednesday at 9:00 a.m. unless there are no agenda items to discuss.  Click here to see the Land Use Authority Board Agenda.
URL:https://tremontoncity.gov/event/land-use-authority-board-51/
LOCATION:Development Review Committee\, 102 S Tremont Street\, Tremonton\, 84337
CATEGORIES:Land Use Authority Board
END:VEVENT
BEGIN:VEVENT
DTSTART;TZID=America/Denver:20170228T173000
DTEND;TZID=America/Denver:20170228T180000
DTSTAMP:20260423T194205
CREATED:20161208T190406Z
LAST-MODIFIED:20161208T190406Z
UID:16777-1488303000-1488304800@tremontoncity.gov
SUMMARY:Planning  Commission
DESCRIPTION:The Planning Commission meets the 2nd\, 4th\, and 5th Tuesdays of each month.  Click here to see the Planning Commission Agenda.
URL:https://tremontoncity.gov/event/planning-commission-29/
LOCATION:Planning Commission\, 102 S Tremont Street\, Tremonton\, UT\, 84337\, United States
CATEGORIES:Planning Commission
END:VEVENT
BEGIN:VEVENT
DTSTART;TZID=America/Denver:20170222T090000
DTEND;TZID=America/Denver:20170222T093000
DTSTAMP:20260423T194205
CREATED:20161208T200428Z
LAST-MODIFIED:20161208T200428Z
UID:16843-1487754000-1487755800@tremontoncity.gov
SUMMARY:Land Use Authority Board
DESCRIPTION:The Land Use Authority Board meets every Wednesday at 9:00 a.m. unless there are no agenda items to discuss.  Click here to see the Land Use Authority Board Agenda.
URL:https://tremontoncity.gov/event/land-use-authority-board-50/
LOCATION:Development Review Committee\, 102 S Tremont Street\, Tremonton\, 84337
CATEGORIES:Land Use Authority Board
END:VEVENT
BEGIN:VEVENT
DTSTART;TZID=America/Denver:20170221T180000
DTEND;TZID=America/Denver:20170221T200000
DTSTAMP:20260423T194205
CREATED:20161208T183520Z
LAST-MODIFIED:20161208T183520Z
UID:16728-1487700000-1487707200@tremontoncity.gov
SUMMARY:City Council
DESCRIPTION:Tremonton City Council meets on the 1st and 3rd Tuesdays of each month. Click here to view City Council agendas.
URL:https://tremontoncity.gov/event/city-council-3/
LOCATION:City Council\, 102 S Tremont St\, Tremonton\, 84337\, United States
CATEGORIES:City Council
END:VEVENT
BEGIN:VEVENT
DTSTART;TZID=America/Denver:20170218T100000
DTEND;TZID=America/Denver:20170218T230000
DTSTAMP:20260423T194205
CREATED:20170217T181716Z
LAST-MODIFIED:20170217T181825Z
UID:17426-1487412000-1487458800@tremontoncity.gov
SUMMARY:Sandbag Project
DESCRIPTION:Tremonton Emergency Management is sponsoring a sandbag filling party Saturday\, February 18 at 10 am. The goal is to fill 1000 sandbags for deployment within the City or through the County as needed with the upcoming warm temperatures and rain expected.\nPlease take some time Saturday and assist us with meeting this goal. We will meet at the Public Works facility (300 E. 1200 S.) Bring some gloves and a shovel.
URL:https://tremontoncity.gov/event/sandbag-project/
LOCATION:Tremonton Emergency Management\, Tremonton\, UT\, 84337\, United States
END:VEVENT
BEGIN:VEVENT
DTSTART;TZID=America/Denver:20170215T090000
DTEND;TZID=America/Denver:20170215T093000
DTSTAMP:20260423T194205
CREATED:20161208T200343Z
LAST-MODIFIED:20161208T200343Z
UID:16841-1487149200-1487151000@tremontoncity.gov
SUMMARY:Land Use Authority Board
DESCRIPTION:The Land Use Authority Board meets every Wednesday at 9:00 a.m. unless there are no agenda items to discuss.  Click here to see the Land Use Authority Board Agenda.
URL:https://tremontoncity.gov/event/land-use-authority-board-49/
LOCATION:Development Review Committee\, 102 S Tremont Street\, Tremonton\, 84337
CATEGORIES:Land Use Authority Board
END:VEVENT
END:VCALENDAR